Workbook
Name PRIMERCONTRATO: #REF!
Name PRIMERCONTRATO: #REF!
Name SOLOCONTRATOS: OFFSET(#REF!,#REF!-1,0,#REF!,1)
Name SOLOCONTRATOS: OFFSET(#REF!,#REF!-1,0,#REF!,1)
Name SOLOPROGRAMAS: OFFSET(#REF!,0,0,COUNTA(#REF!)-1,1)
Name SOLOPROGRAMAS: OFFSET(#REF!,0,0,COUNTA(#REF!)-1,1)

Sheet Formulario
A1: ANEXO II C LINEA 1 GENERAL
AL4: ERROR
A5: 1.- Datos del interesado
A7: NIF / NIE | C7: Razón social/Nombre
A9: 2.- Especialidades Formativas Solicitadas:
D11: TOTAL SOLICITADO | L11: =SUM(L13:L3959) -> 0
A12: Orden Prioridad | B12: Código de la especialidad | C12: Denominación de la Especialidad | E12: Importe Especialidad | F12: Control | G12: Número Ediciones | H12: Especialidad | I12: Modalidad | J12: Version | K12: Linea | L12: TOTAL SOLICITADO
A13: 1 | C13: =IFERROR(VLOOKUP(B13,Especialidades!A$1:D$570,3,FALSE),"") | E13: =IFERROR(VLOOKUP(B13,Especialidades!A$1:H$570,4,FALSE),"") | F13: =SUMIF(B:B, B13,G:G) -> 0 | H13: =IFERROR(VLOOKUP(B13,Especialidades!A$1:D$570,2,FALSE),"") | I13: =IFERROR(VLOOKUP(B13,Especialidades!A$1:N$570,5,FALSE),"") | J13: =IFERROR(VLOOKUP(B13,Especialidades!A$1:H$570,7,FALSE),"") | K13: =IFERROR(VLOOKUP(B13,Especialidades!A$1:N$570,9,FALSE),"") | L13: =IFERROR((E13*G13),0) -> 0
C14: =IFERROR(VLOOKUP(B14,Especialidades!A$1:D$570,3,FALSE),"") | E14: =IFERROR(VLOOKUP(B14,Especialidades!A$1:H$570,4,FALSE),"") | F14: =SUMIF(B:B, B14,G:G) -> 0 | H14: =IFERROR(VLOOKUP(B14,Especialidades!A$1:D$570,2,FALSE),"") | I14: =IFERROR(VLOOKUP(B14,Especialidades!A$1:N$570,5,FALSE),"") | J14: =IFERROR(VLOOKUP(B14,Especialidades!A$1:H$570,7,FALSE),"") | K14: =IFERROR(VLOOKUP(B14,Especialidades!A$1:N$570,9,FALSE),"") | L14: =IFERROR((E14*G14),0) -> 0
A15: =IF(ISBLANK(B14),"",+A14+1) | C15: =IFERROR(VLOOKUP(B15,Especialidades!A$1:D$570,3,FALSE),"") | E15: =IFERROR(VLOOKUP(B15,Especialidades!A$1:H$570,4,FALSE),"") | F15: =SUMIF(B:B, B15,G:G) -> 0 | H15: =IFERROR(VLOOKUP(B15,Especialidades!A$1:D$570,2,FALSE),"") | I15: =IFERROR(VLOOKUP(B15,Especialidades!A$1:N$570,5,FALSE),"") | J15: =IFERROR(VLOOKUP(B15,Especialidades!A$1:H$570,7,FALSE),"") | K15: =IFERROR(VLOOKUP(B15,Especialidades!A$1:N$570,9,FALSE),"") | L15: =IFERROR((E15*G15),0) -> 0
A16: =IF(ISBLANK(B15),"",+A15+1) | C16: =IFERROR(VLOOKUP(B16,Especialidades!A$1:D$570,3,FALSE),"") | E16: =IFERROR(VLOOKUP(B16,Especialidades!A$1:H$570,4,FALSE),"") | F16: =SUMIF(B:B, B16,G:G) -> 0 | H16: =IFERROR(VLOOKUP(B16,Especialidades!A$1:D$570,2,FALSE),"") | I16: =IFERROR(VLOOKUP(B16,Especialidades!A$1:N$570,5,FALSE),"") | J16: =IFERROR(VLOOKUP(B16,Especialidades!A$1:H$570,7,FALSE),"") | K16: =IFERROR(VLOOKUP(B16,Especialidades!A$1:N$570,9,FALSE),"") | L16: =IFERROR((E16*G16),0) -> 0
A17: =IF(ISBLANK(B16),"",+A16+1) | C17: =IFERROR(VLOOKUP(B17,Especialidades!A$1:D$570,3,FALSE),"") | E17: =IFERROR(VLOOKUP(B17,Especialidades!A$1:H$570,4,FALSE),"") | F17: =SUMIF(B:B, B17,G:G) -> 0 | H17: =IFERROR(VLOOKUP(B17,Especialidades!A$1:D$570,2,FALSE),"") | I17: =IFERROR(VLOOKUP(B17,Especialidades!A$1:N$570,5,FALSE),"") | J17: =IFERROR(VLOOKUP(B17,Especialidades!A$1:H$570,7,FALSE),"") | K17: =IFERROR(VLOOKUP(B17,Especialidades!A$1:N$570,9,FALSE),"") | L17: =IFERROR((E17*G17),0) -> 0
A18: =IF(ISBLANK(B17),"",+A17+1) | C18: =IFERROR(VLOOKUP(B18,Especialidades!A$1:D$570,3,FALSE),"") | E18: =IFERROR(VLOOKUP(B18,Especialidades!A$1:H$570,4,FALSE),"") | F18: =SUMIF(B:B, B18,G:G) -> 0 | H18: =IFERROR(VLOOKUP(B18,Especialidades!A$1:D$570,2,FALSE),"") | I18: =IFERROR(VLOOKUP(B18,Especialidades!A$1:N$570,5,FALSE),"") | J18: =IFERROR(VLOOKUP(B18,Especialidades!A$1:H$570,7,FALSE),"") | K18: =IFERROR(VLOOKUP(B18,Especialidades!A$1:N$570,9,FALSE),"") | L18: =IFERROR((E18*G18),0) -> 0
A19: =IF(ISBLANK(B18),"",+A18+1) | C19: =IFERROR(VLOOKUP(B19,Especialidades!A$1:D$570,3,FALSE),"") | E19: =IFERROR(VLOOKUP(B19,Especialidades!A$1:H$570,4,FALSE),"") | F19: =SUMIF(B:B, B19,G:G) -> 0 | H19: =IFERROR(VLOOKUP(B19,Especialidades!A$1:D$570,2,FALSE),"") | I19: =IFERROR(VLOOKUP(B19,Especialidades!A$1:N$570,5,FALSE),"") | J19: =IFERROR(VLOOKUP(B19,Especialidades!A$1:H$570,7,FALSE),"") | K19: =IFERROR(VLOOKUP(B19,Especialidades!A$1:N$570,9,FALSE),"") | L19: =IFERROR((E19*G19),0) -> 0
A20: =IF(ISBLANK(B19),"",+A19+1) | C20: =IFERROR(VLOOKUP(B20,Especialidades!A$1:D$570,3,FALSE),"") | E20: =IFERROR(VLOOKUP(B20,Especialidades!A$1:H$570,4,FALSE),"") | F20: =SUMIF(B:B, B20,G:G) -> 0 | H20: =IFERROR(VLOOKUP(B20,Especialidades!A$1:D$570,2,FALSE),"") | I20: =IFERROR(VLOOKUP(B20,Especialidades!A$1:N$570,5,FALSE),"") | J20: =IFERROR(VLOOKUP(B20,Especialidades!A$1:H$570,7,FALSE),"") | K20: =IFERROR(VLOOKUP(B20,Especialidades!A$1:N$570,9,FALSE),"") | L20: =IFERROR((E20*G20),0) -> 0
A21: =IF(ISBLANK(B20),"",+A20+1) | C21: =IFERROR(VLOOKUP(B21,Especialidades!A$1:D$570,3,FALSE),"") | E21: =IFERROR(VLOOKUP(B21,Especialidades!A$1:H$570,4,FALSE),"") | F21: =SUMIF(B:B, B21,G:G) -> 0 | H21: =IFERROR(VLOOKUP(B21,Especialidades!A$1:D$570,2,FALSE),"") | I21: =IFERROR(VLOOKUP(B21,Especialidades!A$1:N$570,5,FALSE),"") | J21: =IFERROR(VLOOKUP(B21,Especialidades!A$1:H$570,7,FALSE),"") | K21: =IFERROR(VLOOKUP(B21,Especialidades!A$1:N$570,9,FALSE),"") | L21: =IFERROR((E21*G21),0) -> 0
A22: =IF(ISBLANK(B21),"",+A21+1) | C22: =IFERROR(VLOOKUP(B22,Especialidades!A$1:D$570,3,FALSE),"") | E22: =IFERROR(VLOOKUP(B22,Especialidades!A$1:H$570,4,FALSE),"") | F22: =SUMIF(B:B, B22,G:G) -> 0 | H22: =IFERROR(VLOOKUP(B22,Especialidades!A$1:D$570,2,FALSE),"") | I22: =IFERROR(VLOOKUP(B22,Especialidades!A$1:N$570,5,FALSE),"") | J22: =IFERROR(VLOOKUP(B22,Especialidades!A$1:H$570,7,FALSE),"") | K22: =IFERROR(VLOOKUP(B22,Especialidades!A$1:N$570,9,FALSE),"") | L22: =IFERROR((E22*G22),0) -> 0
A23: =IF(ISBLANK(B22),"",+A22+1) | C23: =IFERROR(VLOOKUP(B23,Especialidades!A$1:D$570,3,FALSE),"") | E23: =IFERROR(VLOOKUP(B23,Especialidades!A$1:H$570,4,FALSE),"") | F23: =SUMIF(B:B, B23,G:G) -> 0 | H23: =IFERROR(VLOOKUP(B23,Especialidades!A$1:D$570,2,FALSE),"") | I23: =IFERROR(VLOOKUP(B23,Especialidades!A$1:N$570,5,FALSE),"") | J23: =IFERROR(VLOOKUP(B23,Especialidades!A$1:H$570,7,FALSE),"") | K23: =IFERROR(VLOOKUP(B23,Especialidades!A$1:N$570,9,FALSE),"") | L23: =IFERROR((E23*G23),0) -> 0
C24: =IFERROR(VLOOKUP(B24,Especialidades!A$1:D$570,3,FALSE),"") | E24: =IFERROR(VLOOKUP(B24,Especialidades!A$1:H$570,4,FALSE),"") | F24: =SUMIF(B:B, B24,G:G) -> 0 | H24: =IFERROR(VLOOKUP(B24,Especialidades!A$1:D$570,2,FALSE),"") | I24: =IFERROR(VLOOKUP(B24,Especialidades!A$1:N$570,5,FALSE),"") | J24: =IFERROR(VLOOKUP(B24,Especialidades!A$1:H$570,7,FALSE),"") | K24: =IFERROR(VLOOKUP(B24,Especialidades!A$1:N$570,9,FALSE),"") | L24: =IFERROR((E24*G24),0) -> 0
A25: =IF(ISBLANK(B24),"",+A24+1) | C25: =IFERROR(VLOOKUP(B25,Especialidades!A$1:D$570,3,FALSE),"") | E25: =IFERROR(VLOOKUP(B25,Especialidades!A$1:H$570,4,FALSE),"") | F25: =SUMIF(B:B, B25,G:G) -> 0 | H25: =IFERROR(VLOOKUP(B25,Especialidades!A$1:D$570,2,FALSE),"") | I25: =IFERROR(VLOOKUP(B25,Especialidades!A$1:N$570,5,FALSE),"") | J25: =IFERROR(VLOOKUP(B25,Especialidades!A$1:H$570,7,FALSE),"") | K25: =IFERROR(VLOOKUP(B25,Especialidades!A$1:N$570,9,FALSE),"") | L25: =IFERROR((E25*G25),0) -> 0
A26: =IF(ISBLANK(B25),"",+A25+1) | C26: =IFERROR(VLOOKUP(B26,Especialidades!A$1:D$570,3,FALSE),"") | E26: =IFERROR(VLOOKUP(B26,Especialidades!A$1:H$570,4,FALSE),"") | F26: =SUMIF(B:B, B26,G:G) -> 0 | H26: =IFERROR(VLOOKUP(B26,Especialidades!A$1:D$570,2,FALSE),"") | I26: =IFERROR(VLOOKUP(B26,Especialidades!A$1:N$570,5,FALSE),"") | J26: =IFERROR(VLOOKUP(B26,Especialidades!A$1:H$570,7,FALSE),"") | K26: =IFERROR(VLOOKUP(B26,Especialidades!A$1:N$570,9,FALSE),"") | L26: =IFERROR((E26*G26),0) -> 0
A27: =IF(ISBLANK(B26),"",+A26+1) | C27: =IFERROR(VLOOKUP(B27,Especialidades!A$1:D$570,3,FALSE),"") | E27: =IFERROR(VLOOKUP(B27,Especialidades!A$1:H$570,4,FALSE),"") | F27: =SUMIF(B:B, B27,G:G) -> 0 | H27: =IFERROR(VLOOKUP(B27,Especialidades!A$1:D$570,2,FALSE),"") | I27: =IFERROR(VLOOKUP(B27,Especialidades!A$1:N$570,5,FALSE),"") | J27: =IFERROR(VLOOKUP(B27,Especialidades!A$1:H$570,7,FALSE),"") | K27: =IFERROR(VLOOKUP(B27,Especialidades!A$1:N$570,9,FALSE),"") | L27: =IFERROR((E27*G27),0) -> 0
A28: =IF(ISBLANK(B27),"",+A27+1) | C28: =IFERROR(VLOOKUP(B28,Especialidades!A$1:D$570,3,FALSE),"") | E28: =IFERROR(VLOOKUP(B28,Especialidades!A$1:H$570,4,FALSE),"") | F28: =SUMIF(B:B, B28,G:G) -> 0 | H28: =IFERROR(VLOOKUP(B28,Especialidades!A$1:D$570,2,FALSE),"") | I28: =IFERROR(VLOOKUP(B28,Especialidades!A$1:N$570,5,FALSE),"") | J28: =IFERROR(VLOOKUP(B28,Especialidades!A$1:H$570,7,FALSE),"") | K28: =IFERROR(VLOOKUP(B28,Especialidades!A$1:N$570,9,FALSE),"") | L28: =IFERROR((E28*G28),0) -> 0
A29: =IF(ISBLANK(B28),"",+A28+1) | C29: =IFERROR(VLOOKUP(B29,Especialidades!A$1:D$570,3,FALSE),"") | E29: =IFERROR(VLOOKUP(B29,Especialidades!A$1:H$570,4,FALSE),"") | F29: =SUMIF(B:B, B29,G:G) -> 0 | H29: =IFERROR(VLOOKUP(B29,Especialidades!A$1:D$570,2,FALSE),"") | I29: =IFERROR(VLOOKUP(B29,Especialidades!A$1:N$570,5,FALSE),"") | J29: =IFERROR(VLOOKUP(B29,Especialidades!A$1:H$570,7,FALSE),"") | K29: =IFERROR(VLOOKUP(B29,Especialidades!A$1:N$570,9,FALSE),"") | L29: =IFERROR((E29*G29),0) -> 0
A30: =IF(ISBLANK(B29),"",+A29+1) | C30: =IFERROR(VLOOKUP(B30,Especialidades!A$1:D$570,3,FALSE),"") | E30: =IFERROR(VLOOKUP(B30,Especialidades!A$1:H$570,4,FALSE),"") | F30: =SUMIF(B:B, B30,G:G) -> 0 | H30: =IFERROR(VLOOKUP(B30,Especialidades!A$1:D$570,2,FALSE),"") | I30: =IFERROR(VLOOKUP(B30,Especialidades!A$1:N$570,5,FALSE),"") | J30: =IFERROR(VLOOKUP(B30,Especialidades!A$1:H$570,7,FALSE),"") | K30: =IFERROR(VLOOKUP(B30,Especialidades!A$1:N$570,9,FALSE),"") | L30: =IFERROR((E30*G30),0) -> 0
A31: =IF(ISBLANK(B30),"",+A30+1) | C31: =IFERROR(VLOOKUP(B31,Especialidades!A$1:D$570,3,FALSE),"") | E31: =IFERROR(VLOOKUP(B31,Especialidades!A$1:H$570,4,FALSE),"") | F31: =SUMIF(B:B, B31,G:G) -> 0 | H31: =IFERROR(VLOOKUP(B31,Especialidades!A$1:D$570,2,FALSE),"") | I31: =IFERROR(VLOOKUP(B31,Especialidades!A$1:N$570,5,FALSE),"") | J31: =IFERROR(VLOOKUP(B31,Especialidades!A$1:H$570,7,FALSE),"") | K31: =IFERROR(VLOOKUP(B31,Especialidades!A$1:N$570,9,FALSE),"") | L31: =IFERROR((E31*G31),0) -> 0
A32: =IF(ISBLANK(B31),"",+A31+1) | C32: =IFERROR(VLOOKUP(B32,Especialidades!A$1:D$570,3,FALSE),"") | E32: =IFERROR(VLOOKUP(B32,Especialidades!A$1:H$570,4,FALSE),"") | F32: =SUMIF(B:B, B32,G:G) -> 0 | H32: =IFERROR(VLOOKUP(B32,Especialidades!A$1:D$570,2,FALSE),"") | I32: =IFERROR(VLOOKUP(B32,Especialidades!A$1:N$570,5,FALSE),"") | J32: =IFERROR(VLOOKUP(B32,Especialidades!A$1:H$570,7,FALSE),"") | K32: =IFERROR(VLOOKUP(B32,Especialidades!A$1:N$570,9,FALSE),"") | L32: =IFERROR((E32*G32),0) -> 0
A33: =IF(ISBLANK(B32),"",+A32+1) | E33: =IFERROR(VLOOKUP(B33,Especialidades!A$1:H$570,4,FALSE),"") | F33: =SUMIF(B:B, B33,G:G) -> 0 | H33: =IFERROR(VLOOKUP(B33,Especialidades!A$1:D$570,2,FALSE),"") | I33: =IFERROR(VLOOKUP(B33,Especialidades!A$1:N$570,5,FALSE),"") | J33: =IFERROR(VLOOKUP(B33,Especialidades!A$1:H$570,7,FALSE),"") | K33: =IFERROR(VLOOKUP(B33,Especialidades!A$1:N$570,9,FALSE),"")
E34: =IFERROR(VLOOKUP(B34,Especialidades!A$1:H$570,4,FALSE),"") | F34: =SUMIF(B:B, B34,G:G) -> 0 | H34: =IFERROR(VLOOKUP(B34,Especialidades!A$1:D$570,2,FALSE),"") | I34: =IFERROR(VLOOKUP(B34,Especialidades!A$1:N$570,5,FALSE),"") | J34: =IFERROR(VLOOKUP(B34,Especialidades!A$1:H$570,7,FALSE),"") | K34: =IFERROR(VLOOKUP(B34,Especialidades!A$1:N$570,9,FALSE),"") | L34: =IFERROR((E34*G34),0) -> 0
E35: =IFERROR(VLOOKUP(B35,Especialidades!A$1:H$570,4,FALSE),"") | F35: =SUMIF(B:B, B35,G:G) -> 0 | H35: =IFERROR(VLOOKUP(B35,Especialidades!A$1:D$570,2,FALSE),"") | I35: =IFERROR(VLOOKUP(B35,Especialidades!A$1:N$570,5,FALSE),"") | J35: =IFERROR(VLOOKUP(B35,Especialidades!A$1:H$570,7,FALSE),"") | K35: =IFERROR(VLOOKUP(B35,Especialidades!A$1:N$570,9,FALSE),"") | L35: =IFERROR((E35*G35),0) -> 0
A36: =IF(ISBLANK(B35),"",+A35+1) | E36: =IFERROR(VLOOKUP(B36,Especialidades!A$1:H$570,4,FALSE),"") | F36: =SUMIF(B:B, B36,G:G) -> 0 | H36: =IFERROR(VLOOKUP(B36,Especialidades!A$1:D$570,2,FALSE),"") | I36: =IFERROR(VLOOKUP(B36,Especialidades!A$1:N$570,5,FALSE),"") | J36: =IFERROR(VLOOKUP(B36,Especialidades!A$1:H$570,7,FALSE),"") | K36: =IFERROR(VLOOKUP(B36,Especialidades!A$1:N$570,9,FALSE),"") | L36: =IFERROR((E36*G36),0) -> 0
C37: =IFERROR(VLOOKUP(B37,Especialidades!A$1:D$570,3,FALSE),"") | E37: =IFERROR(VLOOKUP(B37,Especialidades!A$1:H$570,4,FALSE),"") | F37: =SUMIF(B:B, B37,G:G) -> 0 | H37: =IFERROR(VLOOKUP(B37,Especialidades!A$1:D$570,2,FALSE),"") | I37: =IFERROR(VLOOKUP(B37,Especialidades!A$1:N$570,5,FALSE),"") | J37: =IFERROR(VLOOKUP(B37,Especialidades!A$1:H$570,7,FALSE),"") | K37: =IFERROR(VLOOKUP(B37,Especialidades!A$1:N$570,9,FALSE),"") | L37: =IFERROR((E37*G37),0) -> 0
A38: =IF(ISBLANK(B37),"",+A37+1) | E38: =IFERROR(VLOOKUP(B38,Especialidades!A$1:H$570,4,FALSE),"") | F38: =SUMIF(B:B, B38,G:G) -> 0 | H38: =IFERROR(VLOOKUP(B38,Especialidades!A$1:D$570,2,FALSE),"") | I38: =IFERROR(VLOOKUP(B38,Especialidades!A$1:N$570,5,FALSE),"") | J38: =IFERROR(VLOOKUP(B38,Especialidades!A$1:H$570,7,FALSE),"") | K38: =IFERROR(VLOOKUP(B38,Especialidades!A$1:N$570,9,FALSE),"") | L38: =IFERROR((E38*G38),0) -> 0
A39: =IF(ISBLANK(B38),"",+A38+1) | F39: =SUMIF(B:B, B39,G:G) -> 0 | H39: =IFERROR(VLOOKUP(B39,Especialidades!A$1:D$570,2,FALSE),"") | I39: =IFERROR(VLOOKUP(B39,Especialidades!A$1:N$570,5,FALSE),"") | J39: =IFERROR(VLOOKUP(B39,Especialidades!A$1:H$570,7,FALSE),"") | K39: =IFERROR(VLOOKUP(B39,Especialidades!A$1:N$570,9,FALSE),"") | L39: =IFERROR((E39*G39),0) -> 0
C40: =IFERROR(VLOOKUP(B40,Especialidades!A$1:D$570,3,FALSE),"") | E40: =IFERROR(VLOOKUP(B40,Especialidades!A$1:H$570,4,FALSE),"") | F40: =SUMIF(B:B, B40,G:G) -> 0 | H40: =IFERROR(VLOOKUP(B40,Especialidades!A$1:D$570,2,FALSE),"") | I40: =IFERROR(VLOOKUP(B40,Especialidades!A$1:N$570,5,FALSE),"") | J40: =IFERROR(VLOOKUP(B40,Especialidades!A$1:H$570,7,FALSE),"") | K40: =IFERROR(VLOOKUP(B40,Especialidades!A$1:N$570,9,FALSE),"") | L40: =IFERROR((E40*G40),0) -> 0
C41: =IFERROR(VLOOKUP(B41,Especialidades!A$1:D$570,3,FALSE),"") | E41: =IFERROR(VLOOKUP(B41,Especialidades!A$1:H$570,4,FALSE),"") | F41: =SUMIF(B:B, B41,G:G) -> 0 | H41: =IFERROR(VLOOKUP(B41,Especialidades!A$1:D$570,2,FALSE),"") | I41: =IFERROR(VLOOKUP(B41,Especialidades!A$1:N$570,5,FALSE),"") | J41: =IFERROR(VLOOKUP(B41,Especialidades!A$1:H$570,7,FALSE),"") | K41: =IFERROR(VLOOKUP(B41,Especialidades!A$1:N$570,9,FALSE),"") | L41: =IFERROR((E41*G41),0) -> 0
C42: =IFERROR(VLOOKUP(B42,Especialidades!A$1:D$570,3,FALSE),"") | E42: =IFERROR(VLOOKUP(B42,Especialidades!A$1:H$570,4,FALSE),"") | F42: =SUMIF(B:B, B42,G:G) -> 0 | H42: =IFERROR(VLOOKUP(B42,Especialidades!A$1:D$570,2,FALSE),"") | I42: =IFERROR(VLOOKUP(B42,Especialidades!A$1:N$570,5,FALSE),"") | J42: =IFERROR(VLOOKUP(B42,Especialidades!A$1:H$570,7,FALSE),"") | K42: =IFERROR(VLOOKUP(B42,Especialidades!A$1:N$570,9,FALSE),"") | L42: =IFERROR((E42*G42),0) -> 0
C43: =IFERROR(VLOOKUP(B43,Especialidades!A$1:D$570,3,FALSE),"") | E43: =IFERROR(VLOOKUP(B43,Especialidades!A$1:H$570,4,FALSE),"") | F43: =SUMIF(B:B, B43,G:G) -> 0 | H43: =IFERROR(VLOOKUP(B43,Especialidades!A$1:D$570,2,FALSE),"") | I43: =IFERROR(VLOOKUP(B43,Especialidades!A$1:N$570,5,FALSE),"") | J43: =IFERROR(VLOOKUP(B43,Especialidades!A$1:H$570,7,FALSE),"") | K43: =IFERROR(VLOOKUP(B43,Especialidades!A$1:N$570,9,FALSE),"") | L43: =IFERROR((E43*G43),0) -> 0
C44: =IFERROR(VLOOKUP(B44,Especialidades!A$1:D$570,3,FALSE),"") | E44: =IFERROR(VLOOKUP(B44,Especialidades!A$1:H$570,4,FALSE),"") | F44: =SUMIF(B:B, B44,G:G) -> 0 | H44: =IFERROR(VLOOKUP(B44,Especialidades!A$1:D$570,2,FALSE),"") | I44: =IFERROR(VLOOKUP(B44,Especialidades!A$1:N$570,5,FALSE),"") | J44: =IFERROR(VLOOKUP(B44,Especialidades!A$1:H$570,7,FALSE),"") | K44: =IFERROR(VLOOKUP(B44,Especialidades!A$1:N$570,9,FALSE),"") | L44: =IFERROR((E44*G44),0) -> 0
C45: =IFERROR(VLOOKUP(B45,Especialidades!A$1:D$570,3,FALSE),"") | E45: =IFERROR(VLOOKUP(B45,Especialidades!A$1:H$570,4,FALSE),"") | F45: =SUMIF(B:B, B45,G:G) -> 0 | H45: =IFERROR(VLOOKUP(B45,Especialidades!A$1:D$570,2,FALSE),"") | I45: =IFERROR(VLOOKUP(B45,Especialidades!A$1:N$570,5,FALSE),"") | J45: =IFERROR(VLOOKUP(B45,Especialidades!A$1:H$570,7,FALSE),"") | K45: =IFERROR(VLOOKUP(B45,Especialidades!A$1:N$570,9,FALSE),"") | L45: =IFERROR((E45*G45),0) -> 0
A46: =IF(ISBLANK(B45),"",+A45+1) | C46: =IFERROR(VLOOKUP(B46,Especialidades!A$1:D$570,3,FALSE),"") | E46: =IFERROR(VLOOKUP(B46,Especialidades!A$1:H$570,4,FALSE),"") | F46: =SUMIF(B:B, B46,G:G) -> 0 | H46: =IFERROR(VLOOKUP(B46,Especialidades!A$1:D$570,2,FALSE),"") | I46: =IFERROR(VLOOKUP(B46,Especialidades!A$1:N$570,5,FALSE),"") | J46: =IFERROR(VLOOKUP(B46,Especialidades!A$1:H$570,7,FALSE),"") | K46: =IFERROR(VLOOKUP(B46,Especialidades!A$1:N$570,9,FALSE),"") | L46: =IFERROR((E46*G46),0) -> 0
A47: =IF(ISBLANK(B46),"",+A46+1) | C47: =IFERROR(VLOOKUP(B47,Especialidades!A$1:D$570,3,FALSE),"") | E47: =IFERROR(VLOOKUP(B47,Especialidades!A$1:H$570,4,FALSE),"") | F47: =SUMIF(B:B, B47,G:G) -> 0 | H47: =IFERROR(VLOOKUP(B47,Especialidades!A$1:D$570,2,FALSE),"") | I47: =IFERROR(VLOOKUP(B47,Especialidades!A$1:N$570,5,FALSE),"") | J47: =IFERROR(VLOOKUP(B47,Especialidades!A$1:H$570,7,FALSE),"") | K47: =IFERROR(VLOOKUP(B47,Especialidades!A$1:N$570,9,FALSE),"") | L47: =IFERROR((E47*G47),0) -> 0
A48: =IF(ISBLANK(B47),"",+A47+1) | C48: =IFERROR(VLOOKUP(B48,Especialidades!A$1:D$570,3,FALSE),"") | E48: =IFERROR(VLOOKUP(B48,Especialidades!A$1:H$570,4,FALSE),"") | F48: =SUMIF(B:B, B48,G:G) -> 0 | H48: =IFERROR(VLOOKUP(B48,Especialidades!A$1:D$570,2,FALSE),"") | I48: =IFERROR(VLOOKUP(B48,Especialidades!A$1:N$570,5,FALSE),"") | J48: =IFERROR(VLOOKUP(B48,Especialidades!A$1:H$570,7,FALSE),"") | K48: =IFERROR(VLOOKUP(B48,Especialidades!A$1:N$570,9,FALSE),"") | L48: =IFERROR((E48*G48),0) -> 0
A49: =IF(ISBLANK(B48),"",+A48+1) | C49: =IFERROR(VLOOKUP(B49,Especialidades!A$1:D$570,3,FALSE),"") | E49: =IFERROR(VLOOKUP(B49,Especialidades!A$1:H$570,4,FALSE),"") | F49: =SUMIF(B:B, B49,G:G) -> 0 | H49: =IFERROR(VLOOKUP(B49,Especialidades!A$1:D$570,2,FALSE),"") | I49: =IFERROR(VLOOKUP(B49,Especialidades!A$1:N$570,5,FALSE),"") | J49: =IFERROR(VLOOKUP(B49,Especialidades!A$1:H$570,7,FALSE),"") | K49: =IFERROR(VLOOKUP(B49,Especialidades!A$1:N$570,9,FALSE),"") | L49: =IFERROR((E49*G49),0) -> 0
A50: =IF(ISBLANK(B49),"",+A49+1) | C50: =IFERROR(VLOOKUP(B50,Especialidades!A$1:D$570,3,FALSE),"") | E50: =IFERROR(VLOOKUP(B50,Especialidades!A$1:H$570,4,FALSE),"") | F50: =SUMIF(B:B, B50,G:G) -> 0 | H50: =IFERROR(VLOOKUP(B50,Especialidades!A$1:D$570,2,FALSE),"") | I50: =IFERROR(VLOOKUP(B50,Especialidades!A$1:N$570,5,FALSE),"") | J50: =IFERROR(VLOOKUP(B50,Especialidades!A$1:H$570,7,FALSE),"") | K50: =IFERROR(VLOOKUP(B50,Especialidades!A$1:N$570,9,FALSE),"") | L50: =IFERROR((E50*G50),0) -> 0
A51: =IF(ISBLANK(B50),"",+A50+1) | C51: =IFERROR(VLOOKUP(B51,Especialidades!A$1:D$570,3,FALSE),"") | E51: =IFERROR(VLOOKUP(B51,Especialidades!A$1:H$570,4,FALSE),"") | F51: =SUMIF(B:B, B51,G:G) -> 0 | H51: =IFERROR(VLOOKUP(B51,Especialidades!A$1:D$570,2,FALSE),"") | I51: =IFERROR(VLOOKUP(B51,Especialidades!A$1:N$570,5,FALSE),"") | J51: =IFERROR(VLOOKUP(B51,Especialidades!A$1:H$570,7,FALSE),"") | K51: =IFERROR(VLOOKUP(B51,Especialidades!A$1:N$570,9,FALSE),"") | L51: =IFERROR((E51*G51),0) -> 0
A52: =IF(ISBLANK(B51),"",+A51+1) | C52: =IFERROR(VLOOKUP(B52,Especialidades!A$1:D$570,3,FALSE),"") | E52: =IFERROR(VLOOKUP(B52,Especialidades!A$1:H$570,4,FALSE),"") | F52: =SUMIF(B:B, B52,G:G) -> 0 | H52: =IFERROR(VLOOKUP(B52,Especialidades!A$1:D$570,2,FALSE),"") | I52: =IFERROR(VLOOKUP(B52,Especialidades!A$1:N$570,5,FALSE),"") | J52: =IFERROR(VLOOKUP(B52,Especialidades!A$1:H$570,7,FALSE),"") | K52: =IFERROR(VLOOKUP(B52,Especialidades!A$1:N$570,9,FALSE),"") | L52: =IFERROR((E52*G52),0) -> 0
A53: =IF(ISBLANK(B52),"",+A52+1) | C53: =IFERROR(VLOOKUP(B53,Especialidades!A$1:D$570,3,FALSE),"") | E53: =IFERROR(VLOOKUP(B53,Especialidades!A$1:H$570,4,FALSE),"") | F53: =SUMIF(B:B, B53,G:G) -> 0 | H53: =IFERROR(VLOOKUP(B53,Especialidades!A$1:D$570,2,FALSE),"") | I53: =IFERROR(VLOOKUP(B53,Especialidades!A$1:N$570,5,FALSE),"") | J53: =IFERROR(VLOOKUP(B53,Especialidades!A$1:H$570,7,FALSE),"") | K53: =IFERROR(VLOOKUP(B53,Especialidades!A$1:N$570,9,FALSE),"") | L53: =IFERROR((E53*G53),0) -> 0
A54: =IF(ISBLANK(B53),"",+A53+1) | C54: =IFERROR(VLOOKUP(B54,Especialidades!A$1:D$570,3,FALSE),"") | E54: =IFERROR(VLOOKUP(B54,Especialidades!A$1:H$570,4,FALSE),"") | F54: =SUMIF(B:B, B54,G:G) -> 0 | H54: =IFERROR(VLOOKUP(B54,Especialidades!A$1:D$570,2,FALSE),"") | I54: =IFERROR(VLOOKUP(B54,Especialidades!A$1:N$570,5,FALSE),"") | J54: =IFERROR(VLOOKUP(B54,Especialidades!A$1:H$570,7,FALSE),"") | K54: =IFERROR(VLOOKUP(B54,Especialidades!A$1:N$570,9,FALSE),"") | L54: =IFERROR((E54*G54),0) -> 0
A55: =IF(ISBLANK(B54),"",+A54+1) | C55: =IFERROR(VLOOKUP(B55,Especialidades!A$1:D$570,3,FALSE),"") | E55: =IFERROR(VLOOKUP(B55,Especialidades!A$1:H$570,4,FALSE),"") | F55: =SUMIF(B:B, B55,G:G) -> 0 | H55: =IFERROR(VLOOKUP(B55,Especialidades!A$1:D$570,2,FALSE),"") | I55: =IFERROR(VLOOKUP(B55,Especialidades!A$1:N$570,5,FALSE),"") | J55: =IFERROR(VLOOKUP(B55,Especialidades!A$1:H$570,7,FALSE),"") | K55: =IFERROR(VLOOKUP(B55,Especialidades!A$1:N$570,9,FALSE),"") | L55: =IFERROR((E55*G55),0) -> 0
A56: =IF(ISBLANK(B55),"",+A55+1) | C56: =IFERROR(VLOOKUP(B56,Especialidades!A$1:D$570,3,FALSE),"") | E56: =IFERROR(VLOOKUP(B56,Especialidades!A$1:H$570,4,FALSE),"") | F56: =SUMIF(B:B, B56,G:G) -> 0 | H56: =IFERROR(VLOOKUP(B56,Especialidades!A$1:D$570,2,FALSE),"") | I56: =IFERROR(VLOOKUP(B56,Especialidades!A$1:N$570,5,FALSE),"") | J56: =IFERROR(VLOOKUP(B56,Especialidades!A$1:H$570,7,FALSE),"") | K56: =IFERROR(VLOOKUP(B56,Especialidades!A$1:N$570,9,FALSE),"") | L56: =IFERROR((E56*G56),0) -> 0
A57: =IF(ISBLANK(B56),"",+A56+1) | C57: =IFERROR(VLOOKUP(B57,Especialidades!A$1:D$570,3,FALSE),"") | E57: =IFERROR(VLOOKUP(B57,Especialidades!A$1:H$570,4,FALSE),"") | F57: =SUMIF(B:B, B57,G:G) -> 0 | H57: =IFERROR(VLOOKUP(B57,Especialidades!A$1:D$570,2,FALSE),"") | I57: =IFERROR(VLOOKUP(B57,Especialidades!A$1:N$570,5,FALSE),"") | J57: =IFERROR(VLOOKUP(B57,Especialidades!A$1:H$570,7,FALSE),"") | K57: =IFERROR(VLOOKUP(B57,Especialidades!A$1:N$570,9,FALSE),"") | L57: =IFERROR((E57*G57),0) -> 0
... A3959: =IF(ISBLANK(B3958),"",+A3958+1) | C3959: =IFERROR(VLOOKUP(B3959,Especialidades!A$1:D$570,3,FALSE),"") | E3959: =IFERROR(VLOOKUP(B3959,Especialidades!A$1:H$570,4,FALSE),"") | F3959: =SUMIF(B:B, B3959,G:G) -> 0 | H3959: =IFERROR(VLOOKUP(B3959,Especialidades!A$1:D$570,2,FALSE),"") | I3959: =IFERROR(VLOOKUP(B3959,Especialidades!A$1:N$570,5,FALSE),"") | J3959: =IFERROR(VLOOKUP(B3959,Especialidades!A$1:H$570,7,FALSE),"") | K3959: =IFERROR(VLOOKUP(B3959,Especialidades!A$1:N$570,9,FALSE),"") | L3959: =IFERROR((E3959*G3959),0) -> 0

Sheet Instrucciones
A4: El campo orden de prioridad se completará automáticamente, y constituirá el orden de prelación en la petición de las especialidades.
A5: El código de especialidad se seleccionará del desplegable disponible para cada celda y automáticamente se rellenará el campo de Denominación de la Especialidad. Para cada especialidad se completará la modalidad de impartición y el número de ediciones que se solicitan, siendo 4 el máximo de ediciones que se pueden solicitar por modalidad.
A6: Se podrá solicitar hasta un máximo de 2.800.000€ y 4 ediciones de cada código de especialidad.
A8: ESTE DOCUMENTO DEBERÁ PRESENTARSE EN FORMATO EXCEL Y UNA COPIA EN PDF FIRMADO POR EL/LOS REPRESENTANTE/S

Sheet Especialidades
A1: =F1&"-"&E1 -> ADG_C_001_3B-PRESENCIAL | B1: ADG_C_001_3B | C1: Actividades de grabación, reproducción y tratamiento de datos y documentos | D1: 98142.75 | E1: PRESENCIAL | F1: ADG_C_001_3B | H1: 795 | I1: 1
A2: =F2&"-"&E2 -> ADG_C_001_3B-VIRTUAL (TELEFORMACIÓN) | B2: ADG_C_001_3B | C2: Actividades de grabación, reproducción y tratamiento de datos y documentos | D2: 66183.75 | E2: VIRTUAL (TELEFORMACIÓN) | F2: ADG_C_001_3B | H2: 795 | I2: 1
A3: =F3&"-"&E3 -> ADG_C_001_4B-PRESENCIAL | B3: ADG_C_001_4B | C3: Actividades administrativas de recepción y relación con el cliente | D3: 78390.75 | E3: PRESENCIAL | F3: ADG_C_001_4B | H3: 635 | I3: 1
A4: =F4&"-"&E4 -> ADG_C_001_4B-VIRTUAL (TELEFORMACIÓN) | B4: ADG_C_001_4B | C4: Actividades administrativas de recepción y relación con el cliente | D4: 52863.75 | E4: VIRTUAL (TELEFORMACIÓN) | F4: ADG_C_001_4B | H4: 635 | I4: 1
A5: =F5&"-"&E5 -> ADG_C_001_5B-PRESENCIAL | B5: ADG_C_001_5B | C5: Asistencia a la dirección en la gestión de la comunicación de la empresa | D5: 91353 | E5: PRESENCIAL | F5: ADG_C_001_5B | H5: 740 | I5: 1
A6: =F6&"-"&E6 -> ADG_C_001_5B-VIRTUAL (TELEFORMACIÓN) | B6: ADG_C_001_5B | C6: Asistencia a la dirección en la gestión de la comunicación de la empresa | D6: 61605 | E6: VIRTUAL (TELEFORMACIÓN) | F6: ADG_C_001_5B | H6: 740 | I6: 1
A7: =F7&"-"&E7 -> ADG_C_002_3B-PRESENCIAL | B7: ADG_C_002_3B | C7: Operaciones administrativas básicas | D7: 88266.75 | E7: PRESENCIAL | F7: ADG_C_002_3B | H7: 715 | I7: 1
A8: =F8&"-"&E8 -> ADG_C_002_3B-VIRTUAL (TELEFORMACIÓN) | B8: ADG_C_002_3B | C8: Operaciones administrativas básicas | D8: 59523.75 | E8: VIRTUAL (TELEFORMACIÓN) | F8: ADG_C_002_3B | H8: 715 | I8: 1
A9: =F9&"-"&E9 -> ADG_C_002_4B-PRESENCIAL | B9: ADG_C_002_4B | C9: Actividades de apoyo administrativo en el ámbito contable, financiero y fiscal | D9: 99377.25 | E9: PRESENCIAL | F9: ADG_C_002_4B | H9: 805 | I9: 1
A10: =F10&"-"&E10 -> ADG_C_002_4B-VIRTUAL (TELEFORMACIÓN) | B10: ADG_C_002_4B | C10: Actividades de apoyo administrativo en el ámbito contable, financiero y fiscal | D10: 67016.25 | E10: VIRTUAL (TELEFORMACIÓN) | F10: ADG_C_002_4B | H10: 805 | I10: 1
A11: =F11&"-"&E11 -> ADG_C_002_5B-PRESENCIAL | B11: ADG_C_002_5B | C11: Protocolo, organización de eventos empresariales | D11: 95056.5 | E11: PRESENCIAL | F11: ADG_C_002_5B | H11: 770 | I11: 1
A12: =F12&"-"&E12 -> ADG_C_002_5B-VIRTUAL (TELEFORMACIÓN) | B12: ADG_C_002_5B | C12: Protocolo, organización de eventos empresariales | D12: 64102.5 | E12: VIRTUAL (TELEFORMACIÓN) | F12: ADG_C_002_5B | H12: 770 | I12: 1
... A121: =F121&"-"&E121 -> ARTU0212-PRESENCIAL | B121: ARTU0212 | C121: Asistencia a la dirección técnica de espectáculos en vivo y eventos | D121: 63202.5 | E121: PRESENCIAL | F121: ARTU0212 | H121: 530 | I121: 1
A122: =F122&"-"&E122 -> CÓDIGO ESPECIALIADAD-Modalidad Convocatoria 2026 | B122: CÓDIGO ESPECIALIADAD | C122: DENOMINACIÓN ESPECIALIDAD | D122: Prio DEFIN DESEMPLEADOS | E122: Modalidad Convocatoria 2026 | F122: CÓDIGO ESPECIALIADAD | G122: version | H122: horas totales | I122: 1
A123: =F123&"-"&E123 -> COM_C_001_3B-PRESENCIAL | B123: COM_C_001_3B | C123: Actividades auxiliares de almacenaje | D123: 90775.5 | E123: PRESENCIAL | F123: COM_C_001_3B | H123: 730 | I123: 1
A124: =F124&"-"&E124 -> COM_C_001_3B-VIRTUAL (TELEFORMACIÓN) | B124: COM_C_001_3B | C124: Actividades auxiliares de almacenaje | D124: 60882 | E124: VIRTUAL (TELEFORMACIÓN) | F124: COM_C_001_3B | H124: 730 | I124: 1
A125: =F125&"-"&E125 -> COM_C_001_4B-PRESENCIAL | B125: COM_C_001_4B | C125: Actividades de planificación, gestión y logística de un pequeño comercio físico u online | D125: 82071 | E125: PRESENCIAL | F125: COM_C_001_4B | H125: 660 | I125: 1
A126: =F126&"-"&E126 -> COM_C_001_4B-VIRTUAL (TELEFORMACIÓN) | B126: COM_C_001_4B | C126: Actividades de planificación, gestión y logística de un pequeño comercio físico u online | D126: 55044 | E126: VIRTUAL (TELEFORMACIÓN) | F126: COM_C_001_4B | H126: 660 | I126: 1
A127: =F127&"-"&E127 -> COM_C_001_5B-PRESENCIAL | B127: COM_C_001_5B | C127: Investigación de mercados y estudios de opinión | D127: 89532 | E127: PRESENCIAL | F127: COM_C_001_5B | H127: 720 | I127: 1
A128: =F128&"-"&E128 -> COM_C_001_5B-VIRTUAL (TELEFORMACIÓN) | B128: COM_C_001_5B | C128: Investigación de mercados y estudios de opinión | D128: 60048 | E128: VIRTUAL (TELEFORMACIÓN) | F128: COM_C_001_5B | H128: 720 | I128: 1
A129: =F129&"-"&E129 -> COM_C_002_3B-PRESENCIAL | B129: COM_C_002_3B | C129: Actividades auxiliares de venta y atención al cliente | D129: 95749.5 | E129: PRESENCIAL | F129: COM_C_002_3B | H129: 770 | I129: 1
A130: =F130&"-"&E130 -> COM_C_002_3B-VIRTUAL (TELEFORMACIÓN) | B130: COM_C_002_3B | C130: Actividades auxiliares de venta y atención al cliente | D130: 64218 | E130: VIRTUAL (TELEFORMACIÓN) | F130: COM_C_002_3B | H130: 770 | I130: 1
A131: =F131&"-"&E131 -> COM_C_002_4B-PRESENCIAL | B131: COM_C_002_4B | C131: Actividades de comercialización y venta en un comercio físico u online | D131: 98236.5 | E131: PRESENCIAL | F131: COM_C_002_4B | H131: 790 | I131: 1
A132: =F132&"-"&E132 -> COM_C_002_4B-VIRTUAL (TELEFORMACIÓN) | B132: COM_C_002_4B | C132: Actividades de comercialización y venta en un comercio físico u online | D132: 65886 | E132: VIRTUAL (TELEFORMACIÓN) | F132: COM_C_002_4B | H132: 790 | I132: 1
A133: =F133&"-"&E133 -> COM_C_002_5B-PRESENCIAL | B133: COM_C_002_5B | C133: Publicidad, relaciones públicas y organización de eventos de marketing | D133: 110671.5 | E133: PRESENCIAL | F133: COM_C_002_5B | H133: 890 | I133: 1
A134: =F134&"-"&E134 -> COM_C_002_5B-VIRTUAL (TELEFORMACIÓN) | B134: COM_C_002_5B | C134: Publicidad, relaciones públicas y organización de eventos de marketing | D134: 74226 | E134: VIRTUAL (TELEFORMACIÓN) | F134: COM_C_002_5B | H134: 890 | I134: 1
... A369: =F369&"-"&E369 -> IMP_C_001_5B-PRESENCIAL | B369: IMP_C_001_5B | C369: Tratamientos estéticos y aparatología | D369: 82467 | E369: PRESENCIAL | F369: IMP_C_001_5B | H369: 660 | I369: 1
A370: =F370&"-"&E370 -> IMP_C_001_5B-SEMIPRESENCIAL | B370: IMP_C_001_5B | C370: Tratamientos estéticos y aparatología | D370: B | E370: SEMIPRESENCIAL | F370: IMP_C_001_5B | H370: 660 | I370: 1
A371: =F371&"-"&E371 -> IMP_C_002_3B-PRESENCIAL | B371: IMP_C_002_3B | C371: Técnicas Básicas de Estética | D371: 81842.25 | E371: PRESENCIAL | F371: IMP_C_002_3B | H371: 655 | I371: 1
A372: =F372&"-"&E372 -> IMP_C_002_4B-PRESENCIAL | B372: IMP_C_002_4B | C372: Servicios de maquillaje y técnicas de ventas en imagen personal | D372: 36860.25 | E372: PRESENCIAL | F372: IMP_C_002_4B | H372: 295 | I372: 1
A373: =F373&"-"&E373 -> IMP_C_002_5B-PRESENCIAL | B373: IMP_C_002_5B | C373: Servicios hidrotermales y masajes estéticos | D373: 81842.25 | E373: PRESENCIAL | F373: IMP_C_002_5B | H373: 655 | I373: 1
A374: =F374&"-"&E374 -> IMP_C_002_5B-SEMIPRESENCIAL | B374: IMP_C_002_5B | C374: Servicios hidrotermales y masajes estéticos | D374: C | E374: SEMIPRESENCIAL | F374: IMP_C_002_5B | H374: 655 | I374: 1
A375: =F375&"-"&E375 -> IMP_C_004_4B-PRESENCIAL | B375: IMP_C_004_4B | C375: Técnicas de manicura y pedicura | D375: 36860.25 | E375: PRESENCIAL | F375: IMP_C_004_4B | H375: 295 | I375: 1
A376: =F376&"-"&E376 -> IMP_C_004_5B-PRESENCIAL | B376: IMP_C_004_5B | C376: Estudio y creación de la imagen integral | D376: 82467 | E376: PRESENCIAL | F376: IMP_C_004_5B | H376: 660 | I376: 1
A377: =F377&"-"&E377 -> IMP_C_005_4B-PRESENCIAL | B377: IMP_C_005_4B | C377: Técnicas de corte de cabello y estilismo | D377: 43107.75 | E377: PRESENCIAL | F377: IMP_C_005_4B | H377: 345 | I377: 1
A378: =F378&"-"&E378 -> IMP_C_006_4B-PRESENCIAL | B378: IMP_C_006_4B | C378: Cambios de forma del cabello, recogidos y coloración capilar | D378: 84341.25 | E378: PRESENCIAL | F378: IMP_C_006_4B | H378: 675 | I378: 1
A379: =F379&"-"&E379 -> IMP_C_006_5B-PRESENCIAL | B379: IMP_C_006_5B | C379: Asesoría en peluquería y estética | D379: 81842.25 | E379: PRESENCIAL | F379: IMP_C_006_5B | H379: 655 | I379: 1
A380: =F380&"-"&E380 -> IMP_C_006_5B-VIRTUAL (TELEFORMACIÓN) | B380: IMP_C_006_5B | C380: Asesoría en peluquería y estética | D380: 55020 | E380: VIRTUAL (TELEFORMACIÓN) | F380: IMP_C_006_5B | H380: 655 | I380: 1
A381: =F381&"-"&E381 -> IMP_C_007_5B-PRESENCIAL | B381: IMP_C_007_5B | C381: Asesoría en vestuario y complementos | D381: 49355.25 | E381: PRESENCIAL | F381: IMP_C_007_5B | H381: 395 | I381: 1
A382: =F382&"-"&E382 -> IMP_C_007_5B-VIRTUAL (TELEFORMACIÓN) | B382: IMP_C_007_5B | C382: Asesoría en vestuario y complementos | D382: 33180 | E382: VIRTUAL (TELEFORMACIÓN) | F382: IMP_C_007_5B | H382: 395 | I382: 1
A383: =F383&"-"&E383 -> IMPE0209-PRESENCIAL | B383: IMPE0209 | C383: Maquillaje integral | D383: 81972 | E383: PRESENCIAL | F383: IMPE0209 | H383: 660 | I383: 1
A384: =F384&"-"&E384 -> IMS_C_001_5B-PRESENCIAL | B384: IMS_C_001_5B | C384: Proyectos de animación 2D y 3D | D384: 127596 | E384: PRESENCIAL | F384: IMS_C_001_5B | H384: 980 | I384: 1
A385: =F385&"-"&E385 -> IMS_C_001_5B-VIRTUAL (TELEFORMACIÓN) | B385: IMS_C_001_5B | C385: Proyectos de animación 2D y 3D | D385: 86583 | E385: VIRTUAL (TELEFORMACIÓN) | F385: IMS_C_001_5B | H385: 980 | I385: 1
A386: =F386&"-"&E386 -> IMS_C_002_4B-PRESENCIAL | B386: IMS_C_002_4B | C386: Operaciones de sonido | D386: 89187 | E386: PRESENCIAL | F386: IMS_C_002_4B | H386: 685 | I386: 1
... A492: =F492&"-"&E492 -> SSC_C_017_5B-VIRTUAL (TELEFORMACIÓN) | B492: SSC_C_017_5B | C492: Habilitación para la docencia en grados A, B y C del Sistema de Formación Profesional | D492: 43834.5 | E492: VIRTUAL (TELEFORMACIÓN) | F492: SSC_C_017_5B | H492: 510 | I492: 1
A493: =F493&"-"&E493 -> SSCE01_1-PRESENCIAL | B493: SSCE01_1 | C493: INGLÉS A1 | D493: 18585 | E493: PRESENCIAL | F493: SSCE01_1 | G493: 1 | H493: 150 | I493: 1
A494: =F494&"-"&E494 -> SSCE01_1-VIRTUAL (TELEFORMACIÓN) | B494: SSCE01_1 | C494: INGLÉS A1 | D494: 10710 | E494: VIRTUAL (TELEFORMACIÓN) | F494: SSCE01_1 | G494: 1 | H494: 150 | I494: 1
A495: =F495&"-"&E495 -> SSCE0112-PRESENCIAL | B495: SSCE0112 | C495: Atención al alumnado con necesidades educativas especiales (ACNEE) en centros educativos | D495: 72435 | E495: PRESENCIAL | F495: SSCE0112 | H495: 550 | I495: 1
A496: =F496&"-"&E496 -> SSCE0112-VIRTUAL (TELEFORMACIÓN) | B496: SSCE0112 | C496: Atención al alumnado con necesidades educativas especiales (ACNEE) en centros educativos | D496: 48345 | E496: VIRTUAL (TELEFORMACIÓN) | F496: SSCE0112 | H496: 550 | I496: 1
A497: =F497&"-"&E497 -> SSCE02_1-PRESENCIAL | B497: SSCE02_1 | C497: INGLÉS A2 | D497: 18630 | E497: PRESENCIAL | F497: SSCE02_1 | G497: 1 | H497: 150 | I497: 1
A498: =F498&"-"&E498 -> SSCE02_1-VIRTUAL (TELEFORMACIÓN) | B498: SSCE02_1 | C498: INGLÉS A2 | D498: 10755 | E498: VIRTUAL (TELEFORMACIÓN) | F498: SSCE02_1 | G498: 1 | H498: 150 | I498: 1
A499: =F499&"-"&E499 -> SSCE03_1-PRESENCIAL | B499: SSCE03_1 | C499: INGLÉS B1 | D499: 29628 | E499: PRESENCIAL | F499: SSCE03_1 | G499: 1 | H499: 240 | I499: 1
A500: =F500&"-"&E500 -> SSCE03_1-VIRTUAL (TELEFORMACIÓN) | B500: SSCE03_1 | C500: INGLÉS B1 | D500: 17100 | E500: VIRTUAL (TELEFORMACIÓN) | F500: SSCE03_1 | G500: 1 | H500: 240 | I500: 1
A501: =F501&"-"&E501 -> SSCE04_1-PRESENCIAL | B501: SSCE04_1 | C501: INGLÉS B2 | D501: 29628 | E501: PRESENCIAL | F501: SSCE04_1 | G501: 1 | H501: 240 | I501: 1
A502: =F502&"-"&E502 -> SSCE04_1-VIRTUAL (TELEFORMACIÓN) | B502: SSCE04_1 | C502: INGLÉS B2 | D502: 17100 | E502: VIRTUAL (TELEFORMACIÓN) | F502: SSCE04_1 | G502: 1 | H502: 240 | I502: 1
A503: =F503&"-"&E503 -> SSCE05_1-PRESENCIAL | B503: SSCE05_1 | C503: INGLÉS C1 | D503: 29484 | E503: PRESENCIAL | F503: SSCE05_1 | G503: 1 | H503: 240 | I503: 1
A504: =F504&"-"&E504 -> SSCE05_1-VIRTUAL (TELEFORMACIÓN) | B504: SSCE05_1 | C504: INGLÉS C1 | D504: 16992 | E504: VIRTUAL (TELEFORMACIÓN) | F504: SSCE05_1 | G504: 1 | H504: 240 | I504: 1
A505: =F505&"-"&E505 -> SSCE06_1-PRESENCIAL | B505: SSCE06_1 | C505: ALEMÁN A1 | D505: 17392.5 | E505: PRESENCIAL | F505: SSCE06_1 | G505: 1 | H505: 150 | I505: 1
A506: =F506&"-"&E506 -> SSCE06_1-VIRTUAL (TELEFORMACIÓN) | B506: SSCE06_1 | C506: ALEMÁN A1 | D506: 10035 | E506: VIRTUAL (TELEFORMACIÓN) | F506: SSCE06_1 | G506: 1 | H506: 150 | I506: 1
A507: =F507&"-"&E507 -> SSCE07_1-PRESENCIAL | B507: SSCE07_1 | C507: ALEMÁN A2 | D507: 17415 | E507: PRESENCIAL | F507: SSCE07_1 | G507: 1 | H507: 150 | I507: 1
A508: =F508&"-"&E508 -> SSCE07_1-VIRTUAL (TELEFORMACIÓN) | B508: SSCE07_1 | C508: ALEMÁN A2 | D508: 10057.5 | E508: VIRTUAL (TELEFORMACIÓN) | F508: SSCE07_1 | G508: 1 | H508: 150 | I508: 1
... A512: =F512&"-"&E512 -> SSCE09_1-VIRTUAL (TELEFORMACIÓN) | B512: SSCE09_1 | C512: ALEMÁN B2 | D512: 16020 | E512: VIRTUAL (TELEFORMACIÓN) | F512: SSCE09_1 | G512: 1 | H512: 240 | I512: 1
A513: =F513&"-"&E513 -> SSCG0111-PRESENCIAL | B513: SSCG0111 | C513: Gestión de llamadas de teleasistencia | D513: 38083.5 | E513: PRESENCIAL | F513: SSCG0111 | H513: 310 | I513: 1
A514: =F514&"-"&E514 -> SSCG0111-VIRTUAL (TELEFORMACIÓN) | B514: SSCG0111 | C514: Gestión de llamadas de teleasistencia | D514: 25389 | E514: VIRTUAL (TELEFORMACIÓN) | F514: SSCG0111 | H514: 310 | I514: 1
A515: =F515&"-"&E515 -> SSCI0112-PRESENCIAL | B515: SSCI0112 | C515: Instrucción de perros de asistencia | D515: 87318 | E515: PRESENCIAL | F515: SSCI0112 | H515: 840 | I515: 1
A516: =F516&"-"&E516 -> SSCI0209-PRESENCIAL | B516: SSCI0209 | C516: Gestión y organización de equipos de limpieza | D516: 38589 | E516: PRESENCIAL | F516: SSCI0209 | H516: 380 | I516: 1
A517: =F517&"-"&E517 -> SSCI0209-VIRTUAL (TELEFORMACIÓN) | B517: SSCI0209 | C517: Gestión y organización de equipos de limpieza | D517: 25707 | E517: VIRTUAL (TELEFORMACIÓN) | F517: SSCI0209 | H517: 380 | I517: 1
A518: =F518&"-"&E518 -> SSCI0212-PRESENCIAL | B518: SSCI0212 | C518: Actividades funerarias y de mantenimiento en cementerios | D518: 25312.5 | E518: PRESENCIAL | F518: SSCI0212 | H518: 250 | I518: 1
A519: =F519&"-"&E519 -> SSCS0108-PRESENCIAL | B519: SSCS0108 | C519: Atención sociosanitaria a personas en el domicilio | D519: 73800 | E519: PRESENCIAL | F519: SSCS0108 | H519: 600 | I519: 1
A520: =F520&"-"&E520 -> SSCS0108-VIRTUAL (TELEFORMACIÓN) | B520: SSCS0108 | C520: Atención sociosanitaria a personas en el domicilio | D520: 49230 | E520: VIRTUAL (TELEFORMACIÓN) | F520: SSCS0108 | H520: 600 | I520: 1
A521: =F521&"-"&E521 -> SSCS0208-PRESENCIAL | B521: SSCS0208 | C521: Atención Sociosanitaria a personas dependientes en instituciones sociales | D521: 55687.5 | E521: PRESENCIAL | F521: SSCS0208 | H521: 450 | I521: 1
A522: =F522&"-"&E522 -> SSCS0208-VIRTUAL (TELEFORMACIÓN) | B522: SSCS0208 | C522: Atención Sociosanitaria a personas dependientes en instituciones sociales | D522: 37125 | E522: VIRTUAL (TELEFORMACIÓN) | F522: SSCS0208 | H522: 450 | I522: 1
A523: =F523&"-"&E523 -> TCP_C_001_3B-PRESENCIAL | B523: TCP_C_001_3B | C523: Arreglos y composturas de prendas y artículos de decoración en textil y piel | D523: 91188 | E523: PRESENCIAL | F523: TCP_C_001_3B | H523: 745 | I523: 1
A524: =F524&"-"&E524 -> TCP_C_001_4B-PRESENCIAL | B524: TCP_C_001_4B | C524: Confección y arreglos de prendas y complementos en el vestuario a medida | D524: 98532 | E524: PRESENCIAL | F524: TCP_C_001_4B | H524: 805 | I524: 1
... A570: =F570&"-"&E570 -> VIC_C_003_4B-PRESENCIAL | B570: VIC_C_003_4B | C570: Operaciones de desarrollo de productos cerámicos en laboratorio | D570: 101088 | E570: PRESENCIAL | F570: VIC_C_003_4B | H570: 780 | I570: 1

Sheet F_Datos
A1: NIF | B1: Razon social | C1: Prioridad | D1: EspecialidadVersionModalidad | E1: Cd Espe | F1: Version | G1: Modalidad | H1: Denominación | I1: Ediciones 2026
A2: =Formulario!$B$7 -> 0 | B2: =Formulario!$D$7 -> 0 | C2: =Formulario!A13 -> 1 | D2: =Formulario!B13 -> 0 | E2: =Formulario!H13 | F2: =Formulario!J13 | G2: =Formulario!I13 | H2: =[1]Formulario!C13 | I2: =Formulario!G13 -> 0
A3: =Formulario!$B$7 -> 0 | B3: =Formulario!$D$7 -> 0 | C3: =Formulario!A14 -> 0 | D3: =Formulario!B14 -> 0 | E3: =Formulario!H14 | F3: =Formulario!J14 | G3: =Formulario!I14 | H3: =[1]Formulario!C14 | I3: =Formulario!G14 -> 0
A4: =Formulario!$B$7 -> 0 | B4: =Formulario!$D$7 -> 0 | C4: =Formulario!A15 | D4: =Formulario!B15 -> 0 | E4: =Formulario!H15 | F4: =Formulario!J15 | G4: =Formulario!I15 | H4: =[1]Formulario!C15 | I4: =Formulario!G15 -> 0
A5: =Formulario!$B$7 -> 0 | B5: =Formulario!$D$7 -> 0 | C5: =Formulario!A16 | D5: =Formulario!B16 -> 0 | E5: =Formulario!H16 | F5: =Formulario!J16 | G5: =Formulario!I16 | H5: =[1]Formulario!C16 | I5: =Formulario!G16 -> 0
A6: =Formulario!$B$7 -> 0 | B6: =Formulario!$D$7 -> 0 | C6: =Formulario!A17 | D6: =Formulario!B17 -> 0 | E6: =Formulario!H17 | F6: =Formulario!J17 | G6: =Formulario!I17 | H6: =[1]Formulario!C17 | I6: =Formulario!G17 -> 0
A7: =Formulario!$B$7 -> 0 | B7: =Formulario!$D$7 -> 0 | C7: =Formulario!A18 | D7: =Formulario!B18 -> 0 | E7: =Formulario!H18 | F7: =Formulario!J18 | G7: =Formulario!I18 | H7: =[1]Formulario!C18 | I7: =Formulario!G18 -> 0
A8: =Formulario!$B$7 -> 0 | B8: =Formulario!$D$7 -> 0 | C8: =Formulario!A19 | D8: =Formulario!B19 -> 0 | E8: =Formulario!H19 | F8: =Formulario!J19 | G8: =Formulario!I19 | H8: =[1]Formulario!C19 | I8: =Formulario!G19 -> 0
A9: =Formulario!$B$7 -> 0 | B9: =Formulario!$D$7 -> 0 | C9: =Formulario!A20 | D9: =Formulario!B20 -> 0 | E9: =Formulario!H20 | F9: =Formulario!J20 | G9: =Formulario!I20 | H9: =[1]Formulario!C20 | I9: =Formulario!G20 -> 0
A10: =Formulario!$B$7 -> 0 | B10: =Formulario!$D$7 -> 0 | C10: =Formulario!A21 | D10: =Formulario!B21 -> 0 | E10: =Formulario!H21 | F10: =Formulario!J21 | G10: =Formulario!I21 | H10: =[1]Formulario!C21 | I10: =Formulario!G21 -> 0
A11: =Formulario!$B$7 -> 0 | B11: =Formulario!$D$7 -> 0 | C11: =Formulario!A22 | D11: =Formulario!B22 -> 0 | E11: =Formulario!H22 | F11: =Formulario!J22 | G11: =Formulario!I22 | H11: =[1]Formulario!C22 | I11: =Formulario!G22 -> 0
A12: =Formulario!$B$7 -> 0 | B12: =Formulario!$D$7 -> 0 | C12: =Formulario!A23 | D12: =Formulario!B23 -> 0 | E12: =Formulario!H23 | F12: =Formulario!J23 | G12: =Formulario!I23 | H12: =[1]Formulario!C23 | I12: =Formulario!G23 -> 0
A13: =Formulario!$B$7 -> 0 | B13: =Formulario!$D$7 -> 0 | C13: =Formulario!A24 -> 0 | D13: =Formulario!B24 -> 0 | E13: =Formulario!H24 | F13: =Formulario!J24 | G13: =Formulario!I24 | H13: =[1]Formulario!C24 | I13: =Formulario!G24 -> 0
... A4337: =Formulario!$B$7 -> 0 | B4337: =Formulario!$D$7 -> 0 | C4337: =Formulario!A4348 -> 0 | D4337: =Formulario!B4348 -> 0 | E4337: =Formulario!H4348 -> 0 | F4337: =Formulario!J4348 -> 0 | G4337: =Formulario!I4348 -> 0 | H4337: =[1]Formulario!C4348 -> 0 | I4337: =Formulario!G4348 -> 0
