Workbook
Name PRIMERCONTRATO: #REF!
Name PRIMERCONTRATO: #REF!
Name SOLOCONTRATOS: OFFSET(#REF!,#REF!-1,0,#REF!,1)
Name SOLOCONTRATOS: OFFSET(#REF!,#REF!-1,0,#REF!,1)
Name SOLOCONTRATOS: OFFSET(#REF!,#REF!-1,0,#REF!,1)
Name SOLOPROGRAMAS: OFFSET(#REF!,0,0,COUNTA(#REF!)-1,1)
Name SOLOPROGRAMAS: OFFSET(#REF!,0,0,COUNTA(#REF!)-1,1)

Sheet Formulario
A1: ANEXO II C LINEA 2 NECESIDADES FORMATIVAS ESPECIALES
AK4: ERROR
A5: 1.- Datos del interesado
A7: NIF / NIE | C7: Razón social/Nombre
A9: 2.- Especialidades Formativas Solicitadas:
D11: TOTAL SOLICITADO | K11: =SUM(K13:K1981) -> 0
A12: Orden Prioridad | B12: Código de la especialidad | C12: Denominación de la Especialidad | E12: Importe Especialidad | F12: Número Ediciones | G12: Control | H12: especialidad | I12: modalidad | J12: Linea | K12: TOTAL SOLICITADO
A13: 1 | C13: =IFERROR(VLOOKUP(B13,Especialidades!A$1:H$23,5,FALSE),"") | E13: =IFERROR(VLOOKUP(B13,Especialidades!A$1:H$23,7,FALSE),"") | G13: =SUMIF(B:B, B13,F:F) -> 0 | H13: =IFERROR(VLOOKUP(B13,Especialidades!A$1:H$23,2,FALSE),"") | I13: =IFERROR(VLOOKUP(B13,Especialidades!A$1:H$23,3,FALSE),"") | J13: =IFERROR(VLOOKUP(B13,Especialidades!A$1:H$23,4,FALSE),"") | K13: =IFERROR((E13*F13),0) -> 0
A14: =IF(ISBLANK(B13),"",+A13+1) | C14: =IFERROR(VLOOKUP(B14,Especialidades!A$1:H$23,5,FALSE),"") | E14: =IFERROR(VLOOKUP(B14,Especialidades!A$1:H$23,7,FALSE),"") | G14: =SUMIF(B:B, B14,F:F) -> 0 | H14: =IFERROR(VLOOKUP(B14,Especialidades!A$1:H$23,2,FALSE),"") | I14: =IFERROR(VLOOKUP(B14,Especialidades!A$1:H$23,3,FALSE),"") | J14: =IFERROR(VLOOKUP(B14,Especialidades!A$1:H$23,4,FALSE),"") | K14: =IFERROR((E14*F14),0) -> 0
A15: =IF(ISBLANK(B14),"",+A14+1) | C15: =IFERROR(VLOOKUP(B15,Especialidades!A$1:H$23,5,FALSE),"") | E15: =IFERROR(VLOOKUP(B15,Especialidades!A$1:H$23,7,FALSE),"") | G15: =SUMIF(B:B, B15,F:F) -> 0 | H15: =IFERROR(VLOOKUP(B15,Especialidades!A$1:H$23,2,FALSE),"") | I15: =IFERROR(VLOOKUP(B15,Especialidades!A$1:H$23,3,FALSE),"") | J15: =IFERROR(VLOOKUP(B15,Especialidades!A$1:H$23,4,FALSE),"") | K15: =IFERROR((E15*F15),0) -> 0
A16: =IF(ISBLANK(B15),"",+A15+1) | C16: =IFERROR(VLOOKUP(B16,Especialidades!A$1:H$23,5,FALSE),"") | E16: =IFERROR(VLOOKUP(B16,Especialidades!A$1:H$23,7,FALSE),"") | G16: =SUMIF(B:B, B16,F:F) -> 0 | H16: =IFERROR(VLOOKUP(B16,Especialidades!A$1:H$23,2,FALSE),"") | I16: =IFERROR(VLOOKUP(B16,Especialidades!A$1:H$23,3,FALSE),"") | J16: =IFERROR(VLOOKUP(B16,Especialidades!A$1:H$23,4,FALSE),"") | K16: =IFERROR((E16*F16),0) -> 0
A17: =IF(ISBLANK(B16),"",+A16+1) | C17: =IFERROR(VLOOKUP(B17,Especialidades!A$1:H$23,5,FALSE),"") | E17: =IFERROR(VLOOKUP(B17,Especialidades!A$1:H$23,7,FALSE),"") | G17: =SUMIF(B:B, B17,F:F) -> 0 | H17: =IFERROR(VLOOKUP(B17,Especialidades!A$1:H$23,2,FALSE),"") | I17: =IFERROR(VLOOKUP(B17,Especialidades!A$1:H$23,3,FALSE),"") | J17: =IFERROR(VLOOKUP(B17,Especialidades!A$1:H$23,4,FALSE),"") | K17: =IFERROR((E17*F17),0) -> 0
A18: =IF(ISBLANK(B17),"",+A17+1) | C18: =IFERROR(VLOOKUP(B18,Especialidades!A$1:H$23,5,FALSE),"") | E18: =IFERROR(VLOOKUP(B18,Especialidades!A$1:H$23,7,FALSE),"") | G18: =SUMIF(B:B, B18,F:F) -> 0 | H18: =IFERROR(VLOOKUP(B18,Especialidades!A$1:H$23,2,FALSE),"") | I18: =IFERROR(VLOOKUP(B18,Especialidades!A$1:H$23,3,FALSE),"") | J18: =IFERROR(VLOOKUP(B18,Especialidades!A$1:H$23,4,FALSE),"") | K18: =IFERROR((E18*F18),0) -> 0
A19: =IF(ISBLANK(B18),"",+A18+1) | C19: =IFERROR(VLOOKUP(B19,Especialidades!A$1:H$23,5,FALSE),"") | E19: =IFERROR(VLOOKUP(B19,Especialidades!A$1:H$23,7,FALSE),"") | G19: =SUMIF(B:B, B19,F:F) -> 0 | H19: =IFERROR(VLOOKUP(B19,Especialidades!A$1:H$23,2,FALSE),"") | I19: =IFERROR(VLOOKUP(B19,Especialidades!A$1:H$23,3,FALSE),"") | J19: =IFERROR(VLOOKUP(B19,Especialidades!A$1:H$23,4,FALSE),"") | K19: =IFERROR((E19*F19),0) -> 0
A20: =IF(ISBLANK(B19),"",+A19+1) | C20: =IFERROR(VLOOKUP(B20,Especialidades!A$1:H$23,5,FALSE),"") | E20: =IFERROR(VLOOKUP(B20,Especialidades!A$1:H$23,7,FALSE),"") | G20: =SUMIF(B:B, B20,F:F) -> 0 | H20: =IFERROR(VLOOKUP(B20,Especialidades!A$1:H$23,2,FALSE),"") | I20: =IFERROR(VLOOKUP(B20,Especialidades!A$1:H$23,3,FALSE),"") | J20: =IFERROR(VLOOKUP(B20,Especialidades!A$1:H$23,4,FALSE),"") | K20: =IFERROR((E20*F20),0) -> 0
A21: =IF(ISBLANK(B20),"",+A20+1) | C21: =IFERROR(VLOOKUP(B21,Especialidades!A$1:H$23,5,FALSE),"") | E21: =IFERROR(VLOOKUP(B21,Especialidades!A$1:H$23,7,FALSE),"") | G21: =SUMIF(B:B, B21,F:F) -> 0 | H21: =IFERROR(VLOOKUP(B21,Especialidades!A$1:H$23,2,FALSE),"") | I21: =IFERROR(VLOOKUP(B21,Especialidades!A$1:H$23,3,FALSE),"") | J21: =IFERROR(VLOOKUP(B21,Especialidades!A$1:H$23,4,FALSE),"") | K21: =IFERROR((E21*F21),0) -> 0
A22: =IF(ISBLANK(B21),"",+A21+1) | C22: =IFERROR(VLOOKUP(B22,Especialidades!A$1:H$23,5,FALSE),"") | E22: =IFERROR(VLOOKUP(B22,Especialidades!A$1:H$23,7,FALSE),"") | G22: =SUMIF(B:B, B22,F:F) -> 0 | H22: =IFERROR(VLOOKUP(B22,Especialidades!A$1:H$23,2,FALSE),"") | I22: =IFERROR(VLOOKUP(B22,Especialidades!A$1:H$23,3,FALSE),"") | J22: =IFERROR(VLOOKUP(B22,Especialidades!A$1:H$23,4,FALSE),"") | K22: =IFERROR((E22*F22),0) -> 0
A23: =IF(ISBLANK(B22),"",+A22+1) | C23: =IFERROR(VLOOKUP(B23,Especialidades!A$1:H$23,5,FALSE),"") | E23: =IFERROR(VLOOKUP(B23,Especialidades!A$1:H$23,7,FALSE),"") | G23: =SUMIF(B:B, B23,F:F) -> 0 | H23: =IFERROR(VLOOKUP(B23,Especialidades!A$1:H$23,2,FALSE),"") | I23: =IFERROR(VLOOKUP(B23,Especialidades!A$1:H$23,3,FALSE),"") | J23: =IFERROR(VLOOKUP(B23,Especialidades!A$1:H$23,4,FALSE),"") | K23: =IFERROR((E23*F23),0) -> 0
A24: =IF(ISBLANK(B23),"",+A23+1) | C24: =IFERROR(VLOOKUP(B24,Especialidades!A$1:H$23,5,FALSE),"") | E24: =IFERROR(VLOOKUP(B24,Especialidades!A$1:H$23,7,FALSE),"") | G24: =SUMIF(B:B, B24,F:F) -> 0 | H24: =IFERROR(VLOOKUP(B24,Especialidades!A$1:H$23,2,FALSE),"") | I24: =IFERROR(VLOOKUP(B24,Especialidades!A$1:H$23,3,FALSE),"") | J24: =IFERROR(VLOOKUP(B24,Especialidades!A$1:H$23,4,FALSE),"") | K24: =IFERROR((E24*F24),0) -> 0
A25: =IF(ISBLANK(B24),"",+A24+1) | C25: =IFERROR(VLOOKUP(B25,Especialidades!A$1:H$23,5,FALSE),"") | E25: =IFERROR(VLOOKUP(B25,Especialidades!A$1:H$23,7,FALSE),"") | G25: =SUMIF(B:B, B25,F:F) -> 0 | H25: =IFERROR(VLOOKUP(B25,Especialidades!A$1:H$23,2,FALSE),"") | I25: =IFERROR(VLOOKUP(B25,Especialidades!A$1:H$23,3,FALSE),"") | J25: =IFERROR(VLOOKUP(B25,Especialidades!A$1:H$23,4,FALSE),"") | K25: =IFERROR((E25*F25),0) -> 0
... A1981: =IF(ISBLANK(B1980),"",+A1980+1) | C1981: =IFERROR(VLOOKUP(B1981,Especialidades!A$1:H$23,5,FALSE),"") | E1981: =IFERROR(VLOOKUP(B1981,Especialidades!A$1:H$23,7,FALSE),"") | G1981: =SUMIF(B:B, B1981,F:F) -> 0 | H1981: =IFERROR(VLOOKUP(B1981,Especialidades!A$1:H$23,2,FALSE),"") | I1981: =IFERROR(VLOOKUP(B1981,Especialidades!A$1:H$23,3,FALSE),"") | J1981: =IFERROR(VLOOKUP(B1981,Especialidades!A$1:H$23,4,FALSE),"") | K1981: =IFERROR((E1981*F1981),0) -> 0

Sheet Instrucciones
A4: El campo orden de prioridad se completará automáticamente, y constituirá el orden de prelación en la petición de las especialidades.
A5: El código de especialidad se seleccionará del desplegable disponible para cada celda y automáticamente se rellenará el campo de Denominación de la Especialidad. Para cada especialidad se completará la modalidad de impartición y el número de ediciones que se solicitan, siendo 4 el máximo de ediciones que se pueden solicitar por modalidad.
A6: Se podrá solicitar hasta un máximo de 2.800.000€ y 4 ediciones de cada código de especialidad.
A8: ESTE DOCUMENTO DEBERÁ PRESENTARSE EN FORMATO EXCEL Y UNA COPIA EN PDF FIRMADO POR EL/LOS REPRESENTANTE/S

Sheet Especialidades
A1: =+B1& " - Presencial" -> ADGG0408 - Presencial | B1: ADGG0408 | C1: Presencial | D1: Línea 2 | E1: Operaciones auxiliares de servicios administrativos y generales | F1: 860 | G1: 80599.2 | H1: 7.81
A2: =+B2& " - Presencial" -> ADGG0508 - Presencial | B2: ADGG0508 | C2: Presencial | D2: Línea 2 | E2: Operaciones de grabación y tratamiento de datos y documentos | F2: 880 | G2: 82156.8 | H2: 7.78
A3: =+B3& " - Presencial" -> ARGT0111 - Presencial | B3: ARGT0111 | C3: Presencial | D3: Línea 2 | E3: Operaciones de manipulado y finalización de productos gráficos | F3: 600 | G3: 59904 | H3: 8.32
A4: =+B4& " - Presencial" -> ADG_C_002_3B - Presencial | B4: ADG_C_002_3B | C4: Presencial | D4: Línea 2 | E4: Operaciones administrativas básicas | F4: 1430 | G4: 141226.8 | H4: 8.23
A5: =+B5& " - Presencial" -> ADG_C_003_3B - Presencial | B5: ADG_C_003_3B | C5: Presencial | D5: Línea 2 | E5: Servicios comerciales de atención al cliente y preparación de pedidos | F5: 1100 | G5: 108636 | H5: 8.23
A6: =+B6& " - Presencial" -> ADG_C_004_3B - Presencial | B6: ADG_C_004_3B | C6: Presencial | D6: Línea 2 | E6: Operaciones auxiliares de ofimática, reprografía y configuración de equipos informáticos | F6: 1200 | G6: 118512 | H6: 8.23
A7: =+B7& " - Presencial" -> AFD_C_001_3B - Presencial | B7: AFD_C_001_3B | C7: Presencial | D7: Línea 2 | E7: Auxiliar de operaciones en la organización de actividades y funcionamiento de instalaciones deportivas | F7: 1360 | G7: 126153.6 | H7: 7.73
A8: =+B8& " - Presencial" -> AFD_C_002_3B - Presencial | B8: AFD_C_002_3B | C8: Presencial | D8: Línea 2 | E8: Auxiliar de servicios administrativos y generales | F8: 1170 | G8: 108529.2 | H8: 7.73
A9: =+B9& " - Presencial" -> AGA_C_001_3B - Presencial | B9: AGA_C_001_3B | C9: Presencial | D9: Línea 2 | E9: Operaciones básicas en viveros y centros de jardinería | F9: 1240 | G9: 123057.6 | H9: 8.27
A10: =+B10& " - Presencial" -> AGA_C_002_3B - Presencial | B10: AGA_C_002_3B | C10: Presencial | D10: Línea 2 | E10: Operaciones básicas en instalación y mantenimiento de jardines y zonas verdes | F10: 1330 | G10: 131989.2 | H10: 8.27
A11: =+B11& " - Presencial" -> AGA_C_003_3B - Presencial | B11: AGA_C_003_3B | C11: Presencial | D11: Línea 2 | E11: Operaciones básicas de floristería y composiciones florales | F11: 620 | G11: 61528.8 | H11: 8.27
A12: =+B12& " - Presencial" -> AGA_C_004_3B - Presencial | B12: AGA_C_004_3B | C12: Presencial | D12: Línea 2 | E12: Operaciones básicas en actividades agrícolas | F12: 1220 | G12: 121072.8 | H12: 8.27
... A22: =+B22& " - Presencial" -> SSC_C_003_3B - Presencial | B22: SSC_C_003_3B | C22: Presencial | D22: Línea 2 | E22: Operaciones básicas de limpieza en edificios y locales | F22: 910 | G22: 89325.6 | H22: 8.18

Sheet F_Datos
A1: NIF | B1: Razon social | C1: Prioridad | D1: EspecialidadVersionModalidad | E1: Cd Espe | F1: Modalidad | G1: Denominación | H1: Ediciones 2026 | I1: Linea
A2: =Formulario!$B$7 -> 0 | B2: =Formulario!$D$7 -> 0 | C2: =Formulario!A13 -> 1 | D2: =Formulario!B13 -> 0 | E2: =Formulario!H13 | F2: =Formulario!I13 | G2: =Formulario!C13 | H2: =Formulario!F13 -> 0 | I2: =Formulario!J13
A3: =Formulario!$B$7 -> 0 | B3: =Formulario!$D$7 -> 0 | C3: =Formulario!A14 | D3: =Formulario!B14 -> 0 | E3: =Formulario!H14 | F3: =Formulario!I14 | G3: =Formulario!C14 | H3: =Formulario!F14 -> 0 | I3: =Formulario!J14
A4: =Formulario!$B$7 -> 0 | B4: =Formulario!$D$7 -> 0 | C4: =Formulario!A15 | D4: =Formulario!B15 -> 0 | E4: =Formulario!H15 | F4: =Formulario!I15 | G4: =Formulario!C15 | H4: =Formulario!F15 -> 0 | I4: =Formulario!J15
A5: =Formulario!$B$7 -> 0 | B5: =Formulario!$D$7 -> 0 | C5: =Formulario!A16 | D5: =Formulario!B16 -> 0 | E5: =Formulario!H16 | F5: =Formulario!I16 | G5: =Formulario!C16 | H5: =Formulario!F16 -> 0 | I5: =Formulario!J16
A6: =Formulario!$B$7 -> 0 | B6: =Formulario!$D$7 -> 0 | C6: =Formulario!A17 | D6: =Formulario!B17 -> 0 | E6: =Formulario!H17 | F6: =Formulario!I17 | G6: =Formulario!C17 | H6: =Formulario!F17 -> 0 | I6: =Formulario!J17
A7: =Formulario!$B$7 -> 0 | B7: =Formulario!$D$7 -> 0 | C7: =Formulario!A18 | D7: =Formulario!B18 -> 0 | E7: =Formulario!H18 | F7: =Formulario!I18 | G7: =Formulario!C18 | H7: =Formulario!F18 -> 0 | I7: =Formulario!J18
A8: =Formulario!$B$7 -> 0 | B8: =Formulario!$D$7 -> 0 | C8: =Formulario!A19 | D8: =Formulario!B19 -> 0 | E8: =Formulario!H19 | F8: =Formulario!I19 | G8: =Formulario!C19 | H8: =Formulario!F19 -> 0 | I8: =Formulario!J19
A9: =Formulario!$B$7 -> 0 | B9: =Formulario!$D$7 -> 0 | C9: =Formulario!A20 | D9: =Formulario!B20 -> 0 | E9: =Formulario!H20 | F9: =Formulario!I20 | G9: =Formulario!C20 | H9: =Formulario!F20 -> 0 | I9: =Formulario!J20
A10: =Formulario!$B$7 -> 0 | B10: =Formulario!$D$7 -> 0 | C10: =Formulario!A21 | D10: =Formulario!B21 -> 0 | E10: =Formulario!H21 | F10: =Formulario!I21 | G10: =Formulario!C21 | H10: =Formulario!F21 -> 0 | I10: =Formulario!J21
A11: =Formulario!$B$7 -> 0 | B11: =Formulario!$D$7 -> 0 | C11: =Formulario!A22 | D11: =Formulario!B22 -> 0 | E11: =Formulario!H22 | F11: =Formulario!I22 | G11: =Formulario!C22 | H11: =Formulario!F22 -> 0 | I11: =Formulario!J22
A12: =Formulario!$B$7 -> 0 | B12: =Formulario!$D$7 -> 0 | C12: =Formulario!A23 | D12: =Formulario!B23 -> 0 | E12: =Formulario!H23 | F12: =Formulario!I23 | G12: =Formulario!C23 | H12: =Formulario!F23 -> 0 | I12: =Formulario!J23
A13: =Formulario!$B$7 -> 0 | B13: =Formulario!$D$7 -> 0 | C13: =Formulario!A24 | D13: =Formulario!B24 -> 0 | E13: =Formulario!H24 | F13: =Formulario!I24 | G13: =Formulario!C24 | H13: =Formulario!F24 -> 0 | I13: =Formulario!J24
... A1364: =Formulario!$B$7 -> 0 | B1364: =Formulario!$D$7 -> 0 | C1364: =Formulario!A1375 | D1364: =Formulario!B1375 -> 0 | E1364: =Formulario!H1375 | F1364: =Formulario!I1375 | G1364: =Formulario!C1375 | H1364: =Formulario!F1375 -> 0 | I1364: =Formulario!J1375
