Workbook
Name SOLOCONTRATOS: OFFSET([1]Hoja1!$B$2,[1]Hoja1!$F$2-1,0,[1]Hoja1!$F$1,1)
Name SOLOPROGRAMAS: OFFSET([1]Hoja1!$A$2,0,0,COUNTA([1]Hoja1!$A$1:$A$65536)-1,1)

Sheet Formulario V.II.C
B3: Empresa/Entidad solicitante
B4: Ayuda/Convocatoria | D4: Ayuda 2 / Convocatoria 2026
B5: =IF(ISERROR(MATCH("NO SUBVENCIONABLE",Y16:Y64,0)),"","ERROR: LOS DÍAS JUSTIFICADOS TOTALES DE LOS PUESTOS DE INSERCIÓN, NO PUEDEN SER SUPERIOR A LOS DÍAS TOTALES DEL TÉCNICO")
B6: FORMULARIO V.II.C - RELACIÓN Y DATOS DEL PERSONAL TÉCNICO
B7: TÉCNICO
B8: Nombre y Apellido | E8: Apellido 1º | I8: Apellido 2º
B9: NIF/NIE
B10: Fecha inicio contrato | E10: Fecha fin contrato | H10: Tipo de puesto
B11: PERIODO SUBVENCIONABLE DEL TÉCNICO
B12: Fecha inicio | D12: Fecha fin | F12: % Jornada | H12: Días trabajados | I12: Días no trabajados | J12: Días Totales Subvencionables | O12: días | P12: mes Fini | Q12: mes ffin | R12: días mes 30 | S12: ajuste dias | U12: FORMULA (Días totales justificados y Promedio de jornada y modulo)
H13: =IF(OR(B13="",D13=""),"",O13) | I13: =IF(H13="","",COUNTA('Bajas técnico'!A5:A373)) | J13: =IF(OR(H13="",I13=""),"",H13-I13) | O13: =IF(OR(B13="",D13=""),0,+R13+S13) -> 0 | P13: =IF(B13="","",+EOMONTH(B13,-1)+1) | Q13: =IF(D13="","",IF(EOMONTH(D13,0)=D13,EOMONTH(D13,0),EOMONTH(D13,-1))) | R13: =IF(OR(B13="",D13=""),0,ROUND(DAYS360(P13,Q13)/30,0)*30) -> 0 | S13: =IF(OR(B13="",D13=""),0,IF(EOMONTH(D13,0)=D13,0, DAY(D13))-DAY(B13)+1) -> 0 | U13: =33250/12 -> 2770.8333 | V13: (1 T*360dias *100%)*1 Puesto I
B14: RELACIÓN DE PERSONAS TRABAJADORAS EN INSERCIÓN ATENDIDAS
B15: Nº Puesto | C15: NIF/NIE | D15: Nombre | E15: Apellido 1º | F15: Apellido 2º | H15: Fecha inicio | I15: Fecha fin | J15: Días totales subvencionables (*) | K15: Días no trabajados del técnico. | L15: Días subvencionables. | M15: IMPORTE SOLICITADO | T15: =U13/360 -> 7.6967593 | Y15: ERROR DIAS JUST
J16: =IF(OR(I16="",H16=""),"",O16) | K16: =IF(H16="","",COUNTIFS('Bajas técnico'!$A$5:$A$373,">="&H16,'Bajas técnico'!$A$5:$A$373,"<="&I16)) | L16: =IF(OR(J16="",K16=""),"",J16-K16) | M16: =IF(OR(J16="",$F$13="",$J$13=""),"",ROUND((J16-K16)*$T$15*$F$13,2)) | O16: =IF(OR(H16="",I16=""),0,+R16+S16) -> 0 | P16: =IF(H16="","",+EOMONTH(H16,-1)+1) | Q16: =IF(I16="","",IF(EOMONTH(I16,0)=I16,EOMONTH(I16,0),EOMONTH(I16,-1))) | R16: =IF(OR(H16="",I16=""),0,ROUND(DAYS360(P16,Q16)/30,0)*30) -> 0 | S16: =IF(OR(H16="",I16=""),0,IF(EOMONTH(I16,0)=I16,0, DAY(I16))-DAY(H16)+1) -> 0 | Y16: =IF(AND(J16<>"",(J16-K16)>$J$13),"NO SUBVENCIONABLE","") -> #VALUE!
J17: =IF(OR(I17="",H17=""),"",O17) | K17: =IF(H17="","",COUNTIFS('Bajas técnico'!$A$5:$A$373,">="&H17,'Bajas técnico'!$A$5:$A$373,"<="&I17)) | L17: =IF(OR(J17="",K17=""),"",J17-K17) | M17: =IF(OR(J17="",$F$13="",$J$13=""),"",ROUND((J17-K17)*$T$15*$F$13,2)) | O17: =IF(OR(H17="",I17=""),0,+R17+S17) -> 0 | P17: =IF(H17="","",+EOMONTH(H17,-1)+1) | Q17: =IF(I17="","",IF(EOMONTH(I17,0)=I17,EOMONTH(I17,0),EOMONTH(I17,-1))) | R17: =IF(OR(H17="",I17=""),0,ROUND(DAYS360(P17,Q17)/30,0)*30) -> 0 | S17: =IF(OR(H17="",I17=""),0,IF(EOMONTH(I17,0)=I17,0, DAY(I17))-DAY(H17)+1) -> 0 | Y17: =IF(AND(J17<>"",(J17-K17)>$J$13),"NO SUBVENCIONABLE","") -> #VALUE!
J18: =IF(OR(I18="",H18=""),"",O18) | K18: =IF(H18="","",COUNTIFS('Bajas técnico'!$A$5:$A$373,">="&H18,'Bajas técnico'!$A$5:$A$373,"<="&I18)) | L18: =IF(OR(J18="",K18=""),"",J18-K18) | M18: =IF(OR(J18="",$F$13="",$J$13=""),"",ROUND((J18-K18)*$T$15*$F$13,2)) | O18: =IF(OR(H18="",I18=""),0,+R18+S18) -> 0 | P18: =IF(H18="","",+EOMONTH(H18,-1)+1) | Q18: =IF(I18="","",IF(EOMONTH(I18,0)=I18,EOMONTH(I18,0),EOMONTH(I18,-1))) | R18: =IF(OR(H18="",I18=""),0,ROUND(DAYS360(P18,Q18)/30,0)*30) -> 0 | S18: =IF(OR(H18="",I18=""),0,IF(EOMONTH(I18,0)=I18,0, DAY(I18))-DAY(H18)+1) -> 0 | Y18: =IF(AND(J18<>"",(J18-K18)>$J$13),"NO SUBVENCIONABLE","") -> #VALUE!
J19: =IF(OR(I19="",H19=""),"",O19) | K19: =IF(H19="","",COUNTIFS('Bajas técnico'!$A$5:$A$373,">="&H19,'Bajas técnico'!$A$5:$A$373,"<="&I19)) | L19: =IF(OR(J19="",K19=""),"",J19-K19) | M19: =IF(OR(J19="",$F$13="",$J$13=""),"",ROUND((J19-K19)*$T$15*$F$13,2)) | O19: =IF(OR(H19="",I19=""),0,+R19+S19) -> 0 | P19: =IF(H19="","",+EOMONTH(H19,-1)+1) | Q19: =IF(I19="","",IF(EOMONTH(I19,0)=I19,EOMONTH(I19,0),EOMONTH(I19,-1))) | R19: =IF(OR(H19="",I19=""),0,ROUND(DAYS360(P19,Q19)/30,0)*30) -> 0 | S19: =IF(OR(H19="",I19=""),0,IF(EOMONTH(I19,0)=I19,0, DAY(I19))-DAY(H19)+1) -> 0 | Y19: =IF(AND(J19<>"",(J19-K19)>$J$13),"NO SUBVENCIONABLE","") -> #VALUE!
J20: =IF(OR(I20="",H20=""),"",O20) | K20: =IF(H20="","",COUNTIFS('Bajas técnico'!$A$5:$A$373,">="&H20,'Bajas técnico'!$A$5:$A$373,"<="&I20)) | L20: =IF(OR(J20="",K20=""),"",J20-K20) | M20: =IF(OR(J20="",$F$13="",$J$13=""),"",ROUND((J20-K20)*$T$15*$F$13,2)) | O20: =IF(OR(H20="",I20=""),0,+R20+S20) -> 0 | P20: =IF(H20="","",+EOMONTH(H20,-1)+1) | Q20: =IF(I20="","",IF(EOMONTH(I20,0)=I20,EOMONTH(I20,0),EOMONTH(I20,-1))) | R20: =IF(OR(H20="",I20=""),0,ROUND(DAYS360(P20,Q20)/30,0)*30) -> 0 | S20: =IF(OR(H20="",I20=""),0,IF(EOMONTH(I20,0)=I20,0, DAY(I20))-DAY(H20)+1) -> 0 | Y20: =IF(AND(J20<>"",(J20-K20)>$J$13),"NO SUBVENCIONABLE","") -> #VALUE!
J21: =IF(OR(I21="",H21=""),"",O21) | K21: =IF(H21="","",COUNTIFS('Bajas técnico'!$A$5:$A$373,">="&H21,'Bajas técnico'!$A$5:$A$373,"<="&I21)) | L21: =IF(OR(J21="",K21=""),"",J21-K21) | M21: =IF(OR(J21="",$F$13="",$J$13=""),"",ROUND((J21-K21)*$T$15*$F$13,2)) | O21: =IF(OR(H21="",I21=""),0,+R21+S21) -> 0 | P21: =IF(H21="","",+EOMONTH(H21,-1)+1) | Q21: =IF(I21="","",IF(EOMONTH(I21,0)=I21,EOMONTH(I21,0),EOMONTH(I21,-1))) | R21: =IF(OR(H21="",I21=""),0,ROUND(DAYS360(P21,Q21)/30,0)*30) -> 0 | S21: =IF(OR(H21="",I21=""),0,IF(EOMONTH(I21,0)=I21,0, DAY(I21))-DAY(H21)+1) -> 0 | Y21: =IF(AND(J21<>"",(J21-K21)>$J$13),"NO SUBVENCIONABLE","") -> #VALUE!
J22: =IF(OR(I22="",H22=""),"",O22) | K22: =IF(H22="","",COUNTIFS('Bajas técnico'!$A$5:$A$373,">="&H22,'Bajas técnico'!$A$5:$A$373,"<="&I22)) | L22: =IF(OR(J22="",K22=""),"",J22-K22) | M22: =IF(OR(J22="",$F$13="",$J$13=""),"",ROUND((J22-K22)*$T$15*$F$13,2)) | O22: =IF(OR(H22="",I22=""),0,+R22+S22) -> 0 | P22: =IF(H22="","",+EOMONTH(H22,-1)+1) | Q22: =IF(I22="","",IF(EOMONTH(I22,0)=I22,EOMONTH(I22,0),EOMONTH(I22,-1))) | R22: =IF(OR(H22="",I22=""),0,ROUND(DAYS360(P22,Q22)/30,0)*30) -> 0 | S22: =IF(OR(H22="",I22=""),0,IF(EOMONTH(I22,0)=I22,0, DAY(I22))-DAY(H22)+1) -> 0 | Y22: =IF(AND(J22<>"",(J22-K22)>$J$13),"NO SUBVENCIONABLE","") -> #VALUE!
J23: =IF(OR(I23="",H23=""),"",O23) | K23: =IF(H23="","",COUNTIFS('Bajas técnico'!$A$5:$A$373,">="&H23,'Bajas técnico'!$A$5:$A$373,"<="&I23)) | L23: =IF(OR(J23="",K23=""),"",J23-K23) | M23: =IF(OR(J23="",$F$13="",$J$13=""),"",ROUND((J23-K23)*$T$15*$F$13,2)) | O23: =IF(OR(H23="",I23=""),0,+R23+S23) -> 0 | P23: =IF(H23="","",+EOMONTH(H23,-1)+1) | Q23: =IF(I23="","",IF(EOMONTH(I23,0)=I23,EOMONTH(I23,0),EOMONTH(I23,-1))) | R23: =IF(OR(H23="",I23=""),0,ROUND(DAYS360(P23,Q23)/30,0)*30) -> 0 | S23: =IF(OR(H23="",I23=""),0,IF(EOMONTH(I23,0)=I23,0, DAY(I23))-DAY(H23)+1) -> 0 | Y23: =IF(AND(J23<>"",(J23-K23)>$J$13),"NO SUBVENCIONABLE","") -> #VALUE!
J24: =IF(OR(I24="",H24=""),"",O24) | K24: =IF(H24="","",COUNTIFS('Bajas técnico'!$A$5:$A$373,">="&H24,'Bajas técnico'!$A$5:$A$373,"<="&I24)) | L24: =IF(OR(J24="",K24=""),"",J24-K24) | M24: =IF(OR(J24="",$F$13="",$J$13=""),"",ROUND((J24-K24)*$T$15*$F$13,2)) | O24: =IF(OR(H24="",I24=""),0,+R24+S24) -> 0 | P24: =IF(H24="","",+EOMONTH(H24,-1)+1) | Q24: =IF(I24="","",IF(EOMONTH(I24,0)=I24,EOMONTH(I24,0),EOMONTH(I24,-1))) | R24: =IF(OR(H24="",I24=""),0,ROUND(DAYS360(P24,Q24)/30,0)*30) -> 0 | S24: =IF(OR(H24="",I24=""),0,IF(EOMONTH(I24,0)=I24,0, DAY(I24))-DAY(H24)+1) -> 0 | Y24: =IF(AND(J24<>"",(J24-K24)>$J$13),"NO SUBVENCIONABLE","") -> #VALUE!
J25: =IF(OR(I25="",H25=""),"",O25) | K25: =IF(H25="","",COUNTIFS('Bajas técnico'!$A$5:$A$373,">="&H25,'Bajas técnico'!$A$5:$A$373,"<="&I25)) | L25: =IF(OR(J25="",K25=""),"",J25-K25) | M25: =IF(OR(J25="",$F$13="",$J$13=""),"",ROUND((J25-K25)*$T$15*$F$13,2)) | O25: =IF(OR(H25="",I25=""),0,+R25+S25) -> 0 | P25: =IF(H25="","",+EOMONTH(H25,-1)+1) | Q25: =IF(I25="","",IF(EOMONTH(I25,0)=I25,EOMONTH(I25,0),EOMONTH(I25,-1))) | R25: =IF(OR(H25="",I25=""),0,ROUND(DAYS360(P25,Q25)/30,0)*30) -> 0 | S25: =IF(OR(H25="",I25=""),0,IF(EOMONTH(I25,0)=I25,0, DAY(I25))-DAY(H25)+1) -> 0 | Y25: =IF(AND(J25<>"",(J25-K25)>$J$13),"NO SUBVENCIONABLE","") -> #VALUE!
J26: =IF(OR(I26="",H26=""),"",O26) | K26: =IF(H26="","",COUNTIFS('Bajas técnico'!$A$5:$A$373,">="&H26,'Bajas técnico'!$A$5:$A$373,"<="&I26)) | L26: =IF(OR(J26="",K26=""),"",J26-K26) | M26: =IF(OR(J26="",$F$13="",$J$13=""),"",ROUND((J26-K26)*$T$15*$F$13,2)) | O26: =IF(OR(H26="",I26=""),0,+R26+S26) -> 0 | P26: =IF(H26="","",+EOMONTH(H26,-1)+1) | Q26: =IF(I26="","",IF(EOMONTH(I26,0)=I26,EOMONTH(I26,0),EOMONTH(I26,-1))) | R26: =IF(OR(H26="",I26=""),0,ROUND(DAYS360(P26,Q26)/30,0)*30) -> 0 | S26: =IF(OR(H26="",I26=""),0,IF(EOMONTH(I26,0)=I26,0, DAY(I26))-DAY(H26)+1) -> 0 | Y26: =IF(AND(J26<>"",(J26-K26)>$J$13),"NO SUBVENCIONABLE","") -> #VALUE!
J27: =IF(OR(I27="",H27=""),"",O27) | K27: =IF(H27="","",COUNTIFS('Bajas técnico'!$A$5:$A$373,">="&H27,'Bajas técnico'!$A$5:$A$373,"<="&I27)) | L27: =IF(OR(J27="",K27=""),"",J27-K27) | M27: =IF(OR(J27="",$F$13="",$J$13=""),"",ROUND((J27-K27)*$T$15*$F$13,2)) | O27: =IF(OR(H27="",I27=""),0,+R27+S27) -> 0 | P27: =IF(H27="","",+EOMONTH(H27,-1)+1) | Q27: =IF(I27="","",IF(EOMONTH(I27,0)=I27,EOMONTH(I27,0),EOMONTH(I27,-1))) | R27: =IF(OR(H27="",I27=""),0,ROUND(DAYS360(P27,Q27)/30,0)*30) -> 0 | S27: =IF(OR(H27="",I27=""),0,IF(EOMONTH(I27,0)=I27,0, DAY(I27))-DAY(H27)+1) -> 0 | Y27: =IF(AND(J27<>"",(J27-K27)>$J$13),"NO SUBVENCIONABLE","") -> #VALUE!
... J64: =IF(OR(I64="",H64=""),"",O64) | K64: =IF(H64="","",COUNTIFS('Bajas técnico'!$A$5:$A$373,">="&H64,'Bajas técnico'!$A$5:$A$373,"<="&I64)) | L64: =IF(OR(J64="",K64=""),"",J64-K64) | M64: =IF(OR(J64="",$F$13="",$J$13=""),"",ROUND((J64-K64)*$T$15*$F$13,2)) | O64: =IF(OR(H64="",I64=""),0,+R64+S64) -> 0 | P64: =IF(H64="","",+EOMONTH(H64,-1)+1) | Q64: =IF(I64="","",IF(EOMONTH(I64,0)=I64,EOMONTH(I64,0),EOMONTH(I64,-1))) | R64: =IF(OR(H64="",I64=""),0,ROUND(DAYS360(P64,Q64)/30,0)*30) -> 0 | S64: =IF(OR(H64="",I64=""),0,IF(EOMONTH(I64,0)=I64,0, DAY(I64))-DAY(H64)+1) -> 0 | Y64: =IF(AND(J64<>"",(J64-K64)>$J$13),"NO SUBVENCIONABLE","") -> #VALUE!
B65: El cálculo de número de días se realiza considerando que todos lo meses tiene una duración de 30 días | H65: IMPORTE TOTAL SOLICITADO: | M65: =SUM(M16:M64) -> 0 | O65: =SUM(J16:J44) -> 0 | P65: Total dias justificados
B66: Se presentarán tantos Formularios V.II.C como técnicos/ Jornadas laborales sean justificados por la entidad/empresa.
B67: (*) Los días totales justificados de los Puestos en Inserción deberán estar comprendidos dentro del periodo justificado del Técnico.
B68: Consultar "Instrucciones de Cumplimentación"
M70: Modelo: 3283FO7

Sheet Bajas técnico
A4: Días de baja del técnico

Sheet Instrucciones Cumplimentación
B3: INSTRUCCIONES CUMPLIMENTACIÓN
B4: INSTRUCCIONES GENERALES | C4: Este fichero Excel debe enviarse cumplimentado con la relación y datos del personal técnico contratado, la relación de personas trabajadoras en inserción a las que atienden, en la hoja "Formulario V.II.C" y los días de baja del técnico en la hoja "Bajas técnico". Tras su cumplimentación debe guardarse en formato Excel para su remisión a la unidad gestora a través del Registro Electrónico de la Comunidad de Madrid. En el caso de que una persona trabajadora en proceso de inserción haya tenido más de un periodo de contratación, se cumplimentará una línea por cada periodo.
B5: DATOS DEL PERSONAL TÉCNICO | C5: CAMPO DE OBLIGADA CUMPLIMENTACIÓN. Se indicará en la columna correspondiente: TÉCNICO: se seleccionará una de las opciones del desplegable (" PERSONAL TÉCN. DE PROD." o "PERSONAL TÉCN. DE ORIENT.") NIF/NIE: documento de identificación del/la técnico/a. Nombre del/la técnico/a. Apellido/s del/la técnico/a. Fecha inicio del contrato: debe indicarse la fecha en la que el/la técnico/a inició su contrato y deberá coincidir con la fecha de alta del Informe de Vida Laboral. Fecha fin de contrato: únicamente deberá cumplimentarse en caso de finalización del contrato y, en dicho caso, deberá coincidir con al fecha de baja en el Informe de Vida Laboral. Tipo de puesto: se seleccionará una de las opciones del desplegable ("MANTENIDO", "NUEVA CONTRATACIÓN" o "SUSTITUCIÓN POR IT")
B6: PERIODO SUBVENCIONABLE DEL TÉCNICO | C6: CAMPO DE OBLIGADA CUMPLIMENTACIÓN. Se indicará en la columna correspondiente: Fecha inicio: debe indicarse la fecha de inicio del periodo subvencionable. Fecha fin: debe indicarse la fecha de fin del periodo subvencionable. Jornada: porcentaje de jornada contratada (debe expresarse con valor numérico ) coincidente con el IDC (Informe de Datos de Cotización). La jornada no podrá ser inferior al 50% de la jornada a tiempo completo de una persona trabajadora comparable. Deberá cumplimentarse con caracteres numéricos únicamente. Se deberán presentar este mismo anexos, tantas veces como jornadas laborales tenga el Técnico. Días Trabajados: no es precisa su cumplimentación y se auto calculará cuando los campos de "fecha inicio" y "fecha fin" esten completados. Número de días trabajados en la empresa dentro del periodo subvencionable establecido en la orden de convocatoria. Días no Trabajados: no es necesaria su cumplimentación. Aparecerá su valor una vez que se haya cumplimentado la hoja "Bajas técnico". Días Totales Subvencionables: No es precisa su cumplimentación y se auto calculará cuando el resto de campos de obligada cumplimentación estén completados. Se aplicará un fórmula de cálculo de días entre los "Días Trabajados" y "Días no Trabajados" El cálculo de número de días se realiza considerando que todos los meses tienen una duración de 30 días.
B7: RELACIÓN DE PERSONAS TRABAJADORAS EN INSERCIÓN ATENDIDAS | C7: CAMPO DE CUMPLIMENTACIÓN OBLIGATORIA. Nº Puesto: se debe indicar el número de puesto en inserción que ocupa la persona trabajadora a la que atiende el personal técnico. En caso de que existan sustituciones se nombrará con mismo número de puesto (Ejemplo: 1.1) Se añadirá tantas filas como puestos en inserción atendidos por el personal técnico existan. NIF/NIE: documento de identificación de la persona trabajadora en inserción Nombre: de la persona trabajadora en inserción. Apellido/s: Apellido/s de la persona trabajadora en inserción. Fecha inicio: Fecha de inicio de la atención por parte del técnico dentro del periodo subvencionable y coincidente con el periodo subvencionable del técnico solicitado en este anexo. Fecha fin: Fecha de fin de la atención por parte del técnico dentro del periodo subvencionable y coincidente con el periodo subvencionable del técnico solicitado en este anexo. Días totales subvencionables: No es precisa su cumplimentación y se auto calculará cuando el resto de campos de obligada cumplimentación estén completados. Se aplicará un fórmula de cálculo de días entre los campos "Fecha fin" y "Fecha inicio" y al resultado se le restarán los días no trabajados por el técnico. Días no trabajados del técnico: Campo autocálculado. El valor variará en función de las fechas introducidas en la hoja "Bajas técnico". Días subvencionables: Campo autocálculado. Devuelve la diferencia entre los campos "Días totales subvencionables" y "Días no trabajados del técnico". El cálculo de número de días se realiza considerando que todos los meses tienen una duración de 30 días.
B8: IMPORTE SOLICITADO | C8: No es precisa su cumplimentación y se auto calculará cuando el resto de campos de obligada cumplimentación estén completados. No se calculará "Importe Justificado", cuando alguno de los "Días Totales Justificados (*)" en cualquiera de los puestos de inserción sea superior a los "Días Totales Justificados" del Técnico.
B9: IMPORTE TOTAL SOLICITADO | C9: No es precisa su cumplimentación y se auto calculará cuando el resto de campos de obligada cumplimentación estén completados. Asimismo estos importes totales deberán coincidir con el reflejado en el Formulario V.II. En caso de discrepancia, prevalecerá lo indicado en este Excel Formulario V.II.C).
B10: DÍAS DE BAJA DEL TÉCNICO DE LA HOJA "BAJAS TÉCNICO". | C10: Se deben introducir las fechas en las que el técnico ha estado en situación de suspensión del contrato por IT o cualquier otra causa dentro del periodo subvencionable establecido en la orden de convocatoria.

Sheet Información protección de datos
B2: Información sobre Protección de Datos
B5: 1. Responsable del tratamiento de sus datos
B7: - Responsable: CONSEJERÍA DE ECONOMÍA, HACIENDA Y EMPLEO, DIRECCIÓN GENERAL DEL SERVICIO PÚBLICO DE EMPLEO.
B8: - Domicilio social: Consultar www.comunidad.madrid/centros
B9: - Contacto Delegado de Protección de Datos: protecciondatoseeh@madrid.org
B11: 2. ¿Con qué fines se tratarán mis datos personales?
B13: En cumplimiento de lo establecido por el Reglamento (UE) 2016/679, de Protección de Datos Personales, sus datos serán tratados para las siguientes finalidades:
B14: - Gestión de la información referente a las subvenciones financiadas por la Ayuda a la Recuperación para la Cohesión y los Territorios deEuropa (REACT-UE), a través del Programa Operativo Regional FSE, dentro del periodo de programación 2014-2020.
B16: 3. ¿Cuál es la legitimación en la cual se basa la licitud del tratamiento?
B18: RGPD 6.1 c) el tratamiento es necesario para el cumplimiento de una obligación legal aplicable al responsable del tratamiento.
B19: RGPD 6.1 e) el tratamiento es necesario para el cumplimiento de una misión realizada en interés público o en el ejercicio de poderes públicos conferidos al responsable del tratamiento.
B20: Real Decreto Legislativo 3/2015, de 23 de octubre, por el que se aprueba el texto refundido de la Ley de Empleo
... B58: Pueden consultar la información adicional y detallada de la información y de la normativa aplicable en materia de protección de datos en la web de la Agencia Española de Protección de Datos http://www.agpd.es, así como la información sobre el Registro de Actividades de Tratamiento del Responsable antes señalado en el siguiente enlace: www.comunidad.madrid/protecciondedatos

Sheet Tablas
B1: TÉCNICO | C1: Tipo de Puesto
B2: PERSONAL TÉCN. DE PRODUC. | C2: Mantenido
B3: PERSONAL TÉCN. DE ORIENT. | C3: Nueva contratación
C4: Sustitución por IT
