Workbook
Name SOLOCONTRATOS: OFFSET([1]Hoja1!$B$2,[1]Hoja1!$F$2-1,0,[1]Hoja1!$F$1,1)
Name SOLOPROGRAMAS: OFFSET([1]Hoja1!$A$2,0,0,COUNTA([1]Hoja1!$A$1:$A$65536)-1,1)

Sheet Formulario V.III.C
B3: Empresa/Entidad solicitante
B4: Ayuda/Convocatoria | D4: Ayuda 3 / Convocatoria 2026
B6: FORMULARIO V.III.C - RELACIÓN DE DATOS DEL GERENTE
B7: Nombre | E7: Apellido 1º | H7: Apellido 2º
B8: NIF/NIE
B9: Fecha inicio contrato | E9: Fecha fin contrato | H9: Tipo de puesto
B10: PERIODO SUBVENCIONABLE
B11: Fecha inicio | D11: Fecha fin | E11: %jornada | F11: Días trabajados | G11: Días no trabajados | H11: Días con menos de 5 personas en inserción | I11: Días totales Subvencionables | J11: IMPORTE SOLICITADO | P11: Año Subvencionable | Q11: 2026 | R11: días | S11: fecha finFeb | W11: mes Fini | X11: mes ffin | Y11: días mes 30 | Z11: ajuste dias | AA11: inicio just | AB11: fin just
F12: =IF(OR(B12="",D12=""),"",R12) | G12: =IF(OR(B12="",D12="",),"",Cálculos!F4) | H12: =IF(OR(B12="",D12="",$I$21="",$I$22="",$I$23="",$I$24="",$I$25=""),"",Cálculos!G4) | I12: =IF(OR(F12="",G12="",H12=""),"",F12-G12-H12) | J12: =IF(OR(E12="",I12=""),"",ROUND(E12*$Q$12*I12,2)) | K12: FORMULA (Dias justificados y jornada y modulo) | P12: Modulo: | Q12: =13000/360 -> 36.111111 | R12: =IF(OR(B12="",D12=""),0,+Y12+Z12) -> 0 | S12: =IF(D12="","",IF(AND(MONTH(D12)= 2,DAY(D12)=DAY(EOMONTH(D12,0))),D12+1,D12)) | T12: =DAY(EOMONTH(D12,0)) -> 31 | U12: =MONTH(D12) -> 1 | V12: =DAY(D12) -> 0 | W12: =IF(OR(B12="",AA12=""),"",+EOMONTH(AA12,-1)+1) | X12: =IF(OR(D12="",AB12=""),"",IF(EOMONTH(AB12,0)=AB12,EOMONTH(AB12,0),EOMONTH(AB12,-1))) | Y12: =IF(OR(B12="",D12="",AA12="",AB12=""),0,ROUND(DAYS360(W12,X12)/30,0)*30) -> 0 | Z12: =IF(OR(B12="",D12="",AA12="",AB12=""),0,IF(EOMONTH(AB12,0)=AB12,0, DAY(AB12))-DAY(AA12)+1) -> 0 | AA12: =IF(B12="","",B12) | AB12: =IF(D12="","",D12)
F13: =IF(OR(B13="",D13=""),"",R13) | G13: =IF(OR(B13="",D13="",),"",Cálculos!F5) | H13: =IF(OR(B13="",D13="",$I$21=""),"",Cálculos!G5) | I13: =IF(OR(F13="",G13="",H13=""),"",F13-G13-H13) | J13: =IF(OR(E13="",I13=""),"",ROUND(E13*$Q$12*I13,2)) | K13: Módulo: 1 Gerente x 13.000€ x jornada al 100% x 360 días | R13: =IF(OR(B13="",D13=""),0,+Y13+Z13) -> 0 | S13: =IF(D13="","",IF(AND(MONTH(D13)= 2,DAY(D13)=DAY(EOMONTH(D13,0))),D13+1,D13)) | T13: =DAY(EOMONTH(D13,0)) -> 31 | U13: =MONTH(D13) -> 1 | V13: =DAY(D13) -> 0 | W13: =IF(OR(B13="",AA13=""),"",+EOMONTH(AA13,-1)+1) | X13: =IF(AB13="","",IF(EOMONTH(AB13,0)=AB13,EOMONTH(AB13,0),EOMONTH(AB13,-1))) | Y13: =IF(OR(B13="",D13="",AA13="",AB13=""),0,ROUND(DAYS360(W13,X13)/30,0)*30) -> 0 | Z13: =IF(OR(B13="",D13="",AA13="",AB13=""),0,IF(EOMONTH(AB13,0)=AB13,0, DAY(AB13))-DAY(AA13)+1) -> 0 | AA13: =IF(B13="","",B13) | AB13: =IF(D13="","",D13)
F14: =IF(OR(B14="",D14=""),"",R14) | G14: =IF(OR(B14="",D14="",),"",Cálculos!F6) | H14: =IF(OR(B14="",D14="",$I$21=""),"",Cálculos!G6) | I14: =IF(OR(F14="",G14="",H14=""),"",F14-G14-H14) | J14: =IF(OR(E14="",I14=""),"",ROUND(E14*$Q$12*I14,2)) | R14: =IF(OR(B14="",D14=""),0,+Y14+Z14) -> 0 | S14: =IF(D14="","",IF(AND(MONTH(D14)= 2,DAY(D14)=DAY(EOMONTH(D14,0))),D14+1,D14)) | T14: =DAY(EOMONTH(D14,0)) -> 31 | U14: =MONTH(D14) -> 1 | V14: =DAY(D14) -> 0 | W14: =IF(OR(B14="",AA14=""),"",+EOMONTH(AA14,-1)+1) | X14: =IF(AB14="","",IF(EOMONTH(AB14,0)=AB14,EOMONTH(AB14,0),EOMONTH(AB14,-1))) | Y14: =IF(OR(B14="",D14="",AA14="",AB14=""),0,ROUND(DAYS360(W14,X14)/30,0)*30) -> 0 | Z14: =IF(OR(B14="",D14="",AA14="",AB14=""),0,IF(EOMONTH(AB14,0)=AB14,0, DAY(AB14))-DAY(AA14)+1) -> 0 | AA14: =IF(B14="","",B14) | AB14: =IF(D14="","",D14)
F15: =IF(OR(B15="",D15=""),"",R15) | G15: =IF(OR(B15="",D15="",),"",Cálculos!F7) | H15: =IF(OR(B15="",D15="",$I$21=""),"",Cálculos!G7) | I15: =IF(OR(F15="",G15="",H15=""),"",F15-G15-H15) | J15: =IF(OR(E15="",I15=""),"",ROUND(E15*$Q$12*I15,2)) | K15: Módulo: 1 Gerente x 10.000€ x jornada al 100% x 360 días | R15: =IF(OR(B15="",D15=""),0,+Y15+Z15) -> 0 | S15: =IF(D15="","",IF(AND(MONTH(D15)= 2,DAY(D15)=DAY(EOMONTH(D15,0))),D15+1,D15)) | T15: =DAY(EOMONTH(D15,0)) -> 31 | U15: =MONTH(D15) -> 1 | V15: =DAY(D15) -> 0 | W15: =IF(OR(B15="",AA15=""),"",+EOMONTH(AA15,-1)+1) | X15: =IF(AB15="","",IF(EOMONTH(AB15,0)=AB15,EOMONTH(AB15,0),EOMONTH(AB15,-1))) | Y15: =IF(OR(B15="",D15="",AA15="",AB15=""),0,ROUND(DAYS360(W15,X15)/30,0)*30) -> 0 | Z15: =IF(OR(B15="",D15="",AA15="",AB15=""),0,IF(EOMONTH(AB15,0)=AB15,0, DAY(AB15))-DAY(AA15)+1) -> 0 | AA15: =IF(B15="","",B15) | AB15: =IF(D15="","",D15)
F16: =IF(OR(B16="",D16=""),"",R16) | G16: =IF(OR(B16="",D16="",),"",Cálculos!F8) | H16: =IF(OR(B16="",D16="",$I$21=""),"",Cálculos!G8) | I16: =IF(OR(F16="",G16="",H16=""),"",F16-G16-H16) | J16: =IF(OR(E16="",I16=""),"",ROUND(E16*$Q$12*I16,2)) | R16: =IF(OR(B16="",D16=""),0,+Y16+Z16) -> 0 | S16: =IF(D16="","",IF(AND(MONTH(D16)= 2,DAY(D16)=DAY(EOMONTH(D16,0))),D16+1,D16)) | T16: =DAY(EOMONTH(D16,0)) -> 31 | U16: =MONTH(D16) -> 1 | V16: =DAY(D16) -> 0 | W16: =IF(OR(B16="",AA16=""),"",+EOMONTH(AA16,-1)+1) | X16: =IF(AB16="","",IF(EOMONTH(AB16,0)=AB16,EOMONTH(AB16,0),EOMONTH(AB16,-1))) | Y16: =IF(OR(B16="",D16="",AA16="",AB16=""),0,ROUND(DAYS360(W16,X16)/30,0)*30) -> 0 | Z16: =IF(OR(B16="",D16="",AA16="",AB16=""),0,IF(EOMONTH(AB16,0)=AB16,0, DAY(AB16))-DAY(AA16)+1) -> 0 | AA16: =IF(B16="","",B16) | AB16: =IF(D16="","",D16)
B17: Cálculo de número de días trabajados se realiza considerando que todos lo meses tiene una duración de 30 dias | I17: IMPORTE TOTAL SOLICITADO: | J17: =SUM(J12:J16) -> 0
B19: RELACIÓN DE PUESTOS DE TRABAJO DE PERSONAS TRABAJADORAS EN INSERCIÓN
B20: Nº Puesto | C20: NIF/NIE | D20: Nombre | E20: Apellido 1º | G20: Apellido 2º | I20: Fecha alta | J20: Fecha baja
B62: Se presentaran tantos Formularios V.III.C como GERENTES/jornadas laborales solicite la entidad/empresa.
B63: Consultar "Instrucciones de Cumplimentación"
J65: Modelo: 3283FO9

Sheet Bajas gerente
A4: Días de baja del gerente

Sheet Cálculos
A3: GERENTE | B3: F. INICIO | C3: F.FIN | D3: Parcialidad% | E3: Dias trabajados | F3: Dias no trabajados | G3: Dias -5 trabajadores | H3: Dias totales subvencionables | I3: Importe solicitado
B4: =IF('Formulario V.III.C'!B12="","",'Formulario V.III.C'!B12) | C4: =IF('Formulario V.III.C'!D12="","",'Formulario V.III.C'!D12) | D4: =IF('Formulario V.III.C'!E12="","",'Formulario V.III.C'!E12) | E4: =IF('Formulario V.III.C'!F12="","",'Formulario V.III.C'!F12) | F4: =COUNTIFS('Bajas gerente'!$A$5:$A$369,">="&B4,'Bajas gerente'!$A$5:$A$369,"<="&C4) -> 0 | G4: =COUNTIFS($E$12:$IM$12,"<5",$E$11:$IM$11,">="&B4,$E$11:$IM$11,"<="&C4,$E$12:$IM$12,"<>"&"-") -> 0 | H4: =IF(OR(E4="",F4="",G4=""),"",IF((E4-F4-G4)<0,0,E4-F4-G4)) | I4: =IF(OR(B4="",C4=""),"",ROUND(D4*'Formulario V.III.C'!$Q$12*H4,2)) | M4: 45658 | N4: Días de alta del gerente
B5: =IF('Formulario V.III.C'!B13="","",'Formulario V.III.C'!B13) | C5: =IF('Formulario V.III.C'!D13="","",'Formulario V.III.C'!D13) | D5: =IF('Formulario V.III.C'!E13="","",'Formulario V.III.C'!E13) | E5: =IF('Formulario V.III.C'!F13="","",'Formulario V.III.C'!F13) | F5: =COUNTIFS('Bajas gerente'!$A$5:$A$369,">="&B5,'Bajas gerente'!$A$5:$A$369,"<="&C5) -> 0 | G5: =COUNTIFS($E$12:$IM$12,"<5",$E$11:$IM$11,">="&B5,$E$11:$IM$11,"<="&C5,$E$12:$IM$12,"<>"&"-") -> 0 | H5: =IF(OR(E5="",F5="",G5=""),"",IF((E5-F5-G5)<0,0,E5-F5-G5)) | I5: =IF(OR(B5="",C5=""),"",ROUND(D5*'Formulario V.III.C'!$Q$12*H5,2)) | M5: 45658 | N5: Días no trabajados por el gerente estando de alta.
B6: =IF('Formulario V.III.C'!B14="","",'Formulario V.III.C'!B14) | C6: =IF('Formulario V.III.C'!D14="","",'Formulario V.III.C'!D14) | D6: =IF('Formulario V.III.C'!E14="","",'Formulario V.III.C'!E14) | E6: =IF('Formulario V.III.C'!F14="","",'Formulario V.III.C'!F14) | F6: =COUNTIFS('Bajas gerente'!$A$5:$A$369,">="&B6,'Bajas gerente'!$A$5:$A$369,"<="&C6) -> 0 | G6: =COUNTIFS($E$12:$IM$12,"<5",$E$11:$IM$11,">="&B6,$E$11:$IM$11,"<="&C6,$E$12:$IM$12,"<>"&"-") -> 0 | H6: =IF(OR(E6="",F6="",G6=""),"",IF((E6-F6-G6)<0,0,E6-F6-G6)) | I6: =IF(OR(B6="",C6=""),"",ROUND(D6*'Formulario V.III.C'!$Q$12*H6,2)) | M6: 45658 | N6: Días que el gerente no está contratado
B7: =IF('Formulario V.III.C'!B15="","",'Formulario V.III.C'!B15) | C7: =IF('Formulario V.III.C'!D15="","",'Formulario V.III.C'!D15) | D7: =IF('Formulario V.III.C'!E15="","",'Formulario V.III.C'!E15) | E7: =IF('Formulario V.III.C'!F15="","",'Formulario V.III.C'!F15) | F7: =COUNTIFS('Bajas gerente'!$A$5:$A$369,">="&B7,'Bajas gerente'!$A$5:$A$369,"<="&C7) -> 0 | G7: =COUNTIFS($E$12:$IM$12,"<5",$E$11:$IM$11,">="&B7,$E$11:$IM$11,"<="&C7,$E$12:$IM$12,"<>"&"-") -> 0 | H7: =IF(OR(E7="",F7="",G7=""),"",IF((E7-F7-G7)<0,0,E7-F7-G7)) | I7: =IF(OR(B7="",C7=""),"",ROUND(D7*'Formulario V.III.C'!$Q$12*H7,2)) | M7: 4 | N7: Entre 1 y 4 trabajadores
B8: =IF('Formulario V.III.C'!B16="","",'Formulario V.III.C'!B16) | C8: =IF('Formulario V.III.C'!D16="","",'Formulario V.III.C'!D16) | D8: =IF('Formulario V.III.C'!E16="","",'Formulario V.III.C'!E16) | E8: =IF('Formulario V.III.C'!F16="","",'Formulario V.III.C'!F16) | F8: =COUNTIFS('Bajas gerente'!$A$5:$A$369,">="&B8,'Bajas gerente'!$A$5:$A$369,"<="&C8) -> 0 | G8: =COUNTIFS($E$12:$IM$12,"<5",$E$11:$IM$11,">="&B8,$E$11:$IM$11,"<="&C8,$E$12:$IM$12,"<>"&"-") -> 0 | H8: =IF(OR(E8="",F8="",G8=""),"",IF((E8-F8-G8)<0,0,E8-F8-G8)) | I8: =IF(OR(B8="",C8=""),"",ROUND(D8*'Formulario V.III.C'!$Q$12*H8,2))
G9: Importe subvencionable | I9: =SUM(I4:I8) -> 0
D11: FECHA | E11: 45901 | F11: 45902 | G11: 45903 | H11: 45904 | I11: 45905 | J11: 45906 | K11: 45907 | L11: 45908 | M11: 45909 | N11: 45910 | O11: 45911 | P11: 45912 | Q11: 45913 | R11: 45914 | S11: 45915 | T11: 45916 | U11: 45917 | V11: 45918 | W11: 45919 | X11: 45920 | Y11: 45921 | Z11: 45922 | AA11: 45923 | AB11: 45924 | AC11: 45925 | AD11: 45926 | AE11: 45927 | AF11: 45928 | AG11: 45929 | AH11: 45930 | AI11: 45931 | AJ11: 45932 | AK11: 45933 | AL11: 45934 | AM11: 45935 | AN11: 45936 | AO11: 45937 | AP11: 45938 | AQ11: 45939 | AR11: 45940 | AS11: 45941 | AT11: 45942 | AU11: 45943 | AV11: 45944 | AW11: 45945 | AX11: 45946 | AY11: 45947 | AZ11: 45948 | BA11: 45949 | BB11: 45950 | BC11: 45951 | BD11: 45952 | BE11: 45953 | BF11: 45954 | BG11: 45955 | BH11: 45956 | BI11: 45957 | BJ11: 45958 | BK11: 45959 | BL11: 45960 | BM11: 45961 | BN11: 45962 | BO11: 45963 | BP11: 45964 | BQ11: 45965 | BR11: 45966 | BS11: 45967 | BT11: 45968 | BU11: 45969 | BV11: 45970 | BW11: 45971 | BX11: 45972 | BY11: 45973 | BZ11: 45974 | CA11: 45975 | CB11: 45976 | CC11: 45977 | CD11: 45978 | CE11: 45979 | CF11: 45980 | CG11: 45981 | CH11: 45982 | CI11: 45983 | CJ11: 45984 | CK11: 45985 | CL11: 45986 | CM11: 45987 | CN11: 45988 | CO11: 45989 | CP11: 45990 | CQ11: 45991 | CR11: 45992 | CS11: 45993 | CT11: 45994 | CU11: 45995 | CV11: 45996 | CW11: 45997 | CX11: 45998 | CY11: 45999 | CZ11: 46000 | DA11: 46001 | DB11: 46002 | DC11: 46003 | DD11: 46004 | DE11: 46005 | DF11: 46006 | DG11: 46007 | DH11: 46008 | DI11: 46009 | DJ11: 46010 | DK11: 46011 | DL11: 46012 | DM11: 46013 | DN11: 46014 | DO11: 46015 | DP11: 46016 | DQ11: 46017 | DR11: 46018 | DS11: 46019 | DT11: 46020 | DU11: 46021 | DV11: 46022 | DW11: 46023 | DX11: 46024 | DY11: 46025 | DZ11: 46026 | EA11: 46027 | EB11: 46028 | EC11: 46029 | ED11: 46030 | EE11: 46031 | EF11: 46032 | EG11: 46033 | EH11: 46034 | EI11: 46035 | EJ11: 46036 | EK11: 46037 | EL11: 46038 | EM11: 46039 | EN11: 46040 | EO11: 46041 | EP11: 46042 | EQ11: 46043 | ER11: 46044 | ES11: 46045 | ET11: 46046 | EU11: 46047 | EV11: 46048 | EW11: 46049 | EX11: 46050 | EY11: 46051 | EZ11: 46052 | FA11: 46053 | FB11: 46054 | FC11: 46055 | FD11: 46056 | FE11: 46057 | FF11: 46058 | FG11: 46059 | FH11: 46060 | FI11: 46061 | FJ11: 46062 | FK11: 46063 | FL11: 46064 | FM11: 46065 | FN11: 46066 | FO11: 46067 | FP11: 46068 | FQ11: 46069 | FR11: 46070 | FS11: 46071 | FT11: 46072 | FU11: 46073 | FV11: 46074 | FW11: 46075 | FX11: 46076 | FY11: 46077 | FZ11: 46078 | GA11: 46079 | GB11: 46080 | GC11: 46081 | GD11: 46082 | GE11: 46083 | GF11: 46084 | GG11: 46085 | GH11: 46086 | GI11: 46087 | GJ11: 46088 | GK11: 46089 | GL11: 46090 | GM11: 46091 | GN11: 46092 | GO11: 46093 | GP11: 46094 | GQ11: 46095 | GR11: 46096 | GS11: 46097 | GT11: 46098 | GU11: 46099 | GV11: 46100 | GW11: 46101 | GX11: 46102 | GY11: 46103 | GZ11: 46104 | HA11: 46105 | HB11: 46106 | HC11: 46107 | HD11: 46108 | HE11: 46109 | HF11: 46110 | HG11: 46111 | HH11: 46112 | HI11: 46113 | HJ11: 46114 | HK11: 46115 | HL11: 46116 | HM11: 46117 | HN11: 46118 | HO11: 46119 | HP11: 46120 | HQ11: 46121 | HR11: 46122 | HS11: 46123 | HT11: 46124 | HU11: 46125 | HV11: 46126 | HW11: 46127 | HX11: 46128 | HY11: 46129 | HZ11: 46130 | IA11: 46131 | IB11: 46132 | IC11: 46133 | ID11: 46134 | IE11: 46135 | IF11: 46136 | IG11: 46137 | IH11: 46138 | II11: 46139 | IJ11: 46140 | IK11: 46141 | IL11: 46142 | IM11: 46143 | IN11: 46144 | IO11: 46145 | IP11: 46146 | IQ11: 46147 | IR11: 46148 | IS11: 46149 | IT11: 46150 | IU11: 46151 | IV11: 46152 | IW11: 46153 | IX11: 46154 | IY11: 46155 | IZ11: 46156 | JA11: 46157 | JB11: 46158 | JC11: 46159 | JD11: 46160 | JE11: 46161 | JF11: 46162 | JG11: 46163 | JH11: 46164 | JI11: 46165 | JJ11: 46166 | JK11: 46167 | JL11: 46168 | JM11: 46169 | JN11: 46170 | JO11: 46171 | JP11: 46172 | JQ11: 46173 | JR11: 46174 | JS11: 46175 | JT11: 46176 | JU11: 46177 | JV11: 46178 | JW11: 46179 | JX11: 46180 | JY11: 46181 | JZ11: 46182 | KA11: 46183 | KB11: 46184 | KC11: 46185 | KD11: 46186 | KE11: 46187 | KF11: 46188 | KG11: 46189 | KH11: 46190 | KI11: 46191 | KJ11: 46192 | KK11: 46193 | KL11: 46194 | KM11: 46195 | KN11: 46196 | KO11: 46197 | KP11: 46198 | KQ11: 46199 | KR11: 46200 | KS11: 46201 | KT11: 46202 | KU11: 46203
A12: TRABAJADOR | B12: F. INICIO | C12: F.FIN | D12: SUMA TRABAJADORES | E12: =IFERROR(IF(VLOOKUP(E11,'Bajas gerente'!$A$5:$A$369,1,0),"-",SUM(E14:E54)),SUM(E14:E54)) -> 0 | F12: =IFERROR(IF(VLOOKUP(F11,'Bajas gerente'!$A$5:$A$369,1,0),"-",SUM(F14:F54)),SUM(F14:F54)) -> 0 | G12: =IFERROR(IF(VLOOKUP(G11,'Bajas gerente'!$A$5:$A$369,1,0),"-",SUM(G14:G54)),SUM(G14:G54)) -> 0 | H12: =IFERROR(IF(VLOOKUP(H11,'Bajas gerente'!$A$5:$A$369,1,0),"-",SUM(H14:H54)),SUM(H14:H54)) -> 0 | I12: =IFERROR(IF(VLOOKUP(I11,'Bajas gerente'!$A$5:$A$369,1,0),"-",SUM(I14:I54)),SUM(I14:I54)) -> 0 | J12: =IFERROR(IF(VLOOKUP(J11,'Bajas gerente'!$A$5:$A$369,1,0),"-",SUM(J14:J54)),SUM(J14:J54)) -> 0 | K12: =IFERROR(IF(VLOOKUP(K11,'Bajas gerente'!$A$5:$A$369,1,0),"-",SUM(K14:K54)),SUM(K14:K54)) -> 0 | L12: =IFERROR(IF(VLOOKUP(L11,'Bajas gerente'!$A$5:$A$369,1,0),"-",SUM(L14:L54)),SUM(L14:L54)) -> 0 | ... KU12: =IFERROR(IF(VLOOKUP(KU11,'Bajas gerente'!$A$5:$A$369,1,0),"-",SUM(KU14:KU54)),SUM(KU14:KU54)) -> 0
A14: ='Formulario V.III.C'!C21 -> 0 | B14: =IF('Formulario V.III.C'!I21="","",'Formulario V.III.C'!I21) | C14: =IF(AND('Formulario V.III.C'!I21="",'Formulario V.III.C'!J21=""),"",IF('Formulario V.III.C'!J21="",$KU$11,'Formulario V.III.C'!J21)) | E14: =IF(OR($B14="",$C14=""),"",VALUE(IF(AND(E$11>=$B14,E$11<=$C14,OR(AND(E$11>=$B$4,E$11<=$C$4),AND(E$11>=$B$5,E$11<=$C$5),AND(E$11>=$B$6,E$11<=$C$6),AND(E$11>=$B$7,E$11<=$C$7),AND(E$11>=$B$8,E$11<=$C$8),AND(E$11>=$B$9,E$11<=$C$9))),1,0))) | F14: =IF(OR($B14="",$C14=""),"",VALUE(IF(AND(F$11>=$B14,F$11<=$C14,OR(AND(F$11>=$B$4,F$11<=$C$4),AND(F$11>=$B$5,F$11<=$C$5),AND(F$11>=$B$6,F$11<=$C$6),AND(F$11>=$B$7,F$11<=$C$7),AND(F$11>=$B$8,F$11<=$C$8),AND(F$11>=$B$9,F$11<=$C$9))),1,0))) | G14: =IF(OR($B14="",$C14=""),"",VALUE(IF(AND(G$11>=$B14,G$11<=$C14,OR(AND(G$11>=$B$4,G$11<=$C$4),AND(G$11>=$B$5,G$11<=$C$5),AND(G$11>=$B$6,G$11<=$C$6),AND(G$11>=$B$7,G$11<=$C$7),AND(G$11>=$B$8,G$11<=$C$8),AND(G$11>=$B$9,G$11<=$C$9))),1,0))) | H14: =IF(OR($B14="",$C14=""),"",VALUE(IF(AND(H$11>=$B14,H$11<=$C14,OR(AND(H$11>=$B$4,H$11<=$C$4),AND(H$11>=$B$5,H$11<=$C$5),AND(H$11>=$B$6,H$11<=$C$6),AND(H$11>=$B$7,H$11<=$C$7),AND(H$11>=$B$8,H$11<=$C$8),AND(H$11>=$B$9,H$11<=$C$9))),1,0))) | I14: =IF(OR($B14="",$C14=""),"",VALUE(IF(AND(I$11>=$B14,I$11<=$C14,OR(AND(I$11>=$B$4,I$11<=$C$4),AND(I$11>=$B$5,I$11<=$C$5),AND(I$11>=$B$6,I$11<=$C$6),AND(I$11>=$B$7,I$11<=$C$7),AND(I$11>=$B$8,I$11<=$C$8),AND(I$11>=$B$9,I$11<=$C$9))),1,0))) | J14: =IF(OR($B14="",$C14=""),"",VALUE(IF(AND(J$11>=$B14,J$11<=$C14,OR(AND(J$11>=$B$4,J$11<=$C$4),AND(J$11>=$B$5,J$11<=$C$5),AND(J$11>=$B$6,J$11<=$C$6),AND(J$11>=$B$7,J$11<=$C$7),AND(J$11>=$B$8,J$11<=$C$8),AND(J$11>=$B$9,J$11<=$C$9))),1,0))) | K14: =IF(OR($B14="",$C14=""),"",VALUE(IF(AND(K$11>=$B14,K$11<=$C14,OR(AND(K$11>=$B$4,K$11<=$C$4),AND(K$11>=$B$5,K$11<=$C$5),AND(K$11>=$B$6,K$11<=$C$6),AND(K$11>=$B$7,K$11<=$C$7),AND(K$11>=$B$8,K$11<=$C$8),AND(K$11>=$B$9,K$11<=$C$9))),1,0))) | L14: =IF(OR($B14="",$C14=""),"",VALUE(IF(AND(L$11>=$B14,L$11<=$C14,OR(AND(L$11>=$B$4,L$11<=$C$4),AND(L$11>=$B$5,L$11<=$C$5),AND(L$11>=$B$6,L$11<=$C$6),AND(L$11>=$B$7,L$11<=$C$7),AND(L$11>=$B$8,L$11<=$C$8),AND(L$11>=$B$9,L$11<=$C$9))),1,0))) | ... IM14: =IF(OR($B14="",$C14=""),"",VALUE(IF(AND(IM$11>=$B14,IM$11<=$C14,OR(AND(IM$11>=$B$4,IM$11<=$C$4),AND(IM$11>=$B$5,IM$11<=$C$5),AND(IM$11>=$B$6,IM$11<=$C$6),AND(IM$11>=$B$7,IM$11<=$C$7),AND(IM$11>=$B$8,IM$11<=$C$8),AND(IM$11>=$B$9,IM$11<=$C$9))),1,0)))
A15: ='Formulario V.III.C'!C22 -> 0 | B15: =IF('Formulario V.III.C'!I22="","",'Formulario V.III.C'!I22) | C15: =IF(AND('Formulario V.III.C'!I22="",'Formulario V.III.C'!J22=""),"",IF('Formulario V.III.C'!J22="",$KU$11,'Formulario V.III.C'!J22)) | E15: =IF(OR($B15="",$C15=""),"",VALUE(IF(AND(E$11>=$B15,E$11<=$C15,OR(AND(E$11>=$B$4,E$11<=$C$4),AND(E$11>=$B$5,E$11<=$C$5),AND(E$11>=$B$6,E$11<=$C$6),AND(E$11>=$B$7,E$11<=$C$7),AND(E$11>=$B$8,E$11<=$C$8),AND(E$11>=$B$9,E$11<=$C$9))),1,0))) | F15: =IF(OR($B15="",$C15=""),"",VALUE(IF(AND(F$11>=$B15,F$11<=$C15,OR(AND(F$11>=$B$4,F$11<=$C$4),AND(F$11>=$B$5,F$11<=$C$5),AND(F$11>=$B$6,F$11<=$C$6),AND(F$11>=$B$7,F$11<=$C$7),AND(F$11>=$B$8,F$11<=$C$8),AND(F$11>=$B$9,F$11<=$C$9))),1,0))) | G15: =IF(OR($B15="",$C15=""),"",VALUE(IF(AND(G$11>=$B15,G$11<=$C15,OR(AND(G$11>=$B$4,G$11<=$C$4),AND(G$11>=$B$5,G$11<=$C$5),AND(G$11>=$B$6,G$11<=$C$6),AND(G$11>=$B$7,G$11<=$C$7),AND(G$11>=$B$8,G$11<=$C$8),AND(G$11>=$B$9,G$11<=$C$9))),1,0))) | H15: =IF(OR($B15="",$C15=""),"",VALUE(IF(AND(H$11>=$B15,H$11<=$C15,OR(AND(H$11>=$B$4,H$11<=$C$4),AND(H$11>=$B$5,H$11<=$C$5),AND(H$11>=$B$6,H$11<=$C$6),AND(H$11>=$B$7,H$11<=$C$7),AND(H$11>=$B$8,H$11<=$C$8),AND(H$11>=$B$9,H$11<=$C$9))),1,0))) | I15: =IF(OR($B15="",$C15=""),"",VALUE(IF(AND(I$11>=$B15,I$11<=$C15,OR(AND(I$11>=$B$4,I$11<=$C$4),AND(I$11>=$B$5,I$11<=$C$5),AND(I$11>=$B$6,I$11<=$C$6),AND(I$11>=$B$7,I$11<=$C$7),AND(I$11>=$B$8,I$11<=$C$8),AND(I$11>=$B$9,I$11<=$C$9))),1,0))) | J15: =IF(OR($B15="",$C15=""),"",VALUE(IF(AND(J$11>=$B15,J$11<=$C15,OR(AND(J$11>=$B$4,J$11<=$C$4),AND(J$11>=$B$5,J$11<=$C$5),AND(J$11>=$B$6,J$11<=$C$6),AND(J$11>=$B$7,J$11<=$C$7),AND(J$11>=$B$8,J$11<=$C$8),AND(J$11>=$B$9,J$11<=$C$9))),1,0))) | K15: =IF(OR($B15="",$C15=""),"",VALUE(IF(AND(K$11>=$B15,K$11<=$C15,OR(AND(K$11>=$B$4,K$11<=$C$4),AND(K$11>=$B$5,K$11<=$C$5),AND(K$11>=$B$6,K$11<=$C$6),AND(K$11>=$B$7,K$11<=$C$7),AND(K$11>=$B$8,K$11<=$C$8),AND(K$11>=$B$9,K$11<=$C$9))),1,0))) | L15: =IF(OR($B15="",$C15=""),"",VALUE(IF(AND(L$11>=$B15,L$11<=$C15,OR(AND(L$11>=$B$4,L$11<=$C$4),AND(L$11>=$B$5,L$11<=$C$5),AND(L$11>=$B$6,L$11<=$C$6),AND(L$11>=$B$7,L$11<=$C$7),AND(L$11>=$B$8,L$11<=$C$8),AND(L$11>=$B$9,L$11<=$C$9))),1,0))) | ... IM15: =IF(OR($B15="",$C15=""),"",VALUE(IF(AND(IM$11>=$B15,IM$11<=$C15,OR(AND(IM$11>=$B$4,IM$11<=$C$4),AND(IM$11>=$B$5,IM$11<=$C$5),AND(IM$11>=$B$6,IM$11<=$C$6),AND(IM$11>=$B$7,IM$11<=$C$7),AND(IM$11>=$B$8,IM$11<=$C$8),AND(IM$11>=$B$9,IM$11<=$C$9))),1,0)))
A16: ='Formulario V.III.C'!C23 -> 0 | B16: =IF('Formulario V.III.C'!I23="","",'Formulario V.III.C'!I23) | C16: =IF(AND('Formulario V.III.C'!I23="",'Formulario V.III.C'!J23=""),"",IF('Formulario V.III.C'!J23="",$KU$11,'Formulario V.III.C'!J23)) | E16: =IF(OR($B16="",$C16=""),"",VALUE(IF(AND(E$11>=$B16,E$11<=$C16,OR(AND(E$11>=$B$4,E$11<=$C$4),AND(E$11>=$B$5,E$11<=$C$5),AND(E$11>=$B$6,E$11<=$C$6),AND(E$11>=$B$7,E$11<=$C$7),AND(E$11>=$B$8,E$11<=$C$8),AND(E$11>=$B$9,E$11<=$C$9))),1,0))) | F16: =IF(OR($B16="",$C16=""),"",VALUE(IF(AND(F$11>=$B16,F$11<=$C16,OR(AND(F$11>=$B$4,F$11<=$C$4),AND(F$11>=$B$5,F$11<=$C$5),AND(F$11>=$B$6,F$11<=$C$6),AND(F$11>=$B$7,F$11<=$C$7),AND(F$11>=$B$8,F$11<=$C$8),AND(F$11>=$B$9,F$11<=$C$9))),1,0))) | G16: =IF(OR($B16="",$C16=""),"",VALUE(IF(AND(G$11>=$B16,G$11<=$C16,OR(AND(G$11>=$B$4,G$11<=$C$4),AND(G$11>=$B$5,G$11<=$C$5),AND(G$11>=$B$6,G$11<=$C$6),AND(G$11>=$B$7,G$11<=$C$7),AND(G$11>=$B$8,G$11<=$C$8),AND(G$11>=$B$9,G$11<=$C$9))),1,0))) | H16: =IF(OR($B16="",$C16=""),"",VALUE(IF(AND(H$11>=$B16,H$11<=$C16,OR(AND(H$11>=$B$4,H$11<=$C$4),AND(H$11>=$B$5,H$11<=$C$5),AND(H$11>=$B$6,H$11<=$C$6),AND(H$11>=$B$7,H$11<=$C$7),AND(H$11>=$B$8,H$11<=$C$8),AND(H$11>=$B$9,H$11<=$C$9))),1,0))) | I16: =IF(OR($B16="",$C16=""),"",VALUE(IF(AND(I$11>=$B16,I$11<=$C16,OR(AND(I$11>=$B$4,I$11<=$C$4),AND(I$11>=$B$5,I$11<=$C$5),AND(I$11>=$B$6,I$11<=$C$6),AND(I$11>=$B$7,I$11<=$C$7),AND(I$11>=$B$8,I$11<=$C$8),AND(I$11>=$B$9,I$11<=$C$9))),1,0))) | J16: =IF(OR($B16="",$C16=""),"",VALUE(IF(AND(J$11>=$B16,J$11<=$C16,OR(AND(J$11>=$B$4,J$11<=$C$4),AND(J$11>=$B$5,J$11<=$C$5),AND(J$11>=$B$6,J$11<=$C$6),AND(J$11>=$B$7,J$11<=$C$7),AND(J$11>=$B$8,J$11<=$C$8),AND(J$11>=$B$9,J$11<=$C$9))),1,0))) | K16: =IF(OR($B16="",$C16=""),"",VALUE(IF(AND(K$11>=$B16,K$11<=$C16,OR(AND(K$11>=$B$4,K$11<=$C$4),AND(K$11>=$B$5,K$11<=$C$5),AND(K$11>=$B$6,K$11<=$C$6),AND(K$11>=$B$7,K$11<=$C$7),AND(K$11>=$B$8,K$11<=$C$8),AND(K$11>=$B$9,K$11<=$C$9))),1,0))) | L16: =IF(OR($B16="",$C16=""),"",VALUE(IF(AND(L$11>=$B16,L$11<=$C16,OR(AND(L$11>=$B$4,L$11<=$C$4),AND(L$11>=$B$5,L$11<=$C$5),AND(L$11>=$B$6,L$11<=$C$6),AND(L$11>=$B$7,L$11<=$C$7),AND(L$11>=$B$8,L$11<=$C$8),AND(L$11>=$B$9,L$11<=$C$9))),1,0))) | ... IM16: =IF(OR($B16="",$C16=""),"",VALUE(IF(AND(IM$11>=$B16,IM$11<=$C16,OR(AND(IM$11>=$B$4,IM$11<=$C$4),AND(IM$11>=$B$5,IM$11<=$C$5),AND(IM$11>=$B$6,IM$11<=$C$6),AND(IM$11>=$B$7,IM$11<=$C$7),AND(IM$11>=$B$8,IM$11<=$C$8),AND(IM$11>=$B$9,IM$11<=$C$9))),1,0)))
A17: ='Formulario V.III.C'!C24 -> 0 | B17: =IF('Formulario V.III.C'!I24="","",'Formulario V.III.C'!I24) | C17: =IF(AND('Formulario V.III.C'!I24="",'Formulario V.III.C'!J24=""),"",IF('Formulario V.III.C'!J24="",$KU$11,'Formulario V.III.C'!J24)) | E17: =IF(OR($B17="",$C17=""),"",VALUE(IF(AND(E$11>=$B17,E$11<=$C17,OR(AND(E$11>=$B$4,E$11<=$C$4),AND(E$11>=$B$5,E$11<=$C$5),AND(E$11>=$B$6,E$11<=$C$6),AND(E$11>=$B$7,E$11<=$C$7),AND(E$11>=$B$8,E$11<=$C$8),AND(E$11>=$B$9,E$11<=$C$9))),1,0))) | F17: =IF(OR($B17="",$C17=""),"",VALUE(IF(AND(F$11>=$B17,F$11<=$C17,OR(AND(F$11>=$B$4,F$11<=$C$4),AND(F$11>=$B$5,F$11<=$C$5),AND(F$11>=$B$6,F$11<=$C$6),AND(F$11>=$B$7,F$11<=$C$7),AND(F$11>=$B$8,F$11<=$C$8),AND(F$11>=$B$9,F$11<=$C$9))),1,0))) | G17: =IF(OR($B17="",$C17=""),"",VALUE(IF(AND(G$11>=$B17,G$11<=$C17,OR(AND(G$11>=$B$4,G$11<=$C$4),AND(G$11>=$B$5,G$11<=$C$5),AND(G$11>=$B$6,G$11<=$C$6),AND(G$11>=$B$7,G$11<=$C$7),AND(G$11>=$B$8,G$11<=$C$8),AND(G$11>=$B$9,G$11<=$C$9))),1,0))) | H17: =IF(OR($B17="",$C17=""),"",VALUE(IF(AND(H$11>=$B17,H$11<=$C17,OR(AND(H$11>=$B$4,H$11<=$C$4),AND(H$11>=$B$5,H$11<=$C$5),AND(H$11>=$B$6,H$11<=$C$6),AND(H$11>=$B$7,H$11<=$C$7),AND(H$11>=$B$8,H$11<=$C$8),AND(H$11>=$B$9,H$11<=$C$9))),1,0))) | I17: =IF(OR($B17="",$C17=""),"",VALUE(IF(AND(I$11>=$B17,I$11<=$C17,OR(AND(I$11>=$B$4,I$11<=$C$4),AND(I$11>=$B$5,I$11<=$C$5),AND(I$11>=$B$6,I$11<=$C$6),AND(I$11>=$B$7,I$11<=$C$7),AND(I$11>=$B$8,I$11<=$C$8),AND(I$11>=$B$9,I$11<=$C$9))),1,0))) | J17: =IF(OR($B17="",$C17=""),"",VALUE(IF(AND(J$11>=$B17,J$11<=$C17,OR(AND(J$11>=$B$4,J$11<=$C$4),AND(J$11>=$B$5,J$11<=$C$5),AND(J$11>=$B$6,J$11<=$C$6),AND(J$11>=$B$7,J$11<=$C$7),AND(J$11>=$B$8,J$11<=$C$8),AND(J$11>=$B$9,J$11<=$C$9))),1,0))) | K17: =IF(OR($B17="",$C17=""),"",VALUE(IF(AND(K$11>=$B17,K$11<=$C17,OR(AND(K$11>=$B$4,K$11<=$C$4),AND(K$11>=$B$5,K$11<=$C$5),AND(K$11>=$B$6,K$11<=$C$6),AND(K$11>=$B$7,K$11<=$C$7),AND(K$11>=$B$8,K$11<=$C$8),AND(K$11>=$B$9,K$11<=$C$9))),1,0))) | L17: =IF(OR($B17="",$C17=""),"",VALUE(IF(AND(L$11>=$B17,L$11<=$C17,OR(AND(L$11>=$B$4,L$11<=$C$4),AND(L$11>=$B$5,L$11<=$C$5),AND(L$11>=$B$6,L$11<=$C$6),AND(L$11>=$B$7,L$11<=$C$7),AND(L$11>=$B$8,L$11<=$C$8),AND(L$11>=$B$9,L$11<=$C$9))),1,0))) | ... IM17: =IF(OR($B17="",$C17=""),"",VALUE(IF(AND(IM$11>=$B17,IM$11<=$C17,OR(AND(IM$11>=$B$4,IM$11<=$C$4),AND(IM$11>=$B$5,IM$11<=$C$5),AND(IM$11>=$B$6,IM$11<=$C$6),AND(IM$11>=$B$7,IM$11<=$C$7),AND(IM$11>=$B$8,IM$11<=$C$8),AND(IM$11>=$B$9,IM$11<=$C$9))),1,0)))
A18: ='Formulario V.III.C'!C25 -> 0 | B18: =IF('Formulario V.III.C'!I25="","",'Formulario V.III.C'!I25) | C18: =IF(AND('Formulario V.III.C'!I25="",'Formulario V.III.C'!J25=""),"",IF('Formulario V.III.C'!J25="",$KU$11,'Formulario V.III.C'!J25)) | E18: =IF(OR($B18="",$C18=""),"",VALUE(IF(AND(E$11>=$B18,E$11<=$C18,OR(AND(E$11>=$B$4,E$11<=$C$4),AND(E$11>=$B$5,E$11<=$C$5),AND(E$11>=$B$6,E$11<=$C$6),AND(E$11>=$B$7,E$11<=$C$7),AND(E$11>=$B$8,E$11<=$C$8),AND(E$11>=$B$9,E$11<=$C$9))),1,0))) | F18: =IF(OR($B18="",$C18=""),"",VALUE(IF(AND(F$11>=$B18,F$11<=$C18,OR(AND(F$11>=$B$4,F$11<=$C$4),AND(F$11>=$B$5,F$11<=$C$5),AND(F$11>=$B$6,F$11<=$C$6),AND(F$11>=$B$7,F$11<=$C$7),AND(F$11>=$B$8,F$11<=$C$8),AND(F$11>=$B$9,F$11<=$C$9))),1,0))) | G18: =IF(OR($B18="",$C18=""),"",VALUE(IF(AND(G$11>=$B18,G$11<=$C18,OR(AND(G$11>=$B$4,G$11<=$C$4),AND(G$11>=$B$5,G$11<=$C$5),AND(G$11>=$B$6,G$11<=$C$6),AND(G$11>=$B$7,G$11<=$C$7),AND(G$11>=$B$8,G$11<=$C$8),AND(G$11>=$B$9,G$11<=$C$9))),1,0))) | H18: =IF(OR($B18="",$C18=""),"",VALUE(IF(AND(H$11>=$B18,H$11<=$C18,OR(AND(H$11>=$B$4,H$11<=$C$4),AND(H$11>=$B$5,H$11<=$C$5),AND(H$11>=$B$6,H$11<=$C$6),AND(H$11>=$B$7,H$11<=$C$7),AND(H$11>=$B$8,H$11<=$C$8),AND(H$11>=$B$9,H$11<=$C$9))),1,0))) | I18: =IF(OR($B18="",$C18=""),"",VALUE(IF(AND(I$11>=$B18,I$11<=$C18,OR(AND(I$11>=$B$4,I$11<=$C$4),AND(I$11>=$B$5,I$11<=$C$5),AND(I$11>=$B$6,I$11<=$C$6),AND(I$11>=$B$7,I$11<=$C$7),AND(I$11>=$B$8,I$11<=$C$8),AND(I$11>=$B$9,I$11<=$C$9))),1,0))) | J18: =IF(OR($B18="",$C18=""),"",VALUE(IF(AND(J$11>=$B18,J$11<=$C18,OR(AND(J$11>=$B$4,J$11<=$C$4),AND(J$11>=$B$5,J$11<=$C$5),AND(J$11>=$B$6,J$11<=$C$6),AND(J$11>=$B$7,J$11<=$C$7),AND(J$11>=$B$8,J$11<=$C$8),AND(J$11>=$B$9,J$11<=$C$9))),1,0))) | K18: =IF(OR($B18="",$C18=""),"",VALUE(IF(AND(K$11>=$B18,K$11<=$C18,OR(AND(K$11>=$B$4,K$11<=$C$4),AND(K$11>=$B$5,K$11<=$C$5),AND(K$11>=$B$6,K$11<=$C$6),AND(K$11>=$B$7,K$11<=$C$7),AND(K$11>=$B$8,K$11<=$C$8),AND(K$11>=$B$9,K$11<=$C$9))),1,0))) | L18: =IF(OR($B18="",$C18=""),"",VALUE(IF(AND(L$11>=$B18,L$11<=$C18,OR(AND(L$11>=$B$4,L$11<=$C$4),AND(L$11>=$B$5,L$11<=$C$5),AND(L$11>=$B$6,L$11<=$C$6),AND(L$11>=$B$7,L$11<=$C$7),AND(L$11>=$B$8,L$11<=$C$8),AND(L$11>=$B$9,L$11<=$C$9))),1,0))) | ... IM18: =IF(OR($B18="",$C18=""),"",VALUE(IF(AND(IM$11>=$B18,IM$11<=$C18,OR(AND(IM$11>=$B$4,IM$11<=$C$4),AND(IM$11>=$B$5,IM$11<=$C$5),AND(IM$11>=$B$6,IM$11<=$C$6),AND(IM$11>=$B$7,IM$11<=$C$7),AND(IM$11>=$B$8,IM$11<=$C$8),AND(IM$11>=$B$9,IM$11<=$C$9))),1,0)))
A19: ='Formulario V.III.C'!C26 -> 0 | B19: =IF('Formulario V.III.C'!I26="","",'Formulario V.III.C'!I26) | C19: =IF(AND('Formulario V.III.C'!I26="",'Formulario V.III.C'!J26=""),"",IF('Formulario V.III.C'!J26="",$KU$11,'Formulario V.III.C'!J26)) | E19: =IF(OR($B19="",$C19=""),"",VALUE(IF(AND(E$11>=$B19,E$11<=$C19,OR(AND(E$11>=$B$4,E$11<=$C$4),AND(E$11>=$B$5,E$11<=$C$5),AND(E$11>=$B$6,E$11<=$C$6),AND(E$11>=$B$7,E$11<=$C$7),AND(E$11>=$B$8,E$11<=$C$8),AND(E$11>=$B$9,E$11<=$C$9))),1,0))) | F19: =IF(OR($B19="",$C19=""),"",VALUE(IF(AND(F$11>=$B19,F$11<=$C19,OR(AND(F$11>=$B$4,F$11<=$C$4),AND(F$11>=$B$5,F$11<=$C$5),AND(F$11>=$B$6,F$11<=$C$6),AND(F$11>=$B$7,F$11<=$C$7),AND(F$11>=$B$8,F$11<=$C$8),AND(F$11>=$B$9,F$11<=$C$9))),1,0))) | G19: =IF(OR($B19="",$C19=""),"",VALUE(IF(AND(G$11>=$B19,G$11<=$C19,OR(AND(G$11>=$B$4,G$11<=$C$4),AND(G$11>=$B$5,G$11<=$C$5),AND(G$11>=$B$6,G$11<=$C$6),AND(G$11>=$B$7,G$11<=$C$7),AND(G$11>=$B$8,G$11<=$C$8),AND(G$11>=$B$9,G$11<=$C$9))),1,0))) | H19: =IF(OR($B19="",$C19=""),"",VALUE(IF(AND(H$11>=$B19,H$11<=$C19,OR(AND(H$11>=$B$4,H$11<=$C$4),AND(H$11>=$B$5,H$11<=$C$5),AND(H$11>=$B$6,H$11<=$C$6),AND(H$11>=$B$7,H$11<=$C$7),AND(H$11>=$B$8,H$11<=$C$8),AND(H$11>=$B$9,H$11<=$C$9))),1,0))) | I19: =IF(OR($B19="",$C19=""),"",VALUE(IF(AND(I$11>=$B19,I$11<=$C19,OR(AND(I$11>=$B$4,I$11<=$C$4),AND(I$11>=$B$5,I$11<=$C$5),AND(I$11>=$B$6,I$11<=$C$6),AND(I$11>=$B$7,I$11<=$C$7),AND(I$11>=$B$8,I$11<=$C$8),AND(I$11>=$B$9,I$11<=$C$9))),1,0))) | J19: =IF(OR($B19="",$C19=""),"",VALUE(IF(AND(J$11>=$B19,J$11<=$C19,OR(AND(J$11>=$B$4,J$11<=$C$4),AND(J$11>=$B$5,J$11<=$C$5),AND(J$11>=$B$6,J$11<=$C$6),AND(J$11>=$B$7,J$11<=$C$7),AND(J$11>=$B$8,J$11<=$C$8),AND(J$11>=$B$9,J$11<=$C$9))),1,0))) | K19: =IF(OR($B19="",$C19=""),"",VALUE(IF(AND(K$11>=$B19,K$11<=$C19,OR(AND(K$11>=$B$4,K$11<=$C$4),AND(K$11>=$B$5,K$11<=$C$5),AND(K$11>=$B$6,K$11<=$C$6),AND(K$11>=$B$7,K$11<=$C$7),AND(K$11>=$B$8,K$11<=$C$8),AND(K$11>=$B$9,K$11<=$C$9))),1,0))) | L19: =IF(OR($B19="",$C19=""),"",VALUE(IF(AND(L$11>=$B19,L$11<=$C19,OR(AND(L$11>=$B$4,L$11<=$C$4),AND(L$11>=$B$5,L$11<=$C$5),AND(L$11>=$B$6,L$11<=$C$6),AND(L$11>=$B$7,L$11<=$C$7),AND(L$11>=$B$8,L$11<=$C$8),AND(L$11>=$B$9,L$11<=$C$9))),1,0))) | ... IM19: =IF(OR($B19="",$C19=""),"",VALUE(IF(AND(IM$11>=$B19,IM$11<=$C19,OR(AND(IM$11>=$B$4,IM$11<=$C$4),AND(IM$11>=$B$5,IM$11<=$C$5),AND(IM$11>=$B$6,IM$11<=$C$6),AND(IM$11>=$B$7,IM$11<=$C$7),AND(IM$11>=$B$8,IM$11<=$C$8),AND(IM$11>=$B$9,IM$11<=$C$9))),1,0)))
A20: ='Formulario V.III.C'!C27 -> 0 | B20: =IF('Formulario V.III.C'!I27="","",'Formulario V.III.C'!I27) | C20: =IF(AND('Formulario V.III.C'!I27="",'Formulario V.III.C'!J27=""),"",IF('Formulario V.III.C'!J27="",$KU$11,'Formulario V.III.C'!J27)) | E20: =IF(OR($B20="",$C20=""),"",VALUE(IF(AND(E$11>=$B20,E$11<=$C20,OR(AND(E$11>=$B$4,E$11<=$C$4),AND(E$11>=$B$5,E$11<=$C$5),AND(E$11>=$B$6,E$11<=$C$6),AND(E$11>=$B$7,E$11<=$C$7),AND(E$11>=$B$8,E$11<=$C$8),AND(E$11>=$B$9,E$11<=$C$9))),1,0))) | F20: =IF(OR($B20="",$C20=""),"",VALUE(IF(AND(F$11>=$B20,F$11<=$C20,OR(AND(F$11>=$B$4,F$11<=$C$4),AND(F$11>=$B$5,F$11<=$C$5),AND(F$11>=$B$6,F$11<=$C$6),AND(F$11>=$B$7,F$11<=$C$7),AND(F$11>=$B$8,F$11<=$C$8),AND(F$11>=$B$9,F$11<=$C$9))),1,0))) | G20: =IF(OR($B20="",$C20=""),"",VALUE(IF(AND(G$11>=$B20,G$11<=$C20,OR(AND(G$11>=$B$4,G$11<=$C$4),AND(G$11>=$B$5,G$11<=$C$5),AND(G$11>=$B$6,G$11<=$C$6),AND(G$11>=$B$7,G$11<=$C$7),AND(G$11>=$B$8,G$11<=$C$8),AND(G$11>=$B$9,G$11<=$C$9))),1,0))) | H20: =IF(OR($B20="",$C20=""),"",VALUE(IF(AND(H$11>=$B20,H$11<=$C20,OR(AND(H$11>=$B$4,H$11<=$C$4),AND(H$11>=$B$5,H$11<=$C$5),AND(H$11>=$B$6,H$11<=$C$6),AND(H$11>=$B$7,H$11<=$C$7),AND(H$11>=$B$8,H$11<=$C$8),AND(H$11>=$B$9,H$11<=$C$9))),1,0))) | I20: =IF(OR($B20="",$C20=""),"",VALUE(IF(AND(I$11>=$B20,I$11<=$C20,OR(AND(I$11>=$B$4,I$11<=$C$4),AND(I$11>=$B$5,I$11<=$C$5),AND(I$11>=$B$6,I$11<=$C$6),AND(I$11>=$B$7,I$11<=$C$7),AND(I$11>=$B$8,I$11<=$C$8),AND(I$11>=$B$9,I$11<=$C$9))),1,0))) | J20: =IF(OR($B20="",$C20=""),"",VALUE(IF(AND(J$11>=$B20,J$11<=$C20,OR(AND(J$11>=$B$4,J$11<=$C$4),AND(J$11>=$B$5,J$11<=$C$5),AND(J$11>=$B$6,J$11<=$C$6),AND(J$11>=$B$7,J$11<=$C$7),AND(J$11>=$B$8,J$11<=$C$8),AND(J$11>=$B$9,J$11<=$C$9))),1,0))) | K20: =IF(OR($B20="",$C20=""),"",VALUE(IF(AND(K$11>=$B20,K$11<=$C20,OR(AND(K$11>=$B$4,K$11<=$C$4),AND(K$11>=$B$5,K$11<=$C$5),AND(K$11>=$B$6,K$11<=$C$6),AND(K$11>=$B$7,K$11<=$C$7),AND(K$11>=$B$8,K$11<=$C$8),AND(K$11>=$B$9,K$11<=$C$9))),1,0))) | L20: =IF(OR($B20="",$C20=""),"",VALUE(IF(AND(L$11>=$B20,L$11<=$C20,OR(AND(L$11>=$B$4,L$11<=$C$4),AND(L$11>=$B$5,L$11<=$C$5),AND(L$11>=$B$6,L$11<=$C$6),AND(L$11>=$B$7,L$11<=$C$7),AND(L$11>=$B$8,L$11<=$C$8),AND(L$11>=$B$9,L$11<=$C$9))),1,0))) | ... IM20: =IF(OR($B20="",$C20=""),"",VALUE(IF(AND(IM$11>=$B20,IM$11<=$C20,OR(AND(IM$11>=$B$4,IM$11<=$C$4),AND(IM$11>=$B$5,IM$11<=$C$5),AND(IM$11>=$B$6,IM$11<=$C$6),AND(IM$11>=$B$7,IM$11<=$C$7),AND(IM$11>=$B$8,IM$11<=$C$8),AND(IM$11>=$B$9,IM$11<=$C$9))),1,0)))
A21: ='Formulario V.III.C'!C28 -> 0 | B21: =IF('Formulario V.III.C'!I28="","",'Formulario V.III.C'!I28) | C21: =IF(AND('Formulario V.III.C'!I28="",'Formulario V.III.C'!J28=""),"",IF('Formulario V.III.C'!J28="",$KU$11,'Formulario V.III.C'!J28)) | E21: =IF(OR($B21="",$C21=""),"",VALUE(IF(AND(E$11>=$B21,E$11<=$C21,OR(AND(E$11>=$B$4,E$11<=$C$4),AND(E$11>=$B$5,E$11<=$C$5),AND(E$11>=$B$6,E$11<=$C$6),AND(E$11>=$B$7,E$11<=$C$7),AND(E$11>=$B$8,E$11<=$C$8),AND(E$11>=$B$9,E$11<=$C$9))),1,0))) | F21: =IF(OR($B21="",$C21=""),"",VALUE(IF(AND(F$11>=$B21,F$11<=$C21,OR(AND(F$11>=$B$4,F$11<=$C$4),AND(F$11>=$B$5,F$11<=$C$5),AND(F$11>=$B$6,F$11<=$C$6),AND(F$11>=$B$7,F$11<=$C$7),AND(F$11>=$B$8,F$11<=$C$8),AND(F$11>=$B$9,F$11<=$C$9))),1,0))) | G21: =IF(OR($B21="",$C21=""),"",VALUE(IF(AND(G$11>=$B21,G$11<=$C21,OR(AND(G$11>=$B$4,G$11<=$C$4),AND(G$11>=$B$5,G$11<=$C$5),AND(G$11>=$B$6,G$11<=$C$6),AND(G$11>=$B$7,G$11<=$C$7),AND(G$11>=$B$8,G$11<=$C$8),AND(G$11>=$B$9,G$11<=$C$9))),1,0))) | H21: =IF(OR($B21="",$C21=""),"",VALUE(IF(AND(H$11>=$B21,H$11<=$C21,OR(AND(H$11>=$B$4,H$11<=$C$4),AND(H$11>=$B$5,H$11<=$C$5),AND(H$11>=$B$6,H$11<=$C$6),AND(H$11>=$B$7,H$11<=$C$7),AND(H$11>=$B$8,H$11<=$C$8),AND(H$11>=$B$9,H$11<=$C$9))),1,0))) | I21: =IF(OR($B21="",$C21=""),"",VALUE(IF(AND(I$11>=$B21,I$11<=$C21,OR(AND(I$11>=$B$4,I$11<=$C$4),AND(I$11>=$B$5,I$11<=$C$5),AND(I$11>=$B$6,I$11<=$C$6),AND(I$11>=$B$7,I$11<=$C$7),AND(I$11>=$B$8,I$11<=$C$8),AND(I$11>=$B$9,I$11<=$C$9))),1,0))) | J21: =IF(OR($B21="",$C21=""),"",VALUE(IF(AND(J$11>=$B21,J$11<=$C21,OR(AND(J$11>=$B$4,J$11<=$C$4),AND(J$11>=$B$5,J$11<=$C$5),AND(J$11>=$B$6,J$11<=$C$6),AND(J$11>=$B$7,J$11<=$C$7),AND(J$11>=$B$8,J$11<=$C$8),AND(J$11>=$B$9,J$11<=$C$9))),1,0))) | K21: =IF(OR($B21="",$C21=""),"",VALUE(IF(AND(K$11>=$B21,K$11<=$C21,OR(AND(K$11>=$B$4,K$11<=$C$4),AND(K$11>=$B$5,K$11<=$C$5),AND(K$11>=$B$6,K$11<=$C$6),AND(K$11>=$B$7,K$11<=$C$7),AND(K$11>=$B$8,K$11<=$C$8),AND(K$11>=$B$9,K$11<=$C$9))),1,0))) | L21: =IF(OR($B21="",$C21=""),"",VALUE(IF(AND(L$11>=$B21,L$11<=$C21,OR(AND(L$11>=$B$4,L$11<=$C$4),AND(L$11>=$B$5,L$11<=$C$5),AND(L$11>=$B$6,L$11<=$C$6),AND(L$11>=$B$7,L$11<=$C$7),AND(L$11>=$B$8,L$11<=$C$8),AND(L$11>=$B$9,L$11<=$C$9))),1,0))) | ... IM21: =IF(OR($B21="",$C21=""),"",VALUE(IF(AND(IM$11>=$B21,IM$11<=$C21,OR(AND(IM$11>=$B$4,IM$11<=$C$4),AND(IM$11>=$B$5,IM$11<=$C$5),AND(IM$11>=$B$6,IM$11<=$C$6),AND(IM$11>=$B$7,IM$11<=$C$7),AND(IM$11>=$B$8,IM$11<=$C$8),AND(IM$11>=$B$9,IM$11<=$C$9))),1,0)))
A22: ='Formulario V.III.C'!C29 -> 0 | B22: =IF('Formulario V.III.C'!I29="","",'Formulario V.III.C'!I29) | C22: =IF(AND('Formulario V.III.C'!I29="",'Formulario V.III.C'!J29=""),"",IF('Formulario V.III.C'!J29="",$KU$11,'Formulario V.III.C'!J29)) | E22: =IF(OR($B22="",$C22=""),"",VALUE(IF(AND(E$11>=$B22,E$11<=$C22,OR(AND(E$11>=$B$4,E$11<=$C$4),AND(E$11>=$B$5,E$11<=$C$5),AND(E$11>=$B$6,E$11<=$C$6),AND(E$11>=$B$7,E$11<=$C$7),AND(E$11>=$B$8,E$11<=$C$8),AND(E$11>=$B$9,E$11<=$C$9))),1,0))) | F22: =IF(OR($B22="",$C22=""),"",VALUE(IF(AND(F$11>=$B22,F$11<=$C22,OR(AND(F$11>=$B$4,F$11<=$C$4),AND(F$11>=$B$5,F$11<=$C$5),AND(F$11>=$B$6,F$11<=$C$6),AND(F$11>=$B$7,F$11<=$C$7),AND(F$11>=$B$8,F$11<=$C$8),AND(F$11>=$B$9,F$11<=$C$9))),1,0))) | G22: =IF(OR($B22="",$C22=""),"",VALUE(IF(AND(G$11>=$B22,G$11<=$C22,OR(AND(G$11>=$B$4,G$11<=$C$4),AND(G$11>=$B$5,G$11<=$C$5),AND(G$11>=$B$6,G$11<=$C$6),AND(G$11>=$B$7,G$11<=$C$7),AND(G$11>=$B$8,G$11<=$C$8),AND(G$11>=$B$9,G$11<=$C$9))),1,0))) | H22: =IF(OR($B22="",$C22=""),"",VALUE(IF(AND(H$11>=$B22,H$11<=$C22,OR(AND(H$11>=$B$4,H$11<=$C$4),AND(H$11>=$B$5,H$11<=$C$5),AND(H$11>=$B$6,H$11<=$C$6),AND(H$11>=$B$7,H$11<=$C$7),AND(H$11>=$B$8,H$11<=$C$8),AND(H$11>=$B$9,H$11<=$C$9))),1,0))) | I22: =IF(OR($B22="",$C22=""),"",VALUE(IF(AND(I$11>=$B22,I$11<=$C22,OR(AND(I$11>=$B$4,I$11<=$C$4),AND(I$11>=$B$5,I$11<=$C$5),AND(I$11>=$B$6,I$11<=$C$6),AND(I$11>=$B$7,I$11<=$C$7),AND(I$11>=$B$8,I$11<=$C$8),AND(I$11>=$B$9,I$11<=$C$9))),1,0))) | J22: =IF(OR($B22="",$C22=""),"",VALUE(IF(AND(J$11>=$B22,J$11<=$C22,OR(AND(J$11>=$B$4,J$11<=$C$4),AND(J$11>=$B$5,J$11<=$C$5),AND(J$11>=$B$6,J$11<=$C$6),AND(J$11>=$B$7,J$11<=$C$7),AND(J$11>=$B$8,J$11<=$C$8),AND(J$11>=$B$9,J$11<=$C$9))),1,0))) | K22: =IF(OR($B22="",$C22=""),"",VALUE(IF(AND(K$11>=$B22,K$11<=$C22,OR(AND(K$11>=$B$4,K$11<=$C$4),AND(K$11>=$B$5,K$11<=$C$5),AND(K$11>=$B$6,K$11<=$C$6),AND(K$11>=$B$7,K$11<=$C$7),AND(K$11>=$B$8,K$11<=$C$8),AND(K$11>=$B$9,K$11<=$C$9))),1,0))) | L22: =IF(OR($B22="",$C22=""),"",VALUE(IF(AND(L$11>=$B22,L$11<=$C22,OR(AND(L$11>=$B$4,L$11<=$C$4),AND(L$11>=$B$5,L$11<=$C$5),AND(L$11>=$B$6,L$11<=$C$6),AND(L$11>=$B$7,L$11<=$C$7),AND(L$11>=$B$8,L$11<=$C$8),AND(L$11>=$B$9,L$11<=$C$9))),1,0))) | ... IM22: =IF(OR($B22="",$C22=""),"",VALUE(IF(AND(IM$11>=$B22,IM$11<=$C22,OR(AND(IM$11>=$B$4,IM$11<=$C$4),AND(IM$11>=$B$5,IM$11<=$C$5),AND(IM$11>=$B$6,IM$11<=$C$6),AND(IM$11>=$B$7,IM$11<=$C$7),AND(IM$11>=$B$8,IM$11<=$C$8),AND(IM$11>=$B$9,IM$11<=$C$9))),1,0)))
A23: ='Formulario V.III.C'!C30 -> 0 | B23: =IF('Formulario V.III.C'!I30="","",'Formulario V.III.C'!I30) | C23: =IF(AND('Formulario V.III.C'!I30="",'Formulario V.III.C'!J30=""),"",IF('Formulario V.III.C'!J30="",$KU$11,'Formulario V.III.C'!J30)) | E23: =IF(OR($B23="",$C23=""),"",VALUE(IF(AND(E$11>=$B23,E$11<=$C23,OR(AND(E$11>=$B$4,E$11<=$C$4),AND(E$11>=$B$5,E$11<=$C$5),AND(E$11>=$B$6,E$11<=$C$6),AND(E$11>=$B$7,E$11<=$C$7),AND(E$11>=$B$8,E$11<=$C$8),AND(E$11>=$B$9,E$11<=$C$9))),1,0))) | F23: =IF(OR($B23="",$C23=""),"",VALUE(IF(AND(F$11>=$B23,F$11<=$C23,OR(AND(F$11>=$B$4,F$11<=$C$4),AND(F$11>=$B$5,F$11<=$C$5),AND(F$11>=$B$6,F$11<=$C$6),AND(F$11>=$B$7,F$11<=$C$7),AND(F$11>=$B$8,F$11<=$C$8),AND(F$11>=$B$9,F$11<=$C$9))),1,0))) | G23: =IF(OR($B23="",$C23=""),"",VALUE(IF(AND(G$11>=$B23,G$11<=$C23,OR(AND(G$11>=$B$4,G$11<=$C$4),AND(G$11>=$B$5,G$11<=$C$5),AND(G$11>=$B$6,G$11<=$C$6),AND(G$11>=$B$7,G$11<=$C$7),AND(G$11>=$B$8,G$11<=$C$8),AND(G$11>=$B$9,G$11<=$C$9))),1,0))) | H23: =IF(OR($B23="",$C23=""),"",VALUE(IF(AND(H$11>=$B23,H$11<=$C23,OR(AND(H$11>=$B$4,H$11<=$C$4),AND(H$11>=$B$5,H$11<=$C$5),AND(H$11>=$B$6,H$11<=$C$6),AND(H$11>=$B$7,H$11<=$C$7),AND(H$11>=$B$8,H$11<=$C$8),AND(H$11>=$B$9,H$11<=$C$9))),1,0))) | I23: =IF(OR($B23="",$C23=""),"",VALUE(IF(AND(I$11>=$B23,I$11<=$C23,OR(AND(I$11>=$B$4,I$11<=$C$4),AND(I$11>=$B$5,I$11<=$C$5),AND(I$11>=$B$6,I$11<=$C$6),AND(I$11>=$B$7,I$11<=$C$7),AND(I$11>=$B$8,I$11<=$C$8),AND(I$11>=$B$9,I$11<=$C$9))),1,0))) | J23: =IF(OR($B23="",$C23=""),"",VALUE(IF(AND(J$11>=$B23,J$11<=$C23,OR(AND(J$11>=$B$4,J$11<=$C$4),AND(J$11>=$B$5,J$11<=$C$5),AND(J$11>=$B$6,J$11<=$C$6),AND(J$11>=$B$7,J$11<=$C$7),AND(J$11>=$B$8,J$11<=$C$8),AND(J$11>=$B$9,J$11<=$C$9))),1,0))) | K23: =IF(OR($B23="",$C23=""),"",VALUE(IF(AND(K$11>=$B23,K$11<=$C23,OR(AND(K$11>=$B$4,K$11<=$C$4),AND(K$11>=$B$5,K$11<=$C$5),AND(K$11>=$B$6,K$11<=$C$6),AND(K$11>=$B$7,K$11<=$C$7),AND(K$11>=$B$8,K$11<=$C$8),AND(K$11>=$B$9,K$11<=$C$9))),1,0))) | L23: =IF(OR($B23="",$C23=""),"",VALUE(IF(AND(L$11>=$B23,L$11<=$C23,OR(AND(L$11>=$B$4,L$11<=$C$4),AND(L$11>=$B$5,L$11<=$C$5),AND(L$11>=$B$6,L$11<=$C$6),AND(L$11>=$B$7,L$11<=$C$7),AND(L$11>=$B$8,L$11<=$C$8),AND(L$11>=$B$9,L$11<=$C$9))),1,0))) | ... IM23: =IF(OR($B23="",$C23=""),"",VALUE(IF(AND(IM$11>=$B23,IM$11<=$C23,OR(AND(IM$11>=$B$4,IM$11<=$C$4),AND(IM$11>=$B$5,IM$11<=$C$5),AND(IM$11>=$B$6,IM$11<=$C$6),AND(IM$11>=$B$7,IM$11<=$C$7),AND(IM$11>=$B$8,IM$11<=$C$8),AND(IM$11>=$B$9,IM$11<=$C$9))),1,0)))
A24: ='Formulario V.III.C'!C31 -> 0 | B24: =IF('Formulario V.III.C'!I31="","",'Formulario V.III.C'!I31) | C24: =IF(AND('Formulario V.III.C'!I31="",'Formulario V.III.C'!J31=""),"",IF('Formulario V.III.C'!J31="",$KU$11,'Formulario V.III.C'!J31)) | E24: =IF(OR($B24="",$C24=""),"",VALUE(IF(AND(E$11>=$B24,E$11<=$C24,OR(AND(E$11>=$B$4,E$11<=$C$4),AND(E$11>=$B$5,E$11<=$C$5),AND(E$11>=$B$6,E$11<=$C$6),AND(E$11>=$B$7,E$11<=$C$7),AND(E$11>=$B$8,E$11<=$C$8),AND(E$11>=$B$9,E$11<=$C$9))),1,0))) | F24: =IF(OR($B24="",$C24=""),"",VALUE(IF(AND(F$11>=$B24,F$11<=$C24,OR(AND(F$11>=$B$4,F$11<=$C$4),AND(F$11>=$B$5,F$11<=$C$5),AND(F$11>=$B$6,F$11<=$C$6),AND(F$11>=$B$7,F$11<=$C$7),AND(F$11>=$B$8,F$11<=$C$8),AND(F$11>=$B$9,F$11<=$C$9))),1,0))) | G24: =IF(OR($B24="",$C24=""),"",VALUE(IF(AND(G$11>=$B24,G$11<=$C24,OR(AND(G$11>=$B$4,G$11<=$C$4),AND(G$11>=$B$5,G$11<=$C$5),AND(G$11>=$B$6,G$11<=$C$6),AND(G$11>=$B$7,G$11<=$C$7),AND(G$11>=$B$8,G$11<=$C$8),AND(G$11>=$B$9,G$11<=$C$9))),1,0))) | H24: =IF(OR($B24="",$C24=""),"",VALUE(IF(AND(H$11>=$B24,H$11<=$C24,OR(AND(H$11>=$B$4,H$11<=$C$4),AND(H$11>=$B$5,H$11<=$C$5),AND(H$11>=$B$6,H$11<=$C$6),AND(H$11>=$B$7,H$11<=$C$7),AND(H$11>=$B$8,H$11<=$C$8),AND(H$11>=$B$9,H$11<=$C$9))),1,0))) | I24: =IF(OR($B24="",$C24=""),"",VALUE(IF(AND(I$11>=$B24,I$11<=$C24,OR(AND(I$11>=$B$4,I$11<=$C$4),AND(I$11>=$B$5,I$11<=$C$5),AND(I$11>=$B$6,I$11<=$C$6),AND(I$11>=$B$7,I$11<=$C$7),AND(I$11>=$B$8,I$11<=$C$8),AND(I$11>=$B$9,I$11<=$C$9))),1,0))) | J24: =IF(OR($B24="",$C24=""),"",VALUE(IF(AND(J$11>=$B24,J$11<=$C24,OR(AND(J$11>=$B$4,J$11<=$C$4),AND(J$11>=$B$5,J$11<=$C$5),AND(J$11>=$B$6,J$11<=$C$6),AND(J$11>=$B$7,J$11<=$C$7),AND(J$11>=$B$8,J$11<=$C$8),AND(J$11>=$B$9,J$11<=$C$9))),1,0))) | K24: =IF(OR($B24="",$C24=""),"",VALUE(IF(AND(K$11>=$B24,K$11<=$C24,OR(AND(K$11>=$B$4,K$11<=$C$4),AND(K$11>=$B$5,K$11<=$C$5),AND(K$11>=$B$6,K$11<=$C$6),AND(K$11>=$B$7,K$11<=$C$7),AND(K$11>=$B$8,K$11<=$C$8),AND(K$11>=$B$9,K$11<=$C$9))),1,0))) | L24: =IF(OR($B24="",$C24=""),"",VALUE(IF(AND(L$11>=$B24,L$11<=$C24,OR(AND(L$11>=$B$4,L$11<=$C$4),AND(L$11>=$B$5,L$11<=$C$5),AND(L$11>=$B$6,L$11<=$C$6),AND(L$11>=$B$7,L$11<=$C$7),AND(L$11>=$B$8,L$11<=$C$8),AND(L$11>=$B$9,L$11<=$C$9))),1,0))) | ... IM24: =IF(OR($B24="",$C24=""),"",VALUE(IF(AND(IM$11>=$B24,IM$11<=$C24,OR(AND(IM$11>=$B$4,IM$11<=$C$4),AND(IM$11>=$B$5,IM$11<=$C$5),AND(IM$11>=$B$6,IM$11<=$C$6),AND(IM$11>=$B$7,IM$11<=$C$7),AND(IM$11>=$B$8,IM$11<=$C$8),AND(IM$11>=$B$9,IM$11<=$C$9))),1,0)))
A25: ='Formulario V.III.C'!C32 -> 0 | B25: =IF('Formulario V.III.C'!I32="","",'Formulario V.III.C'!I32) | C25: =IF(AND('Formulario V.III.C'!I32="",'Formulario V.III.C'!J32=""),"",IF('Formulario V.III.C'!J32="",$KU$11,'Formulario V.III.C'!J32)) | E25: =IF(OR($B25="",$C25=""),"",VALUE(IF(AND(E$11>=$B25,E$11<=$C25,OR(AND(E$11>=$B$4,E$11<=$C$4),AND(E$11>=$B$5,E$11<=$C$5),AND(E$11>=$B$6,E$11<=$C$6),AND(E$11>=$B$7,E$11<=$C$7),AND(E$11>=$B$8,E$11<=$C$8),AND(E$11>=$B$9,E$11<=$C$9))),1,0))) | F25: =IF(OR($B25="",$C25=""),"",VALUE(IF(AND(F$11>=$B25,F$11<=$C25,OR(AND(F$11>=$B$4,F$11<=$C$4),AND(F$11>=$B$5,F$11<=$C$5),AND(F$11>=$B$6,F$11<=$C$6),AND(F$11>=$B$7,F$11<=$C$7),AND(F$11>=$B$8,F$11<=$C$8),AND(F$11>=$B$9,F$11<=$C$9))),1,0))) | G25: =IF(OR($B25="",$C25=""),"",VALUE(IF(AND(G$11>=$B25,G$11<=$C25,OR(AND(G$11>=$B$4,G$11<=$C$4),AND(G$11>=$B$5,G$11<=$C$5),AND(G$11>=$B$6,G$11<=$C$6),AND(G$11>=$B$7,G$11<=$C$7),AND(G$11>=$B$8,G$11<=$C$8),AND(G$11>=$B$9,G$11<=$C$9))),1,0))) | H25: =IF(OR($B25="",$C25=""),"",VALUE(IF(AND(H$11>=$B25,H$11<=$C25,OR(AND(H$11>=$B$4,H$11<=$C$4),AND(H$11>=$B$5,H$11<=$C$5),AND(H$11>=$B$6,H$11<=$C$6),AND(H$11>=$B$7,H$11<=$C$7),AND(H$11>=$B$8,H$11<=$C$8),AND(H$11>=$B$9,H$11<=$C$9))),1,0))) | I25: =IF(OR($B25="",$C25=""),"",VALUE(IF(AND(I$11>=$B25,I$11<=$C25,OR(AND(I$11>=$B$4,I$11<=$C$4),AND(I$11>=$B$5,I$11<=$C$5),AND(I$11>=$B$6,I$11<=$C$6),AND(I$11>=$B$7,I$11<=$C$7),AND(I$11>=$B$8,I$11<=$C$8),AND(I$11>=$B$9,I$11<=$C$9))),1,0))) | J25: =IF(OR($B25="",$C25=""),"",VALUE(IF(AND(J$11>=$B25,J$11<=$C25,OR(AND(J$11>=$B$4,J$11<=$C$4),AND(J$11>=$B$5,J$11<=$C$5),AND(J$11>=$B$6,J$11<=$C$6),AND(J$11>=$B$7,J$11<=$C$7),AND(J$11>=$B$8,J$11<=$C$8),AND(J$11>=$B$9,J$11<=$C$9))),1,0))) | K25: =IF(OR($B25="",$C25=""),"",VALUE(IF(AND(K$11>=$B25,K$11<=$C25,OR(AND(K$11>=$B$4,K$11<=$C$4),AND(K$11>=$B$5,K$11<=$C$5),AND(K$11>=$B$6,K$11<=$C$6),AND(K$11>=$B$7,K$11<=$C$7),AND(K$11>=$B$8,K$11<=$C$8),AND(K$11>=$B$9,K$11<=$C$9))),1,0))) | L25: =IF(OR($B25="",$C25=""),"",VALUE(IF(AND(L$11>=$B25,L$11<=$C25,OR(AND(L$11>=$B$4,L$11<=$C$4),AND(L$11>=$B$5,L$11<=$C$5),AND(L$11>=$B$6,L$11<=$C$6),AND(L$11>=$B$7,L$11<=$C$7),AND(L$11>=$B$8,L$11<=$C$8),AND(L$11>=$B$9,L$11<=$C$9))),1,0))) | ... IM25: =IF(OR($B25="",$C25=""),"",VALUE(IF(AND(IM$11>=$B25,IM$11<=$C25,OR(AND(IM$11>=$B$4,IM$11<=$C$4),AND(IM$11>=$B$5,IM$11<=$C$5),AND(IM$11>=$B$6,IM$11<=$C$6),AND(IM$11>=$B$7,IM$11<=$C$7),AND(IM$11>=$B$8,IM$11<=$C$8),AND(IM$11>=$B$9,IM$11<=$C$9))),1,0)))
... A54: ='Formulario V.III.C'!C61 -> 0 | B54: =IF('Formulario V.III.C'!I61="","",'Formulario V.III.C'!I61) | C54: =IF(AND('Formulario V.III.C'!I61="",'Formulario V.III.C'!J61=""),"",IF('Formulario V.III.C'!J61="",$KU$11,'Formulario V.III.C'!J61)) | E54: =IF(OR($B54="",$C54=""),"",VALUE(IF(AND(E$11>=$B54,E$11<=$C54,OR(AND(E$11>=$B$4,E$11<=$C$4),AND(E$11>=$B$5,E$11<=$C$5),AND(E$11>=$B$6,E$11<=$C$6),AND(E$11>=$B$7,E$11<=$C$7),AND(E$11>=$B$8,E$11<=$C$8),AND(E$11>=$B$9,E$11<=$C$9))),1,0))) | F54: =IF(OR($B54="",$C54=""),"",VALUE(IF(AND(F$11>=$B54,F$11<=$C54,OR(AND(F$11>=$B$4,F$11<=$C$4),AND(F$11>=$B$5,F$11<=$C$5),AND(F$11>=$B$6,F$11<=$C$6),AND(F$11>=$B$7,F$11<=$C$7),AND(F$11>=$B$8,F$11<=$C$8),AND(F$11>=$B$9,F$11<=$C$9))),1,0))) | G54: =IF(OR($B54="",$C54=""),"",VALUE(IF(AND(G$11>=$B54,G$11<=$C54,OR(AND(G$11>=$B$4,G$11<=$C$4),AND(G$11>=$B$5,G$11<=$C$5),AND(G$11>=$B$6,G$11<=$C$6),AND(G$11>=$B$7,G$11<=$C$7),AND(G$11>=$B$8,G$11<=$C$8),AND(G$11>=$B$9,G$11<=$C$9))),1,0))) | H54: =IF(OR($B54="",$C54=""),"",VALUE(IF(AND(H$11>=$B54,H$11<=$C54,OR(AND(H$11>=$B$4,H$11<=$C$4),AND(H$11>=$B$5,H$11<=$C$5),AND(H$11>=$B$6,H$11<=$C$6),AND(H$11>=$B$7,H$11<=$C$7),AND(H$11>=$B$8,H$11<=$C$8),AND(H$11>=$B$9,H$11<=$C$9))),1,0))) | I54: =IF(OR($B54="",$C54=""),"",VALUE(IF(AND(I$11>=$B54,I$11<=$C54,OR(AND(I$11>=$B$4,I$11<=$C$4),AND(I$11>=$B$5,I$11<=$C$5),AND(I$11>=$B$6,I$11<=$C$6),AND(I$11>=$B$7,I$11<=$C$7),AND(I$11>=$B$8,I$11<=$C$8),AND(I$11>=$B$9,I$11<=$C$9))),1,0))) | J54: =IF(OR($B54="",$C54=""),"",VALUE(IF(AND(J$11>=$B54,J$11<=$C54,OR(AND(J$11>=$B$4,J$11<=$C$4),AND(J$11>=$B$5,J$11<=$C$5),AND(J$11>=$B$6,J$11<=$C$6),AND(J$11>=$B$7,J$11<=$C$7),AND(J$11>=$B$8,J$11<=$C$8),AND(J$11>=$B$9,J$11<=$C$9))),1,0))) | K54: =IF(OR($B54="",$C54=""),"",VALUE(IF(AND(K$11>=$B54,K$11<=$C54,OR(AND(K$11>=$B$4,K$11<=$C$4),AND(K$11>=$B$5,K$11<=$C$5),AND(K$11>=$B$6,K$11<=$C$6),AND(K$11>=$B$7,K$11<=$C$7),AND(K$11>=$B$8,K$11<=$C$8),AND(K$11>=$B$9,K$11<=$C$9))),1,0))) | L54: =IF(OR($B54="",$C54=""),"",VALUE(IF(AND(L$11>=$B54,L$11<=$C54,OR(AND(L$11>=$B$4,L$11<=$C$4),AND(L$11>=$B$5,L$11<=$C$5),AND(L$11>=$B$6,L$11<=$C$6),AND(L$11>=$B$7,L$11<=$C$7),AND(L$11>=$B$8,L$11<=$C$8),AND(L$11>=$B$9,L$11<=$C$9))),1,0))) | ... IM54: =IF(OR($B54="",$C54=""),"",VALUE(IF(AND(IM$11>=$B54,IM$11<=$C54,OR(AND(IM$11>=$B$4,IM$11<=$C$4),AND(IM$11>=$B$5,IM$11<=$C$5),AND(IM$11>=$B$6,IM$11<=$C$6),AND(IM$11>=$B$7,IM$11<=$C$7),AND(IM$11>=$B$8,IM$11<=$C$8),AND(IM$11>=$B$9,IM$11<=$C$9))),1,0)))
B55: =IF('Formulario V.III.C'!I62="","",'Formulario V.III.C'!I62) | C55: =IF(AND('Formulario V.III.C'!I62="",'Formulario V.III.C'!J62=""),"",IF('Formulario V.III.C'!J62="",$KU$11,'Formulario V.III.C'!J62))
B56: =IF('Formulario V.III.C'!I63="","",'Formulario V.III.C'!I63) | C56: =IF(AND('Formulario V.III.C'!I63="",'Formulario V.III.C'!J63=""),"",IF('Formulario V.III.C'!J63="",$KU$11,'Formulario V.III.C'!J63))
B57: =IF('Formulario V.III.C'!I64="","",'Formulario V.III.C'!I64) | C57: =IF(AND('Formulario V.III.C'!I64="",'Formulario V.III.C'!J64=""),"",IF('Formulario V.III.C'!J64="",$KU$11,'Formulario V.III.C'!J64))
B58: =IF('Formulario V.III.C'!I65="","",'Formulario V.III.C'!I65)
B59: =IF('Formulario V.III.C'!I66="","",'Formulario V.III.C'!I66) | C59: =IF(AND('Formulario V.III.C'!I66="",'Formulario V.III.C'!J66=""),"",IF('Formulario V.III.C'!J66="",$KU$11,'Formulario V.III.C'!J66))
B60: =IF('Formulario V.III.C'!I67="","",'Formulario V.III.C'!I67) | C60: =IF(AND('Formulario V.III.C'!I67="",'Formulario V.III.C'!J67=""),"",IF('Formulario V.III.C'!J67="",$KU$11,'Formulario V.III.C'!J67))
B61: =IF('Formulario V.III.C'!I68="","",'Formulario V.III.C'!I68) | C61: =IF(AND('Formulario V.III.C'!I68="",'Formulario V.III.C'!J68=""),"",IF('Formulario V.III.C'!J68="",$KU$11,'Formulario V.III.C'!J68))
B62: =IF('Formulario V.III.C'!I69="","",'Formulario V.III.C'!I69) | C62: =IF(AND('Formulario V.III.C'!I69="",'Formulario V.III.C'!J69=""),"",IF('Formulario V.III.C'!J69="",$KU$11,'Formulario V.III.C'!J69))
B63: =IF('Formulario V.III.C'!I70="","",'Formulario V.III.C'!I70) | C63: =IF(AND('Formulario V.III.C'!I70="",'Formulario V.III.C'!J70=""),"",IF('Formulario V.III.C'!J70="",$KU$11,'Formulario V.III.C'!J70))
B64: =IF('Formulario V.III.C'!I71="","",'Formulario V.III.C'!I71) | C64: =IF(AND('Formulario V.III.C'!I71="",'Formulario V.III.C'!J71=""),"",IF('Formulario V.III.C'!J71="",$KU$11,'Formulario V.III.C'!J71))
B65: =IF('Formulario V.III.C'!I72="","",'Formulario V.III.C'!I72) | C65: =IF(AND('Formulario V.III.C'!I72="",'Formulario V.III.C'!J72=""),"",IF('Formulario V.III.C'!J72="",$KU$11,'Formulario V.III.C'!J72))
B66: =IF('Formulario V.III.C'!I73="","",'Formulario V.III.C'!I73) | C66: =IF(AND('Formulario V.III.C'!I73="",'Formulario V.III.C'!J73=""),"",IF('Formulario V.III.C'!J73="",$KU$11,'Formulario V.III.C'!J73))

Sheet Dias - 5 personas
A1: FECHA | B1: P. INSERCION
A2: {=TRANSPOSE(Cálculos!E11:IM12)} -> 45901 | B2: 0
A3: 45902 | B3: 0
A4: 45903 | B4: 0
A5: 45904 | B5: 0
A6: 45905 | B6: 0
A7: 45906 | B7: 0
A8: 45907 | B8: 0
A9: 45908 | B9: 0
A10: 45909 | B10: 0
A11: 45910 | B11: 0
A12: 45911 | B12: 0
A13: 45912 | B13: 0
A14: 45913 | B14: 0
... A244: 46143 | B244: 0

Sheet Instrucciones Cumplimentación
B4: INSTRUCCIONES CUMPLIMENTACIÓN
B5: INSTRUCCIONES GENERALES | C5: Este fichero Excel debe enviarse cumplimentado con la relación de datos del personal de gerencia contratado, en la hoja "Formulario V.III.C" y los días de baja del gerente en la hoja "Bajas gerente". Tras su cumplimentación debe guardarse en formato Excel para su remisión a la unidad gestora a través del Registro Electrónico de la Comunidad de Madrid. En el caso de que una persona trabajadora en inserción haya tenido más de un periodo de contratación, se cumplimentará una línea por cada periodo.
B6: DATOS DEL PERSONAL GERENTE | C6: CAMPO DE OBLIGADA CUMPLIMENTACIÓN. Se indicará en la columna correspondiente: NIF/NIE: documento de identificación de la persona que desempeñe las labores de gerencia en la empresa. Nombre de la persona que desempeñe las labores de gerencia en la empresa. Apellido/s de la persona que desempeñe las labores de gerencia en la empresa. Fecha inicio del contrato: debe indicarse la fecha de inció el contrato y deberá coincidir con la fecha de alta del Informe de Vida Laboral. Fecha fin de contrato: únicamente deberá cumplimentarse en caso de finalización del contrato y, en dicho caso, deberá coincidir con al fecha de baja en el Informe de Vida Laboral. Tipo de puesto: se seleccionará una de las opciones del desplegable ("MANTENIDO", "NUEVA CONTRATACIÓN" o "SUSTITUCIÓN POR IT")
B7: PERIODO SUBVENCIONABLE | C7: CAMPO DE OBLIGADA CUMPLIMENTACIÓN. Se indicará en la columna correspondiente: Fecha inicio: debe indicarse la fecha de inicio del periodo subvencionable. Fecha fin: debe indicarse la fecha de fin del periodo subvencionable. Jornada: porcentaje de jornada contratada (debe expresarse con valor numérico ) coincidente con el IDC (Informe de Datos de Cotización). La jornada no podrá ser inferior al 50% de la jornada a tiempo completo de una persona trabajadora comparable. Deberá cumplimentarse con caracteres numericos únicamente. Se añadirá tantas filas como cambios de jornada existan. Días Trabajados: número de días trabajados en la empresa dentro del periodo subvencionable establecido en la orden de convocatoria. Días no Trabajados: número de días en situación de suspensión del contrato por IT o cualquier otra causa dentro del periodo subvencionable establecido en la orden de convocatoria. Días Totales Justificados: No es precisa su cumplimentación y se autocalculará cuando el resto de campos de obligada cumplimentación estén completados. Se aplicará un fórmula de cálculo de días entre los "Días Trabajados" y "Días no Trabajados" El cálculo de número de días trabajados se realiza considerando que todos los meses tienen una duración de 30 dias.
B8: IMPORTE TOTAL SOLICITADO | C8: No es precisa su cumplimentación y se autocalculará cuando el resto de campos de obligada cumplimentación estén completados. Este importe total justificado deberá coincidir con el indicado en el Formulario V.III. En caso de discrepancia prevalecerá el del excel Formulario V.III.A.
B9: RELACIÓN DE PERSONAS TRABAJADORAS EN INSERCIÓN | C9: CAMPO DE CUMPLIMENTACIÓN OBLIGATORIA. Nº Puesto: se debe indicar el número de puesto en inserción que ocupa la persona trabajadora. En caso de que existan sustituciones se utilizará mismo número de puesto (Ejemplo: 1.1) Se añadirá tantas filas como puestos en inserción existan en la empresa. NIF/NIE: documento de identificación de la persona trabajadora en inserción. Nombre: de la persona trabajadora en inserción. Apellido/s: de la persona trabajadora en inserción. Fecha alta: debe indicarse la fecha de alta del contrato. Fecha baja: debe indicarse la fecha de baja del contrato.

Sheet Información protección de datos
B2: Información sobre Protección de Datos
B5: 1. Responsable del tratamiento de sus datos
B7: - Responsable: CONSEJERÍA DE ECONOMÍA, HACIENDA Y EMPLEO, DIRECCIÓN GENERAL DEL SERVICIO PÚBLICO DE EMPLEO.
B8: - Domicilio social: Consultar www.comunidad.madrid/centros
B9: - Contacto Delegado de Protección de Datos: protecciondatoseeh@madrid.org
B11: 2. ¿Con qué fines se tratarán mis datos personales?
B13: En cumplimiento de lo establecido por el Reglamento (UE) 2016/679, de Protección de Datos Personales, sus datos serán tratados para las siguientes finalidades:
B14: Gestión de la información referente a las subvenciones para la inclusión laboral de personas en situación de exclusión social mediante ayudas a las empresas de inserción.
B16: 3. ¿Cuál es la legitimación en la cual se basa la licitud del tratamiento?
B18: RGPD 6.1 c) el tratamiento es necesario para el cumplimiento de una obligación legal aplicable al responsable del tratamiento.
B19: RGPD 6.1 e) el tratamiento es necesario para el cumplimiento de una misión realizada en interés público o en el ejercicio de poderes públicos conferidos al responsable del tratamiento.
B20: Real Decreto Legislativo 3/2015, de 23 de octubre, por el que se aprueba el texto refundido de la Ley de Empleo
... B58: Pueden consultar la información adicional y detallada de la información y de la normativa aplicable en materia de protección de datos en la web de la Agencia Española de Protección de Datos http://www.agpd.es, así como la información sobre el Registro de Actividades de Tratamiento del Responsable antes señalado en el siguiente enlace: www.comunidad.madrid/protecciondedatos

Sheet Tablas
B1: Tipo de Puesto
B2: Mantenido
B3: Nueva contratación
B4: Sustitución por IT
